BEGIN:VCALENDAR
VERSION:2.0
PRODID:-//bc magazine - ECPv6.15.20//NONSGML v1.0//EN
CALSCALE:GREGORIAN
METHOD:PUBLISH
X-WR-CALNAME:bc magazine
X-ORIGINAL-URL:https://www.bcmagazine.net
X-WR-CALDESC:Events for bc magazine
REFRESH-INTERVAL;VALUE=DURATION:PT1H
X-Robots-Tag:noindex
X-PUBLISHED-TTL:PT1H
BEGIN:VTIMEZONE
TZID:Asia/Hong_Kong
BEGIN:STANDARD
TZOFFSETFROM:+0800
TZOFFSETTO:+0800
TZNAME:HKT
DTSTART:20170101T000000
END:STANDARD
END:VTIMEZONE
BEGIN:VEVENT
DTSTART;TZID=Asia/Hong_Kong:20180202T200000
DTEND;TZID=Asia/Hong_Kong:20180202T200000
DTSTAMP:20260421T054141
CREATED:19171119T140618Z
LAST-MODIFIED:20171220T082536Z
UID:10003627-1517601600-1517601600@www.bcmagazine.net
SUMMARY:Legends in Concert
DESCRIPTION:Legends in Concert\nWhen: 2-4 February\, 2018\nWhere: The Parisian Theatre\nHow much: $480\, $380\, $180 from HKTicketing\nMore info:\n2 February – 8pm\n3 February – 2pm & 8pm\n4 February – 6pm
URL:https://www.bcmagazine.net/event/legends-in-concert-macau-02-02-2018/
LOCATION:The Parisian Theatre\, The Parisian Macao\, Macau
CATEGORIES:2018,Concert,Macau,Music
GEO:22.1905958;113.5518856
X-APPLE-STRUCTURED-LOCATION;VALUE=URI;X-ADDRESS=The Parisian Theatre The Parisian Macao Macau;X-APPLE-RADIUS=500;X-TITLE=The Parisian Macao:geo:113.5518856,22.1905958
END:VEVENT
BEGIN:VEVENT
DTSTART;TZID=Asia/Hong_Kong:20180203T200000
DTEND;TZID=Asia/Hong_Kong:20180203T200000
DTSTAMP:20260421T054141
CREATED:19171119T140618Z
LAST-MODIFIED:20171220T082740Z
UID:10003628-1517688000-1517688000@www.bcmagazine.net
SUMMARY:Legends in Concert
DESCRIPTION:Legends in Concert\nWhen: 2-4 February\, 2018\nWhere: The Parisian Theatre\nHow much: $480\, $380\, $180 from HKTicketing\nMore info:\n2 February – 8pm\n3 February – 2pm & 8pm\n4 February – 6pm
URL:https://www.bcmagazine.net/event/legends-in-concert-macau-03-02-2018/
LOCATION:The Parisian Theatre\, The Parisian Macao\, Macau
CATEGORIES:2018,Concert,Macau,Music
GEO:22.1905958;113.5518856
X-APPLE-STRUCTURED-LOCATION;VALUE=URI;X-ADDRESS=The Parisian Theatre The Parisian Macao Macau;X-APPLE-RADIUS=500;X-TITLE=The Parisian Macao:geo:113.5518856,22.1905958
END:VEVENT
BEGIN:VEVENT
DTSTART;TZID=Asia/Hong_Kong:20180204T180000
DTEND;TZID=Asia/Hong_Kong:20180204T180000
DTSTAMP:20260421T054141
CREATED:19171119T140618Z
LAST-MODIFIED:20171220T082730Z
UID:10003629-1517767200-1517767200@www.bcmagazine.net
SUMMARY:Legends in Concert
DESCRIPTION:Legends in Concert\nWhen: 2-4 February\, 2018\nWhere: The Parisian Theatre\nHow much: $480\, $380\, $180 from HKTicketing\nMore info:\n2 February – 8pm\n3 February – 2pm & 8pm\n4 February – 6pm
URL:https://www.bcmagazine.net/event/legends-in-concert-macau-04-02-2018/
LOCATION:The Parisian Theatre\, The Parisian Macao\, Macau
CATEGORIES:2018,Concert,Macau,Music
GEO:22.1905958;113.5518856
X-APPLE-STRUCTURED-LOCATION;VALUE=URI;X-ADDRESS=The Parisian Theatre The Parisian Macao Macau;X-APPLE-RADIUS=500;X-TITLE=The Parisian Macao:geo:113.5518856,22.1905958
END:VEVENT
BEGIN:VEVENT
DTSTART;VALUE=DATE:20180210
DTEND;VALUE=DATE:20180630
DTSTAMP:20260421T054141
CREATED:19180303T082231Z
LAST-MODIFIED:20180303T102023Z
UID:10003878-1518220800-1530316799@www.bcmagazine.net
SUMMARY:Monkey King
DESCRIPTION:Monkey King – China Show\nDate: until 29 June\, 2018\nVenue: Sands Cotai Theatre\nTickets: $1\,280\, $980\, $680\, $480\, $380 from CotaiTicketing\nMore info:\nNightly except Thursday\nIn Chinese with English subtitles
URL:https://www.bcmagazine.net/event/monkey-king-macau-2018/
LOCATION:Venetian Macau\, Sands Theatre\, Venetian Macau\, Macau
CATEGORIES:2018,Macau,Performing Arts
GEO:22.1483528;113.5602019
X-APPLE-STRUCTURED-LOCATION;VALUE=URI;X-ADDRESS=Venetian Macau Sands Theatre Venetian Macau Macau;X-APPLE-RADIUS=500;X-TITLE=Venetian Macau:geo:113.5602019,22.1483528
END:VEVENT
END:VCALENDAR