BEGIN:VCALENDAR
VERSION:2.0
PRODID:-//bc magazine - ECPv6.15.20//NONSGML v1.0//EN
CALSCALE:GREGORIAN
METHOD:PUBLISH
X-WR-CALNAME:bc magazine
X-ORIGINAL-URL:https://www.bcmagazine.net
X-WR-CALDESC:Events for bc magazine
REFRESH-INTERVAL;VALUE=DURATION:PT1H
X-Robots-Tag:noindex
X-PUBLISHED-TTL:PT1H
BEGIN:VTIMEZONE
TZID:Asia/Hong_Kong
BEGIN:STANDARD
TZOFFSETFROM:+0800
TZOFFSETTO:+0800
TZNAME:HKT
DTSTART:20180101T000000
END:STANDARD
END:VTIMEZONE
BEGIN:VEVENT
DTSTART;TZID=Asia/Hong_Kong:20190105T200000
DTEND;TZID=Asia/Hong_Kong:20190105T200000
DTSTAMP:20260421T075744
CREATED:19181107T110009Z
LAST-MODIFIED:20181103T091906Z
UID:10004573-1546718400-1546718400@www.bcmagazine.net
SUMMARY:Kelvin Kwan Focus
DESCRIPTION:Kelvin Kwan – Focus\nDate: 8pm\, 5 January\, 2019\nVenue: Broadway Macau\nTickets: $1\,080\, $680\, $380 from Cityline
URL:https://www.bcmagazine.net/event/kelvin-kwan-focus-macau-2019/
LOCATION:Broadway Macau\, Avenida Marginal Flor de Lotus\, Cotai\, Macau
CATEGORIES:2019,Concert,Macau,Music,Performing Arts
END:VEVENT
BEGIN:VEVENT
DTSTART;VALUE=DATE:20190125
DTEND;VALUE=DATE:20190617
DTSTAMP:20260421T075744
CREATED:19181213T044512Z
LAST-MODIFIED:20190129T164442Z
UID:10004690-1548374400-1560729599@www.bcmagazine.net
SUMMARY:Under the Skin
DESCRIPTION:Ferrari\, Under the Skin\nDate: 25 January – 16 June\, 2019\nVenue: City of Dreams\, Macau\nTickets: $80
URL:https://www.bcmagazine.net/event/under-the-skin-macau-2019/
LOCATION:City of Dreams\, Macau
CATEGORIES:2019,Exhibition,Macau
ATTACH;FMTTYPE=image/jpeg:https://www.bcmagazine.net/wp-content/uploads/1918/12/under-the-skin-2019.jpg
END:VEVENT
BEGIN:VEVENT
DTSTART;TZID=Asia/Hong_Kong:20190126T200000
DTEND;TZID=Asia/Hong_Kong:20190126T200000
DTSTAMP:20260421T075744
CREATED:19181002T010042Z
LAST-MODIFIED:20190125T182557Z
UID:10004473-1548532800-1548532800@www.bcmagazine.net
SUMMARY:Janice Vidal
DESCRIPTION:Janice Vidal – Oh My Janice\nDate: 7pm\, 26 January\, 2019\nVenues: Cotai Arena\nTickets: $980\, $780\, $580\, $380 from CotaiTicketing
URL:https://www.bcmagazine.net/event/janice-vidal/
LOCATION:Cotai Arena\, Venetian Macao\, Macau
CATEGORIES:2019,Concert,Macau,Music,Performing Arts
ATTACH;FMTTYPE=image/jpeg:https://www.bcmagazine.net/wp-content/uploads/1918/10/janice-2019-macau.jpg
END:VEVENT
END:VCALENDAR