BEGIN:VCALENDAR
VERSION:2.0
PRODID:-//bc magazine - ECPv6.15.20//NONSGML v1.0//EN
CALSCALE:GREGORIAN
METHOD:PUBLISH
X-ORIGINAL-URL:https://www.bcmagazine.net
X-WR-CALDESC:Events for bc magazine
REFRESH-INTERVAL;VALUE=DURATION:PT1H
X-Robots-Tag:noindex
X-PUBLISHED-TTL:PT1H
BEGIN:VTIMEZONE
TZID:Asia/Hong_Kong
BEGIN:STANDARD
TZOFFSETFROM:+0800
TZOFFSETTO:+0800
TZNAME:HKT
DTSTART:20180101T000000
END:STANDARD
END:VTIMEZONE
BEGIN:VEVENT
DTSTART;TZID=Asia/Hong_Kong:20190706T200000
DTEND;TZID=Asia/Hong_Kong:20190706T200000
DTSTAMP:20260426T030804
CREATED:18190702T151354Z
LAST-MODIFIED:20190704T170122Z
UID:10000060-1562443200-1562443200@www.bcmagazine.net
SUMMARY:Lamusical
DESCRIPTION:George Lam Lamusical\nDate: 8pm\, 6 July\, 2019\nVenue: Cotai Arena\nTickets: $1\,180\, $980\, $680\, $380 from Cotai Ticketing
URL:https://www.bcmagazine.net/event/lamusical/
LOCATION:CotaiArena\, Venetian Macao\, Taipa\, Macau
CATEGORIES:2019,Concert,Macau,Music,Performing Arts
GEO:22.1483528;113.5602019
X-APPLE-STRUCTURED-LOCATION;VALUE=URI;X-ADDRESS=CotaiArena Venetian Macao Taipa Macau;X-APPLE-RADIUS=500;X-TITLE=Venetian Macao:geo:113.5602019,22.1483528
END:VEVENT
BEGIN:VEVENT
DTSTART;TZID=Asia/Hong_Kong:20190713T200000
DTEND;TZID=Asia/Hong_Kong:20190713T200000
DTSTAMP:20260426T030804
CREATED:18190702T151354Z
LAST-MODIFIED:20190704T165746Z
UID:10000055-1563048000-1563048000@www.bcmagazine.net
SUMMARY:Christine Fan
DESCRIPTION:Christine Fan – FanFan Road to Happiness World Tour\nDate: 8pm\, 13 July\, 2019\nVenue: Cotai Arena\nTickets: $980\, $780\, $580\, $380 from Cotai Ticketing
URL:https://www.bcmagazine.net/event/christine-fan-macau-2019/
LOCATION:CotaiArena\, Venetian Macao\, Taipa\, Macau
CATEGORIES:2019,Concert,Macau,Music,Performing Arts
GEO:22.1483528;113.5602019
X-APPLE-STRUCTURED-LOCATION;VALUE=URI;X-ADDRESS=CotaiArena Venetian Macao Taipa Macau;X-APPLE-RADIUS=500;X-TITLE=Venetian Macao:geo:113.5602019,22.1483528
END:VEVENT
BEGIN:VEVENT
DTSTART;TZID=Asia/Hong_Kong:20190720T200000
DTEND;TZID=Asia/Hong_Kong:20190720T200000
DTSTAMP:20260426T030804
CREATED:19190411T044512Z
LAST-MODIFIED:20190515T181024Z
UID:10004772-1563652800-1563652800@www.bcmagazine.net
SUMMARY:Lo Ta-You
DESCRIPTION:Lo Ta-You – Leaving Home with Youthful Dream. No Regret Version\nDate: 8pm\, 20 July\, 2019\nVenue: Cotai Arena\nTickets: $1\,680\, $1\,280\, $980\, $680\, $380 from Cotai Ticketing
URL:https://www.bcmagazine.net/event/lo-ta-you-macau-2018/
LOCATION:Cotai Arena\, Venetian Macao\, Macau
CATEGORIES:2019,Concert,Macau,Music,Performing Arts
ATTACH;FMTTYPE=image/jpeg:https://www.bcmagazine.net/wp-content/uploads/1919/04/Lo-Ta-you-macau-2019.jpg
END:VEVENT
BEGIN:VEVENT
DTSTART;TZID=Asia/Hong_Kong:20190726T200000
DTEND;TZID=Asia/Hong_Kong:20190726T200000
DTSTAMP:20260426T030804
CREATED:19190411T044512Z
LAST-MODIFIED:20190424T085513Z
UID:10004764-1564171200-1564171200@www.bcmagazine.net
SUMMARY:Westlife The Twenty Tour in Macao
DESCRIPTION:Westlife The Twenty Tour in Macao\nDate: 8pm\, 26-27 July\, 2019\nVenue: Cotai Arena\nTickets: $1\,488\, $1\,088\, $788\, $588\, $388 from Cotai Ticketing
URL:https://www.bcmagazine.net/event/westlife-macao-26-07-2019/
LOCATION:Cotai Arena\, Venetian Macao\, Macau
CATEGORIES:2019,Concert,Macau,Music,Performing Arts
ATTACH;FMTTYPE=image/jpeg:https://www.bcmagazine.net/wp-content/uploads/1919/04/west-life-macau-2019.jpg
END:VEVENT
BEGIN:VEVENT
DTSTART;TZID=Asia/Hong_Kong:20190727T200000
DTEND;TZID=Asia/Hong_Kong:20190727T200000
DTSTAMP:20260426T030804
CREATED:20190423T044512Z
LAST-MODIFIED:20190424T085619Z
UID:10006582-1564257600-1564257600@www.bcmagazine.net
SUMMARY:Westlife The Twenty Tour in Macao
DESCRIPTION:Westlife The Twenty Tour in Macao\nDate: 8pm\, 26-27 July\, 2019\nVenue: Cotai Arena\nTickets: $1\,488\, $1\,088\, $788\, $588\, $388 from Cotai Ticketing
URL:https://www.bcmagazine.net/event/westlife-macao-27-07-2019/
LOCATION:Cotai Arena\, Venetian Macao\, Macau
CATEGORIES:2019,Concert,Macau,Music,Performing Arts
ATTACH;FMTTYPE=image/jpeg:https://www.bcmagazine.net/wp-content/uploads/1919/04/west-life-macau-2019.jpg
END:VEVENT
BEGIN:VEVENT
DTSTART;VALUE=DATE:20190728
DTEND;VALUE=DATE:20190923
DTSTAMP:20260426T030804
CREATED:20190726T132202Z
LAST-MODIFIED:20190728T163555Z
UID:10006592-1564272000-1569196799@www.bcmagazine.net
SUMMARY:TheArsenale
DESCRIPTION:TheArsenale – The Most Insane Garage in the World\nDate: 28 July – 30 September\, 2019\nVenue: City of Dreams\nTickets: Free
URL:https://www.bcmagazine.net/event/thearsenale-macau-2019/
LOCATION:The One\, 100 Nathan Road\, Tsim Sha Tsui\, Hong Kong
CATEGORIES:2019,Exhibition,Free,Lifestyle,Macau
ATTACH;FMTTYPE=image/jpeg:https://www.bcmagazine.net/wp-content/uploads/1919/07/thearsenale-cover.jpg
END:VEVENT
END:VCALENDAR