BEGIN:VCALENDAR
VERSION:2.0
PRODID:-//bc magazine - ECPv6.15.20//NONSGML v1.0//EN
CALSCALE:GREGORIAN
METHOD:PUBLISH
X-WR-CALNAME:bc magazine
X-ORIGINAL-URL:https://www.bcmagazine.net
X-WR-CALDESC:Events for bc magazine
REFRESH-INTERVAL;VALUE=DURATION:PT1H
X-Robots-Tag:noindex
X-PUBLISHED-TTL:PT1H
BEGIN:VTIMEZONE
TZID:Asia/Hong_Kong
BEGIN:STANDARD
TZOFFSETFROM:+0800
TZOFFSETTO:+0800
TZNAME:HKT
DTSTART:20140101T000000
END:STANDARD
END:VTIMEZONE
BEGIN:VEVENT
DTSTART;VALUE=DATE:20151023
DTEND;VALUE=DATE:20151025
DTSTAMP:20260422T103250
CREATED:19150831T114718Z
LAST-MODIFIED:20150831T115207Z
UID:10000096-1445558400-1445731199@www.bcmagazine.net
SUMMARY:Big Bang
DESCRIPTION:Big Bang\nWhen: 23-24 October\, 2015\nWhere: CotaiArena\, Macau\nTickets: $1\,888\, $1\,588\, $988\, $688 from HKTicketing\nMore info:\n23 October – 9pm\n24 October – 7pm
URL:https://www.bcmagazine.net/event/big-bang/
LOCATION:CotaiArena\, Venetian Macao\, Taipa\, Macau
CATEGORIES:2015,Concert,Macau,Music
GEO:22.1483528;113.5602019
X-APPLE-STRUCTURED-LOCATION;VALUE=URI;X-ADDRESS=CotaiArena Venetian Macao Taipa Macau;X-APPLE-RADIUS=500;X-TITLE=Venetian Macao:geo:113.5602019,22.1483528
END:VEVENT
END:VCALENDAR