BEGIN:VCALENDAR
VERSION:2.0
PRODID:-//bc magazine - ECPv6.15.20//NONSGML v1.0//EN
CALSCALE:GREGORIAN
METHOD:PUBLISH
X-WR-CALNAME:bc magazine
X-ORIGINAL-URL:https://www.bcmagazine.net
X-WR-CALDESC:Events for bc magazine
REFRESH-INTERVAL;VALUE=DURATION:PT1H
X-Robots-Tag:noindex
X-PUBLISHED-TTL:PT1H
BEGIN:VTIMEZONE
TZID:Asia/Hong_Kong
BEGIN:STANDARD
TZOFFSETFROM:+0800
TZOFFSETTO:+0800
TZNAME:HKT
DTSTART:20150101T000000
END:STANDARD
END:VTIMEZONE
BEGIN:VEVENT
DTSTART;TZID=Asia/Hong_Kong:20160103T200000
DTEND;TZID=Asia/Hong_Kong:20160103T200000
DTSTAMP:20260422T121921
CREATED:19151213T120403Z
LAST-MODIFIED:20151213T120648Z
UID:10000923-1451851200-1451851200@www.bcmagazine.net
SUMMARY:Macau New Year’s Concert
DESCRIPTION:Macau New Year’s Concert\nMacao Youth Symphony Orchestra\nDate: 8pm\, 3 January\, 2016\nVenue: Macao Cultural Centre\, Grand Auditorium\nTickets: MOP$250\, $150\, $100 from MacauTicket
URL:https://www.bcmagazine.net/event/macau-new-years-concert-2/
LOCATION:Macao Cultural Centre\, Grand Auditorium\, Avenida Xian Xing Hai\, Macau\, Macau
CATEGORIES:2016,Concert,Macau,Music
END:VEVENT
END:VCALENDAR