BEGIN:VCALENDAR
VERSION:2.0
PRODID:-//bc magazine - ECPv6.15.20//NONSGML v1.0//EN
CALSCALE:GREGORIAN
METHOD:PUBLISH
X-WR-CALNAME:bc magazine
X-ORIGINAL-URL:https://www.bcmagazine.net
X-WR-CALDESC:Events for bc magazine
REFRESH-INTERVAL;VALUE=DURATION:PT1H
X-Robots-Tag:noindex
X-PUBLISHED-TTL:PT1H
BEGIN:VTIMEZONE
TZID:Asia/Hong_Kong
BEGIN:STANDARD
TZOFFSETFROM:+0800
TZOFFSETTO:+0800
TZNAME:HKT
DTSTART:20160101T000000
END:STANDARD
END:VTIMEZONE
BEGIN:VEVENT
DTSTART;TZID=Asia/Hong_Kong:20170104T200000
DTEND;TZID=Asia/Hong_Kong:20170104T200000
DTSTAMP:20260421T230858
CREATED:19161228T135248Z
LAST-MODIFIED:20161228T140156Z
UID:10001049-1483560000-1483560000@www.bcmagazine.net
SUMMARY:The Art Of Magic 4.0
DESCRIPTION:The Art Of Magic 4.0\nMacau International Magician Association\nDate: 8pm\, 4 January\, 2017\nVenue: Macau Cultural Centre\, Small Auditorium\nTickets: $80
URL:https://www.bcmagazine.net/event/the-art-of-magic-4-0/
LOCATION:Macao Cultural Centre\, Small Auditorium\, Macau
CATEGORIES:2017,Macau,Performing Arts
END:VEVENT
END:VCALENDAR