BEGIN:VCALENDAR
VERSION:2.0
PRODID:-//bc magazine - ECPv6.15.20//NONSGML v1.0//EN
CALSCALE:GREGORIAN
METHOD:PUBLISH
X-WR-CALNAME:bc magazine
X-ORIGINAL-URL:https://www.bcmagazine.net
X-WR-CALDESC:Events for bc magazine
REFRESH-INTERVAL;VALUE=DURATION:PT1H
X-Robots-Tag:noindex
X-PUBLISHED-TTL:PT1H
BEGIN:VTIMEZONE
TZID:Asia/Hong_Kong
BEGIN:STANDARD
TZOFFSETFROM:+0800
TZOFFSETTO:+0800
TZNAME:HKT
DTSTART:20160101T000000
END:STANDARD
END:VTIMEZONE
BEGIN:VEVENT
DTSTART;TZID=Asia/Hong_Kong:20170113T193000
DTEND;TZID=Asia/Hong_Kong:20170113T193000
DTSTAMP:20260422T101811
CREATED:19161228T132322Z
LAST-MODIFIED:20161228T132935Z
UID:10002419-1484335800-1484335800@www.bcmagazine.net
SUMMARY:Hong Kong Ballet
DESCRIPTION:The Nutcracker\nHong Kong Ballet\nDate: 13-15 January\, 2017\nVenue: Macau Cultural Centre\, Grand Auditorium\nTickets: $300\, $250\, $200\, $150 from MacauTicket
URL:https://www.bcmagazine.net/event/hk-ballet-the-nutcracker-macau-2017/2017-01-13/
LOCATION:Macao Cultural Centre\, Grand Auditorium\, Avenida Xian Xing Hai\, Macau\, Macau
CATEGORIES:2017,Dance,Macau,Performing Arts
END:VEVENT
END:VCALENDAR