BEGIN:VCALENDAR
VERSION:2.0
PRODID:-//bc magazine - ECPv6.15.20//NONSGML v1.0//EN
CALSCALE:GREGORIAN
METHOD:PUBLISH
X-ORIGINAL-URL:https://www.bcmagazine.net
X-WR-CALDESC:Events for bc magazine
REFRESH-INTERVAL;VALUE=DURATION:PT1H
X-Robots-Tag:noindex
X-PUBLISHED-TTL:PT1H
BEGIN:VTIMEZONE
TZID:Asia/Hong_Kong
BEGIN:STANDARD
TZOFFSETFROM:+0800
TZOFFSETTO:+0800
TZNAME:HKT
DTSTART:20160101T000000
END:STANDARD
END:VTIMEZONE
BEGIN:VEVENT
DTSTART;TZID=Asia/Hong_Kong:20170211T200000
DTEND;TZID=Asia/Hong_Kong:20170211T200000
DTSTAMP:20260421T043029
CREATED:19161228T121913Z
LAST-MODIFIED:20161228T122342Z
UID:10002415-1486843200-1486843200@www.bcmagazine.net
SUMMARY:Nodame Cantabile
DESCRIPTION:Nodame Cantabile\nMacao Orchestra\nDate: 8pm\, 11 February\, 2017\nVenue: Macau Tower Auditorium\nTickets: $250\, $200\, $150 from MacauTicket
URL:https://www.bcmagazine.net/event/nodame-cantabile-macao-orchestra-2017/
LOCATION:Macao Tower\, Auditorium\, Largo da Torre de Macau\, Macau
CATEGORIES:2017,Macau,Music,Performing Arts
GEO:22.180416;113.5384947
X-APPLE-STRUCTURED-LOCATION;VALUE=URI;X-ADDRESS=Macao Tower Auditorium Largo da Torre de Macau Macau;X-APPLE-RADIUS=500;X-TITLE=Largo da Torre de Macau:geo:113.5384947,22.180416
END:VEVENT
BEGIN:VEVENT
DTSTART;TZID=Asia/Hong_Kong:20170211T200000
DTEND;TZID=Asia/Hong_Kong:20170211T200000
DTSTAMP:20260421T043029
CREATED:19170123T042822Z
LAST-MODIFIED:20170123T043303Z
UID:10002440-1486843200-1486843200@www.bcmagazine.net
SUMMARY:Sam Hui
DESCRIPTION:Sam Hui\nDate: 8pm\, 11 February\, 2017\nVenue: Cotai Arena\nTickets: $1\,280\, $880\, $680\, $480\, $280 from HKTicketing
URL:https://www.bcmagazine.net/event/sam-hui-macau-2017/
LOCATION:CotaiArena\, Venetian Macao\, Taipa\, Macau
CATEGORIES:2017,Concert,Macau,Music
GEO:22.1483528;113.5602019
X-APPLE-STRUCTURED-LOCATION;VALUE=URI;X-ADDRESS=CotaiArena Venetian Macao Taipa Macau;X-APPLE-RADIUS=500;X-TITLE=Venetian Macao:geo:113.5602019,22.1483528
END:VEVENT
END:VCALENDAR