BEGIN:VCALENDAR
VERSION:2.0
PRODID:-//bc magazine - ECPv6.15.20//NONSGML v1.0//EN
CALSCALE:GREGORIAN
METHOD:PUBLISH
X-WR-CALNAME:bc magazine
X-ORIGINAL-URL:https://www.bcmagazine.net
X-WR-CALDESC:Events for bc magazine
REFRESH-INTERVAL;VALUE=DURATION:PT1H
X-Robots-Tag:noindex
X-PUBLISHED-TTL:PT1H
BEGIN:VTIMEZONE
TZID:Asia/Hong_Kong
BEGIN:STANDARD
TZOFFSETFROM:+0800
TZOFFSETTO:+0800
TZNAME:HKT
DTSTART:20180101T000000
END:STANDARD
END:VTIMEZONE
BEGIN:VEVENT
DTSTART;VALUE=DATE:20241114
DTEND;VALUE=DATE:20241118
DTSTAMP:20260422T160054
CREATED:20241007T084247Z
LAST-MODIFIED:20241007T134549Z
UID:10010167-1731542400-1731887999@www.bcmagazine.net
SUMMARY:Macau Grand Prix
DESCRIPTION:71st Macau Grand Prix\nDate: 14-17 November\, 2024\nVenue: Guia Circuit\, Macau\nTickets: tbc
URL:https://www.bcmagazine.net/event/macau-grand-prix-2024/
LOCATION:Macau\, Macau
CATEGORIES:2024,Macau,Motorsports,Sport
ATTACH;FMTTYPE=image/webp:https://www.bcmagazine.net/wp-content/uploads/2020/11/macau-grandprix-2024.webp
GEO:22.198745;113.543873
END:VEVENT
BEGIN:VEVENT
DTSTART;VALUE=DATE:20241109
DTEND;VALUE=DATE:20241118
DTSTAMP:20260422T160054
CREATED:20241029T084226Z
LAST-MODIFIED:20241030T141412Z
UID:10010177-1731110400-1731887999@www.bcmagazine.net
SUMMARY:Belgian Days
DESCRIPTION:Belgian Days\nDate: 9-17 November\, 2024 HKnightlife\, HKfood\, HKlivemusic\, HKart\, BelgiumHK\nVenue: Various\nTickets: tbc\nMore info:\nhttps://belgiandays.odoo.com
URL:https://www.bcmagazine.net/event/belgian-days-2024/
CATEGORIES:2024,Cultural Festival,Exhibition,Lifestyle,Macau,Music,Nightlife,Performing Arts
ATTACH;FMTTYPE=image/jpeg:https://www.bcmagazine.net/wp-content/uploads/2024/10/Belgian-Days-2024.jpg
END:VEVENT
BEGIN:VEVENT
DTSTART;VALUE=DATE:20231225
DTEND;VALUE=DATE:20231230
DTSTAMP:20260422T160054
CREATED:20231103T145036Z
LAST-MODIFIED:20231130T103300Z
UID:10009421-1703462400-1703894399@www.bcmagazine.net
SUMMARY:Macau Snooker Masters
DESCRIPTION:Macau Snooker Masters\nRonnie O’Sullivan\, Ding Junhui\, Marco Fu\, Judd Trump\, Mark Williams\, Jack Lisowski\, Kyren Wilson\, Jiahui Si\nDate: 25-29 December\, 2023\nVenue: WynnPalace\, Macau\nTickets: tbc
URL:https://www.bcmagazine.net/event/snooker-masters-macau-2023/
LOCATION:Wynn Palace\, Macau\, Rua Cidade de Sintra\, Nape\, Macau
CATEGORIES:2023,Macau,Sport
ATTACH;FMTTYPE=image/jpeg:https://www.bcmagazine.net/wp-content/uploads/2023/11/Macau-Snooker-masters-2023-Wynn.jpeg
END:VEVENT
BEGIN:VEVENT
DTSTART;VALUE=DATE:20231222
DTEND;VALUE=DATE:20231225
DTSTAMP:20260422T160054
CREATED:20231120T145036Z
LAST-MODIFIED:20231130T101901Z
UID:10009420-1703203200-1703462399@www.bcmagazine.net
SUMMARY:Macau Snooker Masters
DESCRIPTION:Macau Snooker Masters\nLuca Brecel\, Mark Selby\, John Higgins\, Allister Carter\, Barry Hawkins\, Thepchaiya Un-Nooh\nDate: 22-24 December\, 2023\nVenue: Studio City Event Center\, Macau\nTickets: $1\,680\, $980\, $680\, $480\, $280
URL:https://www.bcmagazine.net/event/macau-snooker-masters-2023/
LOCATION:Studio City Event Center\, Estrada. Flor de Lótus\, Macau
CATEGORIES:2023,Macau,Sport
ATTACH;FMTTYPE=image/jpeg:https://www.bcmagazine.net/wp-content/uploads/1918/10/Macau-snooker-mastewrs-2023.jpeg
END:VEVENT
BEGIN:VEVENT
DTSTART;VALUE=DATE:20230916
DTEND;VALUE=DATE:20230918
DTSTAMP:20260422T160054
CREATED:19230708T004237Z
LAST-MODIFIED:20230804T013251Z
UID:10007974-1694822400-1694995199@www.bcmagazine.net
SUMMARY:Oh! My Rock Macau Music Festival
DESCRIPTION:OH! MY ROCK Macau Music Festival\nDate: 16-17 September\, 2023\nVenue: Venetian Macau\nTickets: $543\, $400 from Ticketflap
URL:https://www.bcmagazine.net/event/oh-my-rock-macau-music-festival-2023/
LOCATION:Venetian Macau\, Cotai Pavilion\, Macau\, Macau
CATEGORIES:2023,Concert,Macau,Music,Nightlife,Performing Arts
ATTACH;FMTTYPE=image/jpeg:https://www.bcmagazine.net/wp-content/uploads/2023/07/Oh-my-rock-Macau-2023.jpeg
END:VEVENT
BEGIN:VEVENT
DTSTART;TZID=Asia/Hong_Kong:20211218T210000
DTEND;TZID=Asia/Hong_Kong:20211218T210000
DTSTAMP:20260422T160054
CREATED:19211218T024537Z
LAST-MODIFIED:20211218T032647Z
UID:10005345-1639861200-1639861200@www.bcmagazine.net
SUMMARY:Sleeping Forest & Cancer Game
DESCRIPTION:Sleeping Forest\, Cancer Game\nArroz Festival 005\nDate: 9pm\, 18 December\, 2021\nVenue: Live Music Association LMA\nTickets: MOP$180\, MOP$150 (advance)
URL:https://www.bcmagazine.net/event/sleeping-forest-cancer-game-2021/
LOCATION:Live Music Association LMA\, Avenida do Coronel Mesquita 50 Edf. Industrial San Mei 11B\, Macau\, Macau
CATEGORIES:2021,Concert,Macau,Music,Nightlife,Performing Arts
ATTACH;FMTTYPE=image/jpeg:https://www.bcmagazine.net/wp-content/uploads/1921/12/Sleeping-Forest-Cancer-Game-2021.jpg
END:VEVENT
BEGIN:VEVENT
DTSTART;VALUE=DATE:20201120
DTEND;VALUE=DATE:20201123
DTSTAMP:20260422T160054
CREATED:20201106T084247Z
LAST-MODIFIED:20201107T084555Z
UID:10006643-1605830400-1606089599@www.bcmagazine.net
SUMMARY:67th Macau Grand Prix
DESCRIPTION:67th Macau Grand Prix\nDate: 20-22 November\, 2020\nVenue: Macau\nTickets: tbc
URL:https://www.bcmagazine.net/event/67th-macau-grand-prix/
LOCATION:Macau\, Macau
CATEGORIES:2020,Macau,Sport
ATTACH;FMTTYPE=image/png:https://www.bcmagazine.net/wp-content/uploads/2017/07/macau-grand-prix-2020.png
GEO:22.198745;113.543873
END:VEVENT
BEGIN:VEVENT
DTSTART;TZID=Asia/Hong_Kong:20200201T200000
DTEND;TZID=Asia/Hong_Kong:20200201T200000
DTSTAMP:20260422T160054
CREATED:19161228T105055Z
LAST-MODIFIED:20191231T050855Z
UID:10002413-1580587200-1580587200@www.bcmagazine.net
SUMMARY:Wynners
DESCRIPTION:Wynners Chinese New Year Live 2017\nDate: 8pm\, 1 February\, 2020\nVenue: Cotai Arena\nTickets: $1\,380\, $1\,080\, $780\, $380 from CotaiTicketing
URL:https://www.bcmagazine.net/event/wynners-2020-macau/
LOCATION:CotaiArena\, Venetian Macao\, Taipa\, Macau
CATEGORIES:2020,Concert,Macau,Music,Performing Arts
ATTACH;FMTTYPE=image/jpeg:https://www.bcmagazine.net/wp-content/uploads/1916/12/Wynners-2020-macau.jpg
GEO:22.1483528;113.5602019
X-APPLE-STRUCTURED-LOCATION;VALUE=URI;X-ADDRESS=CotaiArena Venetian Macao Taipa Macau;X-APPLE-RADIUS=500;X-TITLE=Venetian Macao:geo:113.5602019,22.1483528
END:VEVENT
BEGIN:VEVENT
DTSTART;VALUE=DATE:20200201
DTEND;VALUE=DATE:20200301
DTSTAMP:20260422T160054
CREATED:19161228T105055Z
LAST-MODIFIED:20191231T051359Z
UID:10002414-1580515200-1583020799@www.bcmagazine.net
SUMMARY:teamLab
DESCRIPTION:teamLab SuperNature\nDate: February\, 2020\nVenue: Cotai Expo\nTickets: tbc
URL:https://www.bcmagazine.net/event/teamlab-2020-macau/
LOCATION:Cotai Expo\, The Venetian\, Taipa\, Macau
CATEGORIES:2020,Exhibition,Macau,Performing Arts
END:VEVENT
BEGIN:VEVENT
DTSTART;TZID=Asia/Hong_Kong:20191214T200000
DTEND;TZID=Asia/Hong_Kong:20191214T200000
DTSTAMP:20260422T160054
CREATED:19150428T071442Z
LAST-MODIFIED:20191120T140239Z
UID:10000143-1576353600-1576353600@www.bcmagazine.net
SUMMARY:Hacken Lee
DESCRIPTION:Hacken Lee – 30th Anniversary Concert in Macao\nDate: 8pm\, 14 December\,2019\nVenue: Cotai Arena\nTickets: $1\,280\, $880\, $580\, $380 from CotaiTicketing \n 
URL:https://www.bcmagazine.net/event/hacken-lee-macau-2019/
LOCATION:Cotai Arena\, Venetian Macao\, Macau
CATEGORIES:2019,Cantopop,Concert,Macau,Music,Performing Arts
END:VEVENT
BEGIN:VEVENT
DTSTART;VALUE=DATE:20191214
DTEND;VALUE=DATE:20200113
DTSTAMP:20260422T160054
CREATED:19150428T071442Z
LAST-MODIFIED:20191120T140745Z
UID:10000147-1576281600-1578873599@www.bcmagazine.net
SUMMARY:Mind Hacker
DESCRIPTION:Mind Hacker\nDate: 14 December\, 2019 – 12 January\, 2020\nVenue: Parisian Theatre\nTickets: $780\, $480\, $280 from CotaiTicketing\nMore info:\nIn Mandarin\, no subtitles\n*Dark Dates: 16 – 18\, 23 & 30 Dec 2019; 6 – 10 Jan 2020 \n 
URL:https://www.bcmagazine.net/event/mind-hacker-macau-2019-20/
LOCATION:The Parisian Theatre\, The Parisian Macao\, Macau
CATEGORIES:2019,2020,Macau,Performing Arts
GEO:22.1905958;113.5518856
X-APPLE-STRUCTURED-LOCATION;VALUE=URI;X-ADDRESS=The Parisian Theatre The Parisian Macao Macau;X-APPLE-RADIUS=500;X-TITLE=The Parisian Macao:geo:113.5518856,22.1905958
END:VEVENT
BEGIN:VEVENT
DTSTART;TZID=Asia/Hong_Kong:20191130T200000
DTEND;TZID=Asia/Hong_Kong:20191130T200000
DTSTAMP:20260422T160054
CREATED:19150428T071442Z
LAST-MODIFIED:20191120T140031Z
UID:10000142-1575144000-1575144000@www.bcmagazine.net
SUMMARY:Ronald Cheng
DESCRIPTION:Ronald Cheng – One More Time\nDate: 8pm\, 30 November\,2019\nVenue: Cotai Arena\nTickets: $1\,280\, $880\, $580\, $380 from CotaiTicketing \n 
URL:https://www.bcmagazine.net/event/ronald-cheng-macau-2019/
LOCATION:Cotai Arena\, Venetian Macao\, Macau
CATEGORIES:2019,Cantopop,Concert,Macau,Music,Performing Arts
END:VEVENT
BEGIN:VEVENT
DTSTART;TZID=Asia/Hong_Kong:20191109T200000
DTEND;TZID=Asia/Hong_Kong:20191109T200000
DTSTAMP:20260422T160054
CREATED:19190411T044512Z
LAST-MODIFIED:20190924T053014Z
UID:10004830-1573329600-1573329600@www.bcmagazine.net
SUMMARY:Cyndi Wang
DESCRIPTION:Cyndi Wang\nDate: 8pm\, 9 November\, 2019\nVenue: Cotai Arena\nTickets: $1\,380\, $980\, $780\, $580\, $380 from Cotai Ticketing
URL:https://www.bcmagazine.net/event/cyndi-wang-macau-2019/
LOCATION:Cotai Arena\, Venetian Macao\, Macau
CATEGORIES:2019,Concert,Macau,Music,Performing Arts
END:VEVENT
BEGIN:VEVENT
DTSTART;TZID=Asia/Hong_Kong:20191109T190000
DTEND;TZID=Asia/Hong_Kong:20191109T190000
DTSTAMP:20260422T160054
CREATED:19190411T044512Z
LAST-MODIFIED:20190925T150034Z
UID:10004833-1573326000-1573326000@www.bcmagazine.net
SUMMARY:Itzy
DESCRIPTION:Itzy\nDate: 7pm\, 9 November\, 2019\nVenue: Broadway Theatre\nTickets: $1\,488\, $1\,088\, $888\, $588 from Cityline
URL:https://www.bcmagazine.net/event/itzy-macau-2019/
LOCATION:Broadway Macau\, Avenida Marginal Flor de Lotus\, Cotai\, Macau
CATEGORIES:2019,Concert,Macau,Music,Performing Arts
ATTACH;FMTTYPE=image/jpeg:https://www.bcmagazine.net/wp-content/uploads/1919/04/ITZY-Macau-Poster-Final-s.jpg
END:VEVENT
BEGIN:VEVENT
DTSTART;TZID=Asia/Hong_Kong:20191026T200000
DTEND;TZID=Asia/Hong_Kong:20191026T200000
DTSTAMP:20260422T160054
CREATED:19190411T044512Z
LAST-MODIFIED:20190924T053150Z
UID:10004831-1572120000-1572120000@www.bcmagazine.net
SUMMARY:Coco Lee
DESCRIPTION:Coco Lee\nDate: 8pm\, 26 October\, 2019\nVenue: Cotai Arena\nTickets: $1\,380\, $980\, $680\, $380 from Cotai Ticketing
URL:https://www.bcmagazine.net/event/coco-lee-macau-2019/
LOCATION:Cotai Arena\, Venetian Macao\, Macau
CATEGORIES:2019,Concert,Macau,Music,Performing Arts
END:VEVENT
BEGIN:VEVENT
DTSTART;TZID=Asia/Hong_Kong:20191019T200000
DTEND;TZID=Asia/Hong_Kong:20191019T200000
DTSTAMP:20260422T160054
CREATED:19190411T044512Z
LAST-MODIFIED:20190414T024914Z
UID:10004761-1571515200-1571515200@www.bcmagazine.net
SUMMARY:Backstreet Boys
DESCRIPTION:Backstreet Boys – DNA World Tour\nDate: 8pm\, 19 October\, 2019\nVenue: Cotai Arena\nTickets: $2\,488\, $1\,488\, $1\,088\, $988\, $888\, $688
URL:https://www.bcmagazine.net/event/backstreet-boys-macau-2019/
LOCATION:Cotai Arena\, Venetian Macao\, Macau
CATEGORIES:2019,Concert,Macau,Music,Performing Arts
ATTACH;FMTTYPE=image/jpeg:https://www.bcmagazine.net/wp-content/uploads/1919/04/Backstreet-Boys-Macau-2019.jpg
END:VEVENT
BEGIN:VEVENT
DTSTART;TZID=Asia/Hong_Kong:20191013T190000
DTEND;TZID=Asia/Hong_Kong:20191013T190000
DTSTAMP:20260422T160054
CREATED:19190411T044512Z
LAST-MODIFIED:20191017T050923Z
UID:10004771-1570993200-1570993200@www.bcmagazine.net
SUMMARY:Shawn Mendes
DESCRIPTION:Shawn Mendes – The Tour\nDate: 7pm\, 13 October\, 2019\nVenue: Cotai Arena\nTickets: $1\,280\, $880\, $680\, $480 from Cotai Ticketing
URL:https://www.bcmagazine.net/event/shawn-mendes-macau-2019/
LOCATION:Cotai Arena\, Venetian Macao\, Macau
CATEGORIES:2019,Concert,Macau,Music,Performing Arts
ATTACH;FMTTYPE=image/jpeg:https://www.bcmagazine.net/wp-content/uploads/1919/04/shawn-mendes-macau-2019.jpg
END:VEVENT
BEGIN:VEVENT
DTSTART;TZID=Asia/Hong_Kong:20191006T200000
DTEND;TZID=Asia/Hong_Kong:20191006T200000
DTSTAMP:20260422T160054
CREATED:19190411T044512Z
LAST-MODIFIED:20190924T053350Z
UID:10004832-1570392000-1570392000@www.bcmagazine.net
SUMMARY:Will Pan Alpha
DESCRIPTION:Will Pan Alpha\nDate: 8pm\, 6 October\, 2019\nVenue: Cotai Arena\nTickets: $1\,280\, $880\, $680\, $480\, $280 from Cotai Ticketing
URL:https://www.bcmagazine.net/event/will-pan-alpha-macau-2019/
LOCATION:Cotai Arena\, Venetian Macao\, Macau
CATEGORIES:2019,Concert,Macau,Music,Performing Arts
END:VEVENT
BEGIN:VEVENT
DTSTART;VALUE=DATE:20190925
DTEND;VALUE=DATE:20191006
DTSTAMP:20260422T160054
CREATED:19190411T044512Z
LAST-MODIFIED:20190515T175340Z
UID:10004770-1569369600-1570319999@www.bcmagazine.net
SUMMARY:Forever Crazy
DESCRIPTION:Forever Crazy\nDate: 7:30pm & 10pm\, 25 September-5 October\, 2019\nVenue: Parisian Theatre\, The Parisian Macao\nTickets: tbc from Cotai Ticketing
URL:https://www.bcmagazine.net/event/forever-crazy-macau-2019/
LOCATION:The Parisian Theatre\, The Parisian Macao\, Macau
CATEGORIES:2019,Macau,Performing Arts,Theatre
GEO:22.1905958;113.5518856
X-APPLE-STRUCTURED-LOCATION;VALUE=URI;X-ADDRESS=The Parisian Theatre The Parisian Macao Macau;X-APPLE-RADIUS=500;X-TITLE=The Parisian Macao:geo:113.5518856,22.1905958
END:VEVENT
BEGIN:VEVENT
DTSTART;VALUE=DATE:20190916
DTEND;VALUE=DATE:20191029
DTSTAMP:20260422T160054
CREATED:19160906T150024Z
LAST-MODIFIED:20190809T135314Z
UID:10000789-1568592000-1572307199@www.bcmagazine.net
SUMMARY:MGM Macau Oktoberfest
DESCRIPTION:MGM Macau Oktoberfest\nDate: 16 September – 28 October\, 2019\nVenue: MGM Macau\nTickets: $18o
URL:https://www.bcmagazine.net/event/mgm-macau-oktoberfest-2019/
LOCATION:MGM Macau\, Avenida Dr. Sun Yat Sen\, Macau
CATEGORIES:2019,Food,Macau,Nightlife
GEO:22.1854455;113.5488817
X-APPLE-STRUCTURED-LOCATION;VALUE=URI;X-ADDRESS=MGM Macau Avenida Dr. Sun Yat Sen Macau;X-APPLE-RADIUS=500;X-TITLE=Avenida Dr. Sun Yat Sen:geo:113.5488817,22.1854455
END:VEVENT
BEGIN:VEVENT
DTSTART;TZID=Asia/Hong_Kong:20190803T200000
DTEND;TZID=Asia/Hong_Kong:20190803T200000
DTSTAMP:20260422T160054
CREATED:18190702T151354Z
LAST-MODIFIED:20190704T165947Z
UID:10000057-1564862400-1564862400@www.bcmagazine.net
SUMMARY:Wang Feng
DESCRIPTION:Wang Feng – This Is It\nDate: 8pm\, 3 August\, 2019\nVenue: Cotai Arena\nTickets: $1\,680\, $1\,280\, $780\, $380 from Cotai Ticketing
URL:https://www.bcmagazine.net/event/wang-feng-macau-2019/
LOCATION:CotaiArena\, Venetian Macao\, Taipa\, Macau
CATEGORIES:2019,Concert,Macau,Music,Performing Arts
GEO:22.1483528;113.5602019
X-APPLE-STRUCTURED-LOCATION;VALUE=URI;X-ADDRESS=CotaiArena Venetian Macao Taipa Macau;X-APPLE-RADIUS=500;X-TITLE=Venetian Macao:geo:113.5602019,22.1483528
END:VEVENT
BEGIN:VEVENT
DTSTART;VALUE=DATE:20190728
DTEND;VALUE=DATE:20190923
DTSTAMP:20260422T160054
CREATED:20190726T132202Z
LAST-MODIFIED:20190728T163555Z
UID:10006592-1564272000-1569196799@www.bcmagazine.net
SUMMARY:TheArsenale
DESCRIPTION:TheArsenale – The Most Insane Garage in the World\nDate: 28 July – 30 September\, 2019\nVenue: City of Dreams\nTickets: Free
URL:https://www.bcmagazine.net/event/thearsenale-macau-2019/
LOCATION:The One\, 100 Nathan Road\, Tsim Sha Tsui\, Hong Kong
CATEGORIES:2019,Exhibition,Free,Lifestyle,Macau
ATTACH;FMTTYPE=image/jpeg:https://www.bcmagazine.net/wp-content/uploads/1919/07/thearsenale-cover.jpg
END:VEVENT
BEGIN:VEVENT
DTSTART;TZID=Asia/Hong_Kong:20190727T200000
DTEND;TZID=Asia/Hong_Kong:20190727T200000
DTSTAMP:20260422T160054
CREATED:20190423T044512Z
LAST-MODIFIED:20190424T085619Z
UID:10006582-1564257600-1564257600@www.bcmagazine.net
SUMMARY:Westlife The Twenty Tour in Macao
DESCRIPTION:Westlife The Twenty Tour in Macao\nDate: 8pm\, 26-27 July\, 2019\nVenue: Cotai Arena\nTickets: $1\,488\, $1\,088\, $788\, $588\, $388 from Cotai Ticketing
URL:https://www.bcmagazine.net/event/westlife-macao-27-07-2019/
LOCATION:Cotai Arena\, Venetian Macao\, Macau
CATEGORIES:2019,Concert,Macau,Music,Performing Arts
ATTACH;FMTTYPE=image/jpeg:https://www.bcmagazine.net/wp-content/uploads/1919/04/west-life-macau-2019.jpg
END:VEVENT
BEGIN:VEVENT
DTSTART;TZID=Asia/Hong_Kong:20190726T200000
DTEND;TZID=Asia/Hong_Kong:20190726T200000
DTSTAMP:20260422T160054
CREATED:19190411T044512Z
LAST-MODIFIED:20190424T085513Z
UID:10004764-1564171200-1564171200@www.bcmagazine.net
SUMMARY:Westlife The Twenty Tour in Macao
DESCRIPTION:Westlife The Twenty Tour in Macao\nDate: 8pm\, 26-27 July\, 2019\nVenue: Cotai Arena\nTickets: $1\,488\, $1\,088\, $788\, $588\, $388 from Cotai Ticketing
URL:https://www.bcmagazine.net/event/westlife-macao-26-07-2019/
LOCATION:Cotai Arena\, Venetian Macao\, Macau
CATEGORIES:2019,Concert,Macau,Music,Performing Arts
ATTACH;FMTTYPE=image/jpeg:https://www.bcmagazine.net/wp-content/uploads/1919/04/west-life-macau-2019.jpg
END:VEVENT
BEGIN:VEVENT
DTSTART;TZID=Asia/Hong_Kong:20190720T200000
DTEND;TZID=Asia/Hong_Kong:20190720T200000
DTSTAMP:20260422T160054
CREATED:19190411T044512Z
LAST-MODIFIED:20190515T181024Z
UID:10004772-1563652800-1563652800@www.bcmagazine.net
SUMMARY:Lo Ta-You
DESCRIPTION:Lo Ta-You – Leaving Home with Youthful Dream. No Regret Version\nDate: 8pm\, 20 July\, 2019\nVenue: Cotai Arena\nTickets: $1\,680\, $1\,280\, $980\, $680\, $380 from Cotai Ticketing
URL:https://www.bcmagazine.net/event/lo-ta-you-macau-2018/
LOCATION:Cotai Arena\, Venetian Macao\, Macau
CATEGORIES:2019,Concert,Macau,Music,Performing Arts
ATTACH;FMTTYPE=image/jpeg:https://www.bcmagazine.net/wp-content/uploads/1919/04/Lo-Ta-you-macau-2019.jpg
END:VEVENT
BEGIN:VEVENT
DTSTART;TZID=Asia/Hong_Kong:20190713T200000
DTEND;TZID=Asia/Hong_Kong:20190713T200000
DTSTAMP:20260422T160054
CREATED:18190702T151354Z
LAST-MODIFIED:20190704T165746Z
UID:10000055-1563048000-1563048000@www.bcmagazine.net
SUMMARY:Christine Fan
DESCRIPTION:Christine Fan – FanFan Road to Happiness World Tour\nDate: 8pm\, 13 July\, 2019\nVenue: Cotai Arena\nTickets: $980\, $780\, $580\, $380 from Cotai Ticketing
URL:https://www.bcmagazine.net/event/christine-fan-macau-2019/
LOCATION:CotaiArena\, Venetian Macao\, Taipa\, Macau
CATEGORIES:2019,Concert,Macau,Music,Performing Arts
GEO:22.1483528;113.5602019
X-APPLE-STRUCTURED-LOCATION;VALUE=URI;X-ADDRESS=CotaiArena Venetian Macao Taipa Macau;X-APPLE-RADIUS=500;X-TITLE=Venetian Macao:geo:113.5602019,22.1483528
END:VEVENT
BEGIN:VEVENT
DTSTART;TZID=Asia/Hong_Kong:20190706T200000
DTEND;TZID=Asia/Hong_Kong:20190706T200000
DTSTAMP:20260422T160054
CREATED:18190702T151354Z
LAST-MODIFIED:20190704T170122Z
UID:10000060-1562443200-1562443200@www.bcmagazine.net
SUMMARY:Lamusical
DESCRIPTION:George Lam Lamusical\nDate: 8pm\, 6 July\, 2019\nVenue: Cotai Arena\nTickets: $1\,180\, $980\, $680\, $380 from Cotai Ticketing
URL:https://www.bcmagazine.net/event/lamusical/
LOCATION:CotaiArena\, Venetian Macao\, Taipa\, Macau
CATEGORIES:2019,Concert,Macau,Music,Performing Arts
GEO:22.1483528;113.5602019
X-APPLE-STRUCTURED-LOCATION;VALUE=URI;X-ADDRESS=CotaiArena Venetian Macao Taipa Macau;X-APPLE-RADIUS=500;X-TITLE=Venetian Macao:geo:113.5602019,22.1483528
END:VEVENT
BEGIN:VEVENT
DTSTART;TZID=Asia/Hong_Kong:20190630T143000
DTEND;TZID=Asia/Hong_Kong:20190630T143000
DTSTAMP:20260422T160054
CREATED:20190527T044512Z
LAST-MODIFIED:20190610T115435Z
UID:10006585-1561905000-1561905000@www.bcmagazine.net
SUMMARY:Dark Times Festival 2019
DESCRIPTION:Dark Times Festival 2019\nD O W N E R\, Forget the G\, Faslane\, Maenad & the Ravers\, NOYB\, 王和平 Peace\nDate: 2:30pm\, 30 June\, 2019\nVenue: Macao Contemporary Art Centre – Navy Yard No.2\nTickets: Free
URL:https://www.bcmagazine.net/event/dark-times-festival-2019/
LOCATION:Macao Contemporary Art Centre – Navy Yard No.2\, Rua de S. Tiago da Barra\, Macau
CATEGORIES:2019,Concert,Free,Macau,Music,Performing Arts
ATTACH;FMTTYPE=image/jpeg:https://www.bcmagazine.net/wp-content/uploads/2019/04/Dark-Times-Festival-2019.jpg
END:VEVENT
BEGIN:VEVENT
DTSTART;TZID=Asia/Hong_Kong:20190629T200000
DTEND;TZID=Asia/Hong_Kong:20190629T200000
DTSTAMP:20260422T160054
CREATED:19190411T044512Z
LAST-MODIFIED:20190515T181441Z
UID:10004773-1561838400-1561838400@www.bcmagazine.net
SUMMARY:Nancy Sit
DESCRIPTION:Nancy Sit – The Sound of Nancy\nDate: 8pm\, 29 June\, 2019\nVenue: Cotai Arena\nTickets: $980\, $780\, $580\, $380 from Cotai Ticketing
URL:https://www.bcmagazine.net/event/nancy-sit-macau-2019/
LOCATION:Cotai Arena\, Venetian Macao\, Macau
CATEGORIES:2019,Concert,Macau,Music,Performing Arts
ATTACH;FMTTYPE=image/jpeg:https://www.bcmagazine.net/wp-content/uploads/1919/04/nancy-sit-macau-2019.jpg
END:VEVENT
BEGIN:VEVENT
DTSTART;TZID=Asia/Hong_Kong:20190622T200000
DTEND;TZID=Asia/Hong_Kong:20190622T200000
DTSTAMP:20260422T160054
CREATED:19190411T044512Z
LAST-MODIFIED:20190515T181906Z
UID:10004774-1561233600-1561233600@www.bcmagazine.net
SUMMARY:Miriam Yeung
DESCRIPTION:Miriam Yeung – My Beautiful Live\nDate: 8pm\, 22 June\, 2019\nVenue: Cotai Arena\nTickets: $1\,280\, $980\, $680\, $380 from Cotai Ticketing
URL:https://www.bcmagazine.net/event/miriam-yeung-macau-2019/
LOCATION:Cotai Arena\, Venetian Macao\, Macau
CATEGORIES:2019,Concert,Macau,Music,Performing Arts
ATTACH;FMTTYPE=image/jpeg:https://www.bcmagazine.net/wp-content/uploads/1919/04/Miriam-Yeung-macau-2019.jpg
END:VEVENT
END:VCALENDAR