BEGIN:VCALENDAR
VERSION:2.0
PRODID:-//bc magazine - ECPv6.15.20//NONSGML v1.0//EN
CALSCALE:GREGORIAN
METHOD:PUBLISH
X-ORIGINAL-URL:https://www.bcmagazine.net
X-WR-CALDESC:Events for bc magazine
REFRESH-INTERVAL;VALUE=DURATION:PT1H
X-Robots-Tag:noindex
X-PUBLISHED-TTL:PT1H
BEGIN:VTIMEZONE
TZID:Asia/Hong_Kong
BEGIN:STANDARD
TZOFFSETFROM:+0800
TZOFFSETTO:+0800
TZNAME:HKT
DTSTART:20140101T000000
END:STANDARD
END:VTIMEZONE
BEGIN:VEVENT
DTSTART;TZID=Asia/Hong_Kong:20150417T200000
DTEND;TZID=Asia/Hong_Kong:20150417T230000
DTSTAMP:20260421T052540
CREATED:20150301T101956Z
LAST-MODIFIED:20150302T102737Z
UID:10005619-1429300800-1429311600@www.bcmagazine.net
SUMMARY:From the New World
DESCRIPTION:From the New World\nMacao Orchestra – Chamber Music\nWhen: 8pm\, 17 April\, 2015\nWhere: Dom Pedro V Theatre\nTickets: MOP$100 from Macau Ticketing Network\nMore info: 20th century composers have made many new attempts in the modes of chamber music. In this concert\, the Macao Orchestra presents an American-style evening: Summer Music by famous American composer Samuel Barber\, followed by the American\, a classical string quartet by Antonín Dvořák. Significantly influenced by American folk music\, this work was composed by Dvořák whilst sojourning in America.\nProgramme:\nBarber: Summer Music for Wind Quintet\, Op. 31\nFoss: The Cave of the Winds\nDvořák: String Quartet No. 12 in F major\, Op.96 “American”
URL:https://www.bcmagazine.net/event/from-the-new-world/
LOCATION:Dom Pedro V Theatre\, Largo de Santo Agostinho\, Macau
CATEGORIES:Concert,concert,Macau,Music,Performing Arts
GEO:22.1922848;113.5380585
X-APPLE-STRUCTURED-LOCATION;VALUE=URI;X-ADDRESS=Dom Pedro V Theatre Largo de Santo Agostinho Macau;X-APPLE-RADIUS=500;X-TITLE=Largo de Santo Agostinho:geo:113.5380585,22.1922848
END:VEVENT
END:VCALENDAR