BEGIN:VCALENDAR
VERSION:2.0
PRODID:-//bc magazine - ECPv6.15.20//NONSGML v1.0//EN
CALSCALE:GREGORIAN
METHOD:PUBLISH
X-WR-CALNAME:bc magazine
X-ORIGINAL-URL:https://www.bcmagazine.net
X-WR-CALDESC:Events for bc magazine
REFRESH-INTERVAL;VALUE=DURATION:PT1H
X-Robots-Tag:noindex
X-PUBLISHED-TTL:PT1H
BEGIN:VTIMEZONE
TZID:Asia/Hong_Kong
BEGIN:STANDARD
TZOFFSETFROM:+0800
TZOFFSETTO:+0800
TZNAME:HKT
DTSTART:20140101T000000
END:STANDARD
END:VTIMEZONE
BEGIN:VEVENT
DTSTART;TZID=Asia/Hong_Kong:20150501T200000
DTEND;TZID=Asia/Hong_Kong:20150501T230000
DTSTAMP:20260422T062619
CREATED:20150204T065248Z
LAST-MODIFIED:20150428T065538Z
UID:10005574-1430510400-1430521200@www.bcmagazine.net
SUMMARY:Katy Perry @ Cotai Arena - 1-2 May\, 2015
DESCRIPTION:Katy Perry Prismatic World Tour\nSupport: The Dolls (DJ Mia Moretti + Margot)\nDate: 1-2 May\, 2015\nVenue: CotaiArena\, The Venetian Macau\nTickets: $1\,680\, $1\,280\, $880\, $680\, $380 from CotaiTicketing
URL:https://www.bcmagazine.net/event/katy-perry-cotai-arena-1-2-may-2015/
LOCATION:CotaiArena\, Venetian Macao\, Taipa\, Macau
CATEGORIES:Concert,concert,Macau,Music,Performing Arts
GEO:22.1483528;113.5602019
X-APPLE-STRUCTURED-LOCATION;VALUE=URI;X-ADDRESS=CotaiArena Venetian Macao Taipa Macau;X-APPLE-RADIUS=500;X-TITLE=Venetian Macao:geo:113.5602019,22.1483528
END:VEVENT
BEGIN:VEVENT
DTSTART;TZID=Asia/Hong_Kong:20150502T200000
DTEND;TZID=Asia/Hong_Kong:20150502T230000
DTSTAMP:20260422T062619
CREATED:20150204T063342Z
LAST-MODIFIED:20150428T065258Z
UID:10005572-1430596800-1430607600@www.bcmagazine.net
SUMMARY:Katy Perry @ Cotai Arena - 1-2 May\, 2015
DESCRIPTION:Katy Perry Prismatic World Tour\nSupport: The Dolls (DJ Mia Moretti + Margot)\nDate: 1-2 May\, 2015\nVenue: CotaiArena\, The Venetian Macau\nTickets: $1\,680\, $1\,280\, $880\, $680\, $380 from CotaiTicketing
URL:https://www.bcmagazine.net/event/katy-perry-cotaiarena-1-2-may-2015-2/
LOCATION:CotaiArena\, Venetian Macao\, Taipa\, Macau
CATEGORIES:Concert,concert,Macau,Music,Performing Arts
GEO:22.1483528;113.5602019
X-APPLE-STRUCTURED-LOCATION;VALUE=URI;X-ADDRESS=CotaiArena Venetian Macao Taipa Macau;X-APPLE-RADIUS=500;X-TITLE=Venetian Macao:geo:113.5602019,22.1483528
END:VEVENT
END:VCALENDAR