BEGIN:VCALENDAR
VERSION:2.0
PRODID:-//bc magazine - ECPv6.15.20//NONSGML v1.0//EN
CALSCALE:GREGORIAN
METHOD:PUBLISH
X-WR-CALNAME:bc magazine
X-ORIGINAL-URL:https://www.bcmagazine.net
X-WR-CALDESC:Events for bc magazine
REFRESH-INTERVAL;VALUE=DURATION:PT1H
X-Robots-Tag:noindex
X-PUBLISHED-TTL:PT1H
BEGIN:VTIMEZONE
TZID:Asia/Hong_Kong
BEGIN:STANDARD
TZOFFSETFROM:+0800
TZOFFSETTO:+0800
TZNAME:HKT
DTSTART:20140101T000000
END:STANDARD
END:VTIMEZONE
BEGIN:VEVENT
DTSTART;TZID=Asia/Hong_Kong:20150526T200000
DTEND;TZID=Asia/Hong_Kong:20150526T230000
DTSTAMP:20260421T152858
CREATED:20150405T082931Z
LAST-MODIFIED:20150502T083206Z
UID:10005718-1432670400-1432681200@www.bcmagazine.net
SUMMARY:Musical Soiree with Raymond Chan and Friends - 26 May\, 2015
DESCRIPTION:Musical Soiree with Raymond Chan and Friends\nDate: 8pm 26 May\, 2015\nVenue: Macao Cultural Centre\, Small Auditorium\nTickets: MOP$120 from MacauTicket
URL:https://www.bcmagazine.net/event/musical-soiree-with-raymond-chan-and-friends-26-may-2015/
CATEGORIES:Concert,Macau,Music
END:VEVENT
END:VCALENDAR