BEGIN:VCALENDAR
VERSION:2.0
PRODID:-//bc magazine - ECPv6.15.20//NONSGML v1.0//EN
CALSCALE:GREGORIAN
METHOD:PUBLISH
X-WR-CALNAME:bc magazine
X-ORIGINAL-URL:https://www.bcmagazine.net
X-WR-CALDESC:Events for bc magazine
REFRESH-INTERVAL;VALUE=DURATION:PT1H
X-Robots-Tag:noindex
X-PUBLISHED-TTL:PT1H
BEGIN:VTIMEZONE
TZID:Asia/Hong_Kong
BEGIN:STANDARD
TZOFFSETFROM:+0800
TZOFFSETTO:+0800
TZNAME:HKT
DTSTART:20140101T000000
END:STANDARD
END:VTIMEZONE
BEGIN:VEVENT
DTSTART;TZID=Asia/Hong_Kong:20150616T200000
DTEND;TZID=Asia/Hong_Kong:20150616T200000
DTSTAMP:20260422T014546
CREATED:20150328T075813Z
LAST-MODIFIED:20150428T092220Z
UID:10005678-1434484800-1434484800@www.bcmagazine.net
SUMMARY:Disney’s Beauty and the Beast @ The Venetian Theatre - 13 June - 26 July\, 2015
DESCRIPTION:This is the classic story of Belle\, a young woman in a provincial town\, and the Beast\, who is really a young prince trapped in a spell placed by an enchantress. If the Beast can learn to love and be loved\, the curse will end and he will be transformed to his former self. But time is running out. If the Beast does not learn his lesson soon\, he and his household will be doomed for all eternity. This international tour will see the show’s original Broadway creative team reuniting to bring this Broadway classic to life. The musical is directed by Rob Roth and choreographed by Matt West\, with costume design by Ann Hould-Ward (Tony Award® winner for her work on Disney’s Beauty and the Beast). Based on the 1991 Academy-Award winning animated feature film\, the show had run for 13 years on Broadway. \nDisney’s Beauty and the Beast\nDate: 13 June – 26 July\, 2015\nVenue: The Venetian Theatre\nTickets: $680\, $480\, $280 from CotaiTicketing
URL:https://www.bcmagazine.net/event/disneys-beauty-and-the-beast-the-venetian-theatre-13-june-26-july-2015-12/
LOCATION:Hong Kong
CATEGORIES:Macau,Performing Arts,Theatre
END:VEVENT
BEGIN:VEVENT
DTSTART;TZID=Asia/Hong_Kong:20150617T200000
DTEND;TZID=Asia/Hong_Kong:20150617T220000
DTSTAMP:20260422T014546
CREATED:20150328T080708Z
LAST-MODIFIED:20150428T092220Z
UID:10005693-1434571200-1434578400@www.bcmagazine.net
SUMMARY:Disney’s Beauty and the Beast @ The Venetian Theatre - 13 June - 26 July\, 2015
DESCRIPTION:This is the classic story of Belle\, a young woman in a provincial town\, and the Beast\, who is really a young prince trapped in a spell placed by an enchantress. If the Beast can learn to love and be loved\, the curse will end and he will be transformed to his former self. But time is running out. If the Beast does not learn his lesson soon\, he and his household will be doomed for all eternity. This international tour will see the show’s original Broadway creative team reuniting to bring this Broadway classic to life. The musical is directed by Rob Roth and choreographed by Matt West\, with costume design by Ann Hould-Ward (Tony Award® winner for her work on Disney’s Beauty and the Beast). Based on the 1991 Academy-Award winning animated feature film\, the show had run for 13 years on Broadway. \nDisney’s Beauty and the Beast\nDate: 13 June – 26 July\, 2015\nVenue: The Venetian Theatre\nTickets: $680\, $480\, $280 from CotaiTicketing
URL:https://www.bcmagazine.net/event/disneys-beauty-and-the-beast-the-venetian-theatre-13-june-26-july-2015-30/
LOCATION:Hong Kong
CATEGORIES:Macau,Performing Arts,Theatre
END:VEVENT
BEGIN:VEVENT
DTSTART;TZID=Asia/Hong_Kong:20150618T140000
DTEND;TZID=Asia/Hong_Kong:20150618T140000
DTSTAMP:20260422T014546
CREATED:20150328T075813Z
LAST-MODIFIED:20150428T092632Z
UID:10005679-1434636000-1434636000@www.bcmagazine.net
SUMMARY:Disney’s Beauty and the Beast @ The Venetian Theatre - 13 June - 26 July\, 2015
DESCRIPTION:This is the classic story of Belle\, a young woman in a provincial town\, and the Beast\, who is really a young prince trapped in a spell placed by an enchantress. If the Beast can learn to love and be loved\, the curse will end and he will be transformed to his former self. But time is running out. If the Beast does not learn his lesson soon\, he and his household will be doomed for all eternity. This international tour will see the show’s original Broadway creative team reuniting to bring this Broadway classic to life. The musical is directed by Rob Roth and choreographed by Matt West\, with costume design by Ann Hould-Ward (Tony Award® winner for her work on Disney’s Beauty and the Beast). Based on the 1991 Academy-Award winning animated feature film\, the show had run for 13 years on Broadway. \nDisney’s Beauty and the Beast\nDate: 13 June – 26 July\, 2015\nVenue: The Venetian Theatre\nTickets: $680\, $480\, $280 from CotaiTicketing
URL:https://www.bcmagazine.net/event/disneys-beauty-and-the-beast-the-venetian-theatre-13-june-26-july-2015-13/
LOCATION:Hong Kong
CATEGORIES:Macau,Performing Arts,Theatre
END:VEVENT
BEGIN:VEVENT
DTSTART;TZID=Asia/Hong_Kong:20150619T200000
DTEND;TZID=Asia/Hong_Kong:20150619T200000
DTSTAMP:20260422T014546
CREATED:20150328T080708Z
LAST-MODIFIED:20150428T092220Z
UID:10005694-1434744000-1434744000@www.bcmagazine.net
SUMMARY:Disney’s Beauty and the Beast @ The Venetian Theatre - 13 June - 26 July\, 2015
DESCRIPTION:This is the classic story of Belle\, a young woman in a provincial town\, and the Beast\, who is really a young prince trapped in a spell placed by an enchantress. If the Beast can learn to love and be loved\, the curse will end and he will be transformed to his former self. But time is running out. If the Beast does not learn his lesson soon\, he and his household will be doomed for all eternity. This international tour will see the show’s original Broadway creative team reuniting to bring this Broadway classic to life. The musical is directed by Rob Roth and choreographed by Matt West\, with costume design by Ann Hould-Ward (Tony Award® winner for her work on Disney’s Beauty and the Beast). Based on the 1991 Academy-Award winning animated feature film\, the show had run for 13 years on Broadway. \nDisney’s Beauty and the Beast\nDate: 13 June – 26 July\, 2015\nVenue: The Venetian Theatre\nTickets: $680\, $480\, $280 from CotaiTicketing
URL:https://www.bcmagazine.net/event/disneys-beauty-and-the-beast-the-venetian-theatre-13-june-26-july-2015-31/
LOCATION:Hong Kong
CATEGORIES:Macau,Performing Arts,Theatre
END:VEVENT
BEGIN:VEVENT
DTSTART;TZID=Asia/Hong_Kong:20150620T140000
DTEND;TZID=Asia/Hong_Kong:20150620T140000
DTSTAMP:20260422T014546
CREATED:20150328T080708Z
LAST-MODIFIED:20150428T092220Z
UID:10005695-1434808800-1434808800@www.bcmagazine.net
SUMMARY:Disney’s Beauty and the Beast @ The Venetian Theatre - 13 June - 26 July\, 2015
DESCRIPTION:This is the classic story of Belle\, a young woman in a provincial town\, and the Beast\, who is really a young prince trapped in a spell placed by an enchantress. If the Beast can learn to love and be loved\, the curse will end and he will be transformed to his former self. But time is running out. If the Beast does not learn his lesson soon\, he and his household will be doomed for all eternity. This international tour will see the show’s original Broadway creative team reuniting to bring this Broadway classic to life. The musical is directed by Rob Roth and choreographed by Matt West\, with costume design by Ann Hould-Ward (Tony Award® winner for her work on Disney’s Beauty and the Beast). Based on the 1991 Academy-Award winning animated feature film\, the show had run for 13 years on Broadway. \nDisney’s Beauty and the Beast\nDate: 13 June – 26 July\, 2015\nVenue: The Venetian Theatre\nTickets: $680\, $480\, $280 from CotaiTicketing
URL:https://www.bcmagazine.net/event/disneys-beauty-and-the-beast-the-venetian-theatre-13-june-26-july-2015-32/
LOCATION:Hong Kong
CATEGORIES:Macau,Performing Arts,Theatre
END:VEVENT
BEGIN:VEVENT
DTSTART;TZID=Asia/Hong_Kong:20150620T200000
DTEND;TZID=Asia/Hong_Kong:20150620T200000
DTSTAMP:20260422T014546
CREATED:20150328T075813Z
LAST-MODIFIED:20150428T092220Z
UID:10005680-1434830400-1434830400@www.bcmagazine.net
SUMMARY:Disney’s Beauty and the Beast @ The Venetian Theatre - 13 June - 26 July\, 2015
DESCRIPTION:This is the classic story of Belle\, a young woman in a provincial town\, and the Beast\, who is really a young prince trapped in a spell placed by an enchantress. If the Beast can learn to love and be loved\, the curse will end and he will be transformed to his former self. But time is running out. If the Beast does not learn his lesson soon\, he and his household will be doomed for all eternity. This international tour will see the show’s original Broadway creative team reuniting to bring this Broadway classic to life. The musical is directed by Rob Roth and choreographed by Matt West\, with costume design by Ann Hould-Ward (Tony Award® winner for her work on Disney’s Beauty and the Beast). Based on the 1991 Academy-Award winning animated feature film\, the show had run for 13 years on Broadway. \nDisney’s Beauty and the Beast\nDate: 13 June – 26 July\, 2015\nVenue: The Venetian Theatre\nTickets: $680\, $480\, $280 from CotaiTicketing
URL:https://www.bcmagazine.net/event/disneys-beauty-and-the-beast-the-venetian-theatre-13-june-26-july-2015-14/
LOCATION:Hong Kong
CATEGORIES:Macau,Performing Arts,Theatre
END:VEVENT
BEGIN:VEVENT
DTSTART;TZID=Asia/Hong_Kong:20150621T140000
DTEND;TZID=Asia/Hong_Kong:20150621T170000
DTSTAMP:20260422T014546
CREATED:20150328T075813Z
LAST-MODIFIED:20150428T092642Z
UID:10005675-1434895200-1434906000@www.bcmagazine.net
SUMMARY:Disney’s Beauty and the Beast @ The Venetian Theatre - 13 June - 26 July\, 2015
DESCRIPTION:This is the classic story of Belle\, a young woman in a provincial town\, and the Beast\, who is really a young prince trapped in a spell placed by an enchantress. If the Beast can learn to love and be loved\, the curse will end and he will be transformed to his former self. But time is running out. If the Beast does not learn his lesson soon\, he and his household will be doomed for all eternity. This international tour will see the show’s original Broadway creative team reuniting to bring this Broadway classic to life. The musical is directed by Rob Roth and choreographed by Matt West\, with costume design by Ann Hould-Ward (Tony Award® winner for her work on Disney’s Beauty and the Beast). Based on the 1991 Academy-Award winning animated feature film\, the show had run for 13 years on Broadway. \nDisney’s Beauty and the Beast\nDate: 13 June – 26 July\, 2015\nVenue: The Venetian Theatre\nTickets: $680\, $480\, $280 from CotaiTicketing
URL:https://www.bcmagazine.net/event/disneys-beauty-and-the-beast-the-venetian-theatre-13-june-26-july-2015-9/
LOCATION:Hong Kong
CATEGORIES:Macau,Performing Arts,Theatre
END:VEVENT
BEGIN:VEVENT
DTSTART;TZID=Asia/Hong_Kong:20150621T200000
DTEND;TZID=Asia/Hong_Kong:20150621T200000
DTSTAMP:20260422T014546
CREATED:20150328T075813Z
LAST-MODIFIED:20150428T092245Z
UID:10005676-1434916800-1434916800@www.bcmagazine.net
SUMMARY:Disney’s Beauty and the Beast @ The Venetian Theatre - 13 June - 26 July\, 2015
DESCRIPTION:This is the classic story of Belle\, a young woman in a provincial town\, and the Beast\, who is really a young prince trapped in a spell placed by an enchantress. If the Beast can learn to love and be loved\, the curse will end and he will be transformed to his former self. But time is running out. If the Beast does not learn his lesson soon\, he and his household will be doomed for all eternity. This international tour will see the show’s original Broadway creative team reuniting to bring this Broadway classic to life. The musical is directed by Rob Roth and choreographed by Matt West\, with costume design by Ann Hould-Ward (Tony Award® winner for her work on Disney’s Beauty and the Beast). Based on the 1991 Academy-Award winning animated feature film\, the show had run for 13 years on Broadway. \nDisney’s Beauty and the Beast\nDate: 13 June – 26 July\, 2015\nVenue: The Venetian Theatre\nTickets: $680\, $480\, $280 from CotaiTicketing
URL:https://www.bcmagazine.net/event/disneys-beauty-and-the-beast-the-venetian-theatre-13-june-26-july-2015-10/
LOCATION:Hong Kong
CATEGORIES:Macau,Performing Arts,Theatre
END:VEVENT
END:VCALENDAR