BEGIN:VCALENDAR
VERSION:2.0
PRODID:-//bc magazine - ECPv6.15.20//NONSGML v1.0//EN
CALSCALE:GREGORIAN
METHOD:PUBLISH
X-WR-CALNAME:bc magazine
X-ORIGINAL-URL:https://www.bcmagazine.net
X-WR-CALDESC:Events for bc magazine
REFRESH-INTERVAL;VALUE=DURATION:PT1H
X-Robots-Tag:noindex
X-PUBLISHED-TTL:PT1H
BEGIN:VTIMEZONE
TZID:Asia/Hong_Kong
BEGIN:STANDARD
TZOFFSETFROM:+0800
TZOFFSETTO:+0800
TZNAME:HKT
DTSTART:20140101T000000
END:STANDARD
END:VTIMEZONE
BEGIN:VEVENT
DTSTART;TZID=Asia/Hong_Kong:20150822T200000
DTEND;TZID=Asia/Hong_Kong:20150822T200000
DTSTAMP:20260422T004248
CREATED:20150529T082637Z
LAST-MODIFIED:20150729T083218Z
UID:10005926-1440273600-1440273600@www.bcmagazine.net
SUMMARY:EEG 15th Anniversary Glamorous Concert In Macao
DESCRIPTION:EEG 15th Anniversary Glamorous Concert In Macao\nJoey Yung\, Twins\, Leo Ku\, Hins Cheung\, Raymond Lam\, Sherman Chung\, Vincy\, William Chan\, Ken Hung\, Mag Lam\, Jay Fung\, Steven Cheung\, Deep Ng\, Alex\, Adason Lo\, Angela Hui\, Lillian Chan\, Jim Chim\nWhen: 8pm\, 22 August\, 2015\nWhere: CotaiArena\nTickets: $1\,280\, $880\, $680\, $480\, $280 from HKTicketing
URL:https://www.bcmagazine.net/event/eeg-15th-anniversary-glamorous-concert-in-macao/
LOCATION:CotaiArena\, Venetian Macao\, Taipa\, Macau
CATEGORIES:2015,Concert,Macau,Music
GEO:22.1483528;113.5602019
X-APPLE-STRUCTURED-LOCATION;VALUE=URI;X-ADDRESS=CotaiArena Venetian Macao Taipa Macau;X-APPLE-RADIUS=500;X-TITLE=Venetian Macao:geo:113.5602019,22.1483528
END:VEVENT
END:VCALENDAR