BEGIN:VCALENDAR
VERSION:2.0
PRODID:-//bc magazine - ECPv6.15.20//NONSGML v1.0//EN
CALSCALE:GREGORIAN
METHOD:PUBLISH
X-ORIGINAL-URL:https://www.bcmagazine.net
X-WR-CALDESC:Events for bc magazine
REFRESH-INTERVAL;VALUE=DURATION:PT1H
X-Robots-Tag:noindex
X-PUBLISHED-TTL:PT1H
BEGIN:VTIMEZONE
TZID:Asia/Hong_Kong
BEGIN:STANDARD
TZOFFSETFROM:+0800
TZOFFSETTO:+0800
TZNAME:HKT
DTSTART:20140101T000000
END:STANDARD
END:VTIMEZONE
BEGIN:VEVENT
DTSTART;VALUE=DATE:20150925
DTEND;VALUE=DATE:20150927
DTSTAMP:20260422T053618
CREATED:20150523T113006Z
LAST-MODIFIED:20150623T113340Z
UID:10005894-1443139200-1443311999@www.bcmagazine.net
SUMMARY:Bon Jovi Live in Macau
DESCRIPTION:Bon Jovi Live in Macau\nDate: 8pm\, 25-26 September\, 2015\nVenue: CotaiArena\nTickets: $3\,580\, $2\,280\, $1\,480\, $1\,180\, $880\, $580 from HKTicketing
URL:https://www.bcmagazine.net/event/bon-jovi-live-in-macau/
LOCATION:CotaiArena\, Venetian Macao\, Taipa\, Macau
CATEGORIES:2015,Concert,Macau,Music
GEO:22.1483528;113.5602019
X-APPLE-STRUCTURED-LOCATION;VALUE=URI;X-ADDRESS=CotaiArena Venetian Macao Taipa Macau;X-APPLE-RADIUS=500;X-TITLE=Venetian Macao:geo:113.5602019,22.1483528
END:VEVENT
END:VCALENDAR