BEGIN:VCALENDAR
VERSION:2.0
PRODID:-//bc magazine - ECPv6.15.20//NONSGML v1.0//EN
CALSCALE:GREGORIAN
METHOD:PUBLISH
X-WR-CALNAME:bc magazine
X-ORIGINAL-URL:https://www.bcmagazine.net
X-WR-CALDESC:Events for bc magazine
REFRESH-INTERVAL;VALUE=DURATION:PT1H
X-Robots-Tag:noindex
X-PUBLISHED-TTL:PT1H
BEGIN:VTIMEZONE
TZID:Asia/Hong_Kong
BEGIN:STANDARD
TZOFFSETFROM:+0800
TZOFFSETTO:+0800
TZNAME:HKT
DTSTART:20150101T000000
END:STANDARD
END:VTIMEZONE
BEGIN:VEVENT
DTSTART;TZID=Asia/Hong_Kong:20160528T200000
DTEND;TZID=Asia/Hong_Kong:20160528T200000
DTSTAMP:20260423T180916
CREATED:19160415T055135Z
LAST-MODIFIED:20160415T055527Z
UID:10001582-1464465600-1464465600@www.bcmagazine.net
SUMMARY:Super Junior
DESCRIPTION:Super Junior – Super Camp\nDate: 8pm\, 28 May\, 2016\nVenue: Studio City\, Macau\nTickets: MOP$1\,580\, $1\,380\, $880\, $580 from HKTicketing
URL:https://www.bcmagazine.net/event/super-junior-macau-2016/
LOCATION:Studio City\, Estrada do Istmo\, Cotai\, Macau
CATEGORIES:2016,Concert,Macau,Music
GEO:22.1397693;113.5632663
X-APPLE-STRUCTURED-LOCATION;VALUE=URI;X-ADDRESS=Studio City Estrada do Istmo Cotai Macau;X-APPLE-RADIUS=500;X-TITLE=Estrada do Istmo:geo:113.5632663,22.1397693
END:VEVENT
BEGIN:VEVENT
DTSTART;TZID=Asia/Hong_Kong:20160528T200000
DTEND;TZID=Asia/Hong_Kong:20160528T200000
DTSTAMP:20260423T180916
CREATED:19160525T080526Z
LAST-MODIFIED:20160525T081052Z
UID:10001609-1464465600-1464465600@www.bcmagazine.net
SUMMARY:Hacken Lee + Joey Yung
DESCRIPTION:Hacken Lee + Joey Yung Around the World Live in Macau\nDate: 8pm\, 28 May\, 2016\nVenue: CotaiArena\, Macau\nTickets: $1\,280\, $1\,080\, $780\, $480\, $280 from HKTicketing
URL:https://www.bcmagazine.net/event/hacken-lee-joey-yung-macau-2016/
LOCATION:CotaiArena\, Venetian Macao\, Taipa\, Macau
CATEGORIES:2016,Concert,Macau,Music
GEO:22.1483528;113.5602019
X-APPLE-STRUCTURED-LOCATION;VALUE=URI;X-ADDRESS=CotaiArena Venetian Macao Taipa Macau;X-APPLE-RADIUS=500;X-TITLE=Venetian Macao:geo:113.5602019,22.1483528
END:VEVENT
END:VCALENDAR