BEGIN:VCALENDAR
VERSION:2.0
PRODID:-//bc magazine - ECPv6.15.20//NONSGML v1.0//EN
CALSCALE:GREGORIAN
METHOD:PUBLISH
X-WR-CALNAME:bc magazine
X-ORIGINAL-URL:https://www.bcmagazine.net
X-WR-CALDESC:Events for bc magazine
REFRESH-INTERVAL;VALUE=DURATION:PT1H
X-Robots-Tag:noindex
X-PUBLISHED-TTL:PT1H
BEGIN:VTIMEZONE
TZID:Asia/Hong_Kong
BEGIN:STANDARD
TZOFFSETFROM:+0800
TZOFFSETTO:+0800
TZNAME:HKT
DTSTART:20150101T000000
END:STANDARD
END:VTIMEZONE
BEGIN:VEVENT
DTSTART;TZID=Asia/Hong_Kong:20160722T200000
DTEND;TZID=Asia/Hong_Kong:20160722T200000
DTSTAMP:20260422T015810
CREATED:19160525T081121Z
LAST-MODIFIED:20160525T083605Z
UID:10001610-1469217600-1469217600@www.bcmagazine.net
SUMMARY:Shrek
DESCRIPTION:Shrek The Musical\nDate: 22 July – 7 August\, 2016\nVenue: Venetian Theatre\, Macau\nTickets: $780\, $580\, $380\, $180 from HKTicketing\nMore info:\nMon: No Show; Tue – Fri: 8pm; Sat: 2pm & 8pm; Sun: 1pm & 6pm
URL:https://www.bcmagazine.net/event/shrek-musical-macau-2016/2016-07-22/
LOCATION:The Venetian Theatre\, Venetian Macao\, Taipa\, Macau
CATEGORIES:2016,Macau,Musical
GEO:22.1483528;113.5602019
X-APPLE-STRUCTURED-LOCATION;VALUE=URI;X-ADDRESS=The Venetian Theatre Venetian Macao Taipa Macau;X-APPLE-RADIUS=500;X-TITLE=Venetian Macao:geo:113.5602019,22.1483528
END:VEVENT
BEGIN:VEVENT
DTSTART;TZID=Asia/Hong_Kong:20160723T200000
DTEND;TZID=Asia/Hong_Kong:20160723T200000
DTSTAMP:20260422T015810
CREATED:19160525T081121Z
LAST-MODIFIED:20160525T083605Z
UID:10001611-1469304000-1469304000@www.bcmagazine.net
SUMMARY:Shrek
DESCRIPTION:Shrek The Musical\nDate: 22 July – 7 August\, 2016\nVenue: Venetian Theatre\, Macau\nTickets: $780\, $580\, $380\, $180 from HKTicketing\nMore info:\nMon: No Show; Tue – Fri: 8pm; Sat: 2pm & 8pm; Sun: 1pm & 6pm
URL:https://www.bcmagazine.net/event/shrek-musical-macau-2016/2016-07-23/
LOCATION:The Venetian Theatre\, Venetian Macao\, Taipa\, Macau
CATEGORIES:2016,Macau,Musical
GEO:22.1483528;113.5602019
X-APPLE-STRUCTURED-LOCATION;VALUE=URI;X-ADDRESS=The Venetian Theatre Venetian Macao Taipa Macau;X-APPLE-RADIUS=500;X-TITLE=Venetian Macao:geo:113.5602019,22.1483528
END:VEVENT
BEGIN:VEVENT
DTSTART;TZID=Asia/Hong_Kong:20160724T200000
DTEND;TZID=Asia/Hong_Kong:20160724T200000
DTSTAMP:20260422T015810
CREATED:20230114T085530Z
LAST-MODIFIED:20230114T085530Z
UID:10001622-1469390400-1469390400@www.bcmagazine.net
SUMMARY:Shrek
DESCRIPTION:Shrek The Musical\nDate: 22 July – 7 August\, 2016\nVenue: Venetian Theatre\, Macau\nTickets: $780\, $580\, $380\, $180 from HKTicketing\nMore info:\nMon: No Show; Tue – Fri: 8pm; Sat: 2pm & 8pm; Sun: 1pm & 6pm
URL:https://www.bcmagazine.net/event/shrek-musical-macau-2016/2016-07-24/
LOCATION:The Venetian Theatre\, Venetian Macao\, Taipa\, Macau
CATEGORIES:2016,Macau,Musical
GEO:22.1483528;113.5602019
X-APPLE-STRUCTURED-LOCATION;VALUE=URI;X-ADDRESS=The Venetian Theatre Venetian Macao Taipa Macau;X-APPLE-RADIUS=500;X-TITLE=Venetian Macao:geo:113.5602019,22.1483528
END:VEVENT
END:VCALENDAR