BEGIN:VCALENDAR
VERSION:2.0
PRODID:-//bc magazine - ECPv6.15.20//NONSGML v1.0//EN
CALSCALE:GREGORIAN
METHOD:PUBLISH
X-WR-CALNAME:bc magazine
X-ORIGINAL-URL:https://www.bcmagazine.net
X-WR-CALDESC:Events for bc magazine
REFRESH-INTERVAL;VALUE=DURATION:PT1H
X-Robots-Tag:noindex
X-PUBLISHED-TTL:PT1H
BEGIN:VTIMEZONE
TZID:Asia/Hong_Kong
BEGIN:STANDARD
TZOFFSETFROM:+0800
TZOFFSETTO:+0800
TZNAME:HKT
DTSTART:20150101T000000
END:STANDARD
END:VTIMEZONE
BEGIN:VEVENT
DTSTART;TZID=Asia/Hong_Kong:20160802T200000
DTEND;TZID=Asia/Hong_Kong:20160802T200000
DTSTAMP:20260422T160147
CREATED:19160525T081121Z
LAST-MODIFIED:20160525T083605Z
UID:10001617-1470168000-1470168000@www.bcmagazine.net
SUMMARY:Shrek
DESCRIPTION:Shrek The Musical\nDate: 22 July – 7 August\, 2016\nVenue: Venetian Theatre\, Macau\nTickets: $780\, $580\, $380\, $180 from HKTicketing\nMore info:\nMon: No Show; Tue – Fri: 8pm; Sat: 2pm & 8pm; Sun: 1pm & 6pm
URL:https://www.bcmagazine.net/event/shrek-musical-macau-2016/2016-08-02/
LOCATION:The Venetian Theatre\, Venetian Macao\, Taipa\, Macau
CATEGORIES:2016,Macau,Musical
GEO:22.1483528;113.5602019
X-APPLE-STRUCTURED-LOCATION;VALUE=URI;X-ADDRESS=The Venetian Theatre Venetian Macao Taipa Macau;X-APPLE-RADIUS=500;X-TITLE=Venetian Macao:geo:113.5602019,22.1483528
END:VEVENT
BEGIN:VEVENT
DTSTART;TZID=Asia/Hong_Kong:20160803T200000
DTEND;TZID=Asia/Hong_Kong:20160803T200000
DTSTAMP:20260422T160147
CREATED:19160525T081121Z
LAST-MODIFIED:20160525T083605Z
UID:10001618-1470254400-1470254400@www.bcmagazine.net
SUMMARY:Shrek
DESCRIPTION:Shrek The Musical\nDate: 22 July – 7 August\, 2016\nVenue: Venetian Theatre\, Macau\nTickets: $780\, $580\, $380\, $180 from HKTicketing\nMore info:\nMon: No Show; Tue – Fri: 8pm; Sat: 2pm & 8pm; Sun: 1pm & 6pm
URL:https://www.bcmagazine.net/event/shrek-musical-macau-2016/2016-08-03/
LOCATION:The Venetian Theatre\, Venetian Macao\, Taipa\, Macau
CATEGORIES:2016,Macau,Musical
GEO:22.1483528;113.5602019
X-APPLE-STRUCTURED-LOCATION;VALUE=URI;X-ADDRESS=The Venetian Theatre Venetian Macao Taipa Macau;X-APPLE-RADIUS=500;X-TITLE=Venetian Macao:geo:113.5602019,22.1483528
END:VEVENT
BEGIN:VEVENT
DTSTART;TZID=Asia/Hong_Kong:20160804T200000
DTEND;TZID=Asia/Hong_Kong:20160804T200000
DTSTAMP:20260422T160147
CREATED:19160525T081121Z
LAST-MODIFIED:20160525T083605Z
UID:10001619-1470340800-1470340800@www.bcmagazine.net
SUMMARY:Shrek
DESCRIPTION:Shrek The Musical\nDate: 22 July – 7 August\, 2016\nVenue: Venetian Theatre\, Macau\nTickets: $780\, $580\, $380\, $180 from HKTicketing\nMore info:\nMon: No Show; Tue – Fri: 8pm; Sat: 2pm & 8pm; Sun: 1pm & 6pm
URL:https://www.bcmagazine.net/event/shrek-musical-macau-2016/2016-08-04/
LOCATION:The Venetian Theatre\, Venetian Macao\, Taipa\, Macau
CATEGORIES:2016,Macau,Musical
GEO:22.1483528;113.5602019
X-APPLE-STRUCTURED-LOCATION;VALUE=URI;X-ADDRESS=The Venetian Theatre Venetian Macao Taipa Macau;X-APPLE-RADIUS=500;X-TITLE=Venetian Macao:geo:113.5602019,22.1483528
END:VEVENT
BEGIN:VEVENT
DTSTART;TZID=Asia/Hong_Kong:20160805T200000
DTEND;TZID=Asia/Hong_Kong:20160805T200000
DTSTAMP:20260422T160147
CREATED:19160525T081121Z
LAST-MODIFIED:20160525T083605Z
UID:10001620-1470427200-1470427200@www.bcmagazine.net
SUMMARY:Shrek
DESCRIPTION:Shrek The Musical\nDate: 22 July – 7 August\, 2016\nVenue: Venetian Theatre\, Macau\nTickets: $780\, $580\, $380\, $180 from HKTicketing\nMore info:\nMon: No Show; Tue – Fri: 8pm; Sat: 2pm & 8pm; Sun: 1pm & 6pm
URL:https://www.bcmagazine.net/event/shrek-musical-macau-2016/2016-08-05/
LOCATION:The Venetian Theatre\, Venetian Macao\, Taipa\, Macau
CATEGORIES:2016,Macau,Musical
GEO:22.1483528;113.5602019
X-APPLE-STRUCTURED-LOCATION;VALUE=URI;X-ADDRESS=The Venetian Theatre Venetian Macao Taipa Macau;X-APPLE-RADIUS=500;X-TITLE=Venetian Macao:geo:113.5602019,22.1483528
END:VEVENT
BEGIN:VEVENT
DTSTART;TZID=Asia/Hong_Kong:20160806T200000
DTEND;TZID=Asia/Hong_Kong:20160806T200000
DTSTAMP:20260422T160147
CREATED:19160525T081121Z
LAST-MODIFIED:20160525T083605Z
UID:10001621-1470513600-1470513600@www.bcmagazine.net
SUMMARY:Shrek
DESCRIPTION:Shrek The Musical\nDate: 22 July – 7 August\, 2016\nVenue: Venetian Theatre\, Macau\nTickets: $780\, $580\, $380\, $180 from HKTicketing\nMore info:\nMon: No Show; Tue – Fri: 8pm; Sat: 2pm & 8pm; Sun: 1pm & 6pm
URL:https://www.bcmagazine.net/event/shrek-musical-macau-2016/2016-08-06/
LOCATION:The Venetian Theatre\, Venetian Macao\, Taipa\, Macau
CATEGORIES:2016,Macau,Musical
GEO:22.1483528;113.5602019
X-APPLE-STRUCTURED-LOCATION;VALUE=URI;X-ADDRESS=The Venetian Theatre Venetian Macao Taipa Macau;X-APPLE-RADIUS=500;X-TITLE=Venetian Macao:geo:113.5602019,22.1483528
END:VEVENT
BEGIN:VEVENT
DTSTART;TZID=Asia/Hong_Kong:20160807T200000
DTEND;TZID=Asia/Hong_Kong:20160807T200000
DTSTAMP:20260422T160147
CREATED:20230114T085530Z
LAST-MODIFIED:20230114T085530Z
UID:10001624-1470600000-1470600000@www.bcmagazine.net
SUMMARY:Shrek
DESCRIPTION:Shrek The Musical\nDate: 22 July – 7 August\, 2016\nVenue: Venetian Theatre\, Macau\nTickets: $780\, $580\, $380\, $180 from HKTicketing\nMore info:\nMon: No Show; Tue – Fri: 8pm; Sat: 2pm & 8pm; Sun: 1pm & 6pm
URL:https://www.bcmagazine.net/event/shrek-musical-macau-2016/2016-08-07/
LOCATION:The Venetian Theatre\, Venetian Macao\, Taipa\, Macau
CATEGORIES:2016,Macau,Musical
GEO:22.1483528;113.5602019
X-APPLE-STRUCTURED-LOCATION;VALUE=URI;X-ADDRESS=The Venetian Theatre Venetian Macao Taipa Macau;X-APPLE-RADIUS=500;X-TITLE=Venetian Macao:geo:113.5602019,22.1483528
END:VEVENT
END:VCALENDAR