BEGIN:VCALENDAR
VERSION:2.0
PRODID:-//bc magazine - ECPv6.15.20//NONSGML v1.0//EN
CALSCALE:GREGORIAN
METHOD:PUBLISH
X-WR-CALNAME:bc magazine
X-ORIGINAL-URL:https://www.bcmagazine.net
X-WR-CALDESC:Events for bc magazine
REFRESH-INTERVAL;VALUE=DURATION:PT1H
X-Robots-Tag:noindex
X-PUBLISHED-TTL:PT1H
BEGIN:VTIMEZONE
TZID:Asia/Hong_Kong
BEGIN:STANDARD
TZOFFSETFROM:+0800
TZOFFSETTO:+0800
TZNAME:HKT
DTSTART:20150101T000000
END:STANDARD
END:VTIMEZONE
BEGIN:VEVENT
DTSTART;TZID=Asia/Hong_Kong:20160919T130000
DTEND;TZID=Asia/Hong_Kong:20160919T200000
DTSTAMP:20260423T105045
CREATED:19160906T150024Z
LAST-MODIFIED:20160909T024627Z
UID:10000754-1474290000-1474315200@www.bcmagazine.net
SUMMARY:MGM Macau Oktoberfest
DESCRIPTION:MGM Macau Oktoberfest\nDate: 1-8pm\, 12 September – 23 October\, 2016\nVenue: MGM Macau\nTickets: $16o
URL:https://www.bcmagazine.net/event/mgm-macau-oktoberfest-2016/2016-09-19/
LOCATION:Hong Kong
CATEGORIES:2016,Food,Macau,Nightlife
END:VEVENT
BEGIN:VEVENT
DTSTART;TZID=Asia/Hong_Kong:20160920T130000
DTEND;TZID=Asia/Hong_Kong:20160920T200000
DTSTAMP:20260423T105045
CREATED:19160906T150024Z
LAST-MODIFIED:20160909T024627Z
UID:10000755-1474376400-1474401600@www.bcmagazine.net
SUMMARY:MGM Macau Oktoberfest
DESCRIPTION:MGM Macau Oktoberfest\nDate: 1-8pm\, 12 September – 23 October\, 2016\nVenue: MGM Macau\nTickets: $16o
URL:https://www.bcmagazine.net/event/mgm-macau-oktoberfest-2016/2016-09-20/
LOCATION:Hong Kong
CATEGORIES:2016,Food,Macau,Nightlife
END:VEVENT
BEGIN:VEVENT
DTSTART;TZID=Asia/Hong_Kong:20160921T130000
DTEND;TZID=Asia/Hong_Kong:20160921T200000
DTSTAMP:20260423T105045
CREATED:19160906T150024Z
LAST-MODIFIED:20160909T024627Z
UID:10000756-1474462800-1474488000@www.bcmagazine.net
SUMMARY:MGM Macau Oktoberfest
DESCRIPTION:MGM Macau Oktoberfest\nDate: 1-8pm\, 12 September – 23 October\, 2016\nVenue: MGM Macau\nTickets: $16o
URL:https://www.bcmagazine.net/event/mgm-macau-oktoberfest-2016/2016-09-21/
LOCATION:Hong Kong
CATEGORIES:2016,Food,Macau,Nightlife
END:VEVENT
BEGIN:VEVENT
DTSTART;TZID=Asia/Hong_Kong:20160922T130000
DTEND;TZID=Asia/Hong_Kong:20160922T200000
DTSTAMP:20260423T105045
CREATED:19160906T150024Z
LAST-MODIFIED:20160909T024627Z
UID:10000757-1474549200-1474574400@www.bcmagazine.net
SUMMARY:MGM Macau Oktoberfest
DESCRIPTION:MGM Macau Oktoberfest\nDate: 1-8pm\, 12 September – 23 October\, 2016\nVenue: MGM Macau\nTickets: $16o
URL:https://www.bcmagazine.net/event/mgm-macau-oktoberfest-2016/2016-09-22/
LOCATION:Hong Kong
CATEGORIES:2016,Food,Macau,Nightlife
END:VEVENT
BEGIN:VEVENT
DTSTART;TZID=Asia/Hong_Kong:20160923T130000
DTEND;TZID=Asia/Hong_Kong:20160923T200000
DTSTAMP:20260423T105045
CREATED:19160906T150024Z
LAST-MODIFIED:20160909T024627Z
UID:10000758-1474635600-1474660800@www.bcmagazine.net
SUMMARY:MGM Macau Oktoberfest
DESCRIPTION:MGM Macau Oktoberfest\nDate: 1-8pm\, 12 September – 23 October\, 2016\nVenue: MGM Macau\nTickets: $16o
URL:https://www.bcmagazine.net/event/mgm-macau-oktoberfest-2016/2016-09-23/
LOCATION:Hong Kong
CATEGORIES:2016,Food,Macau,Nightlife
END:VEVENT
BEGIN:VEVENT
DTSTART;TZID=Asia/Hong_Kong:20160924T130000
DTEND;TZID=Asia/Hong_Kong:20160924T200000
DTSTAMP:20260423T105045
CREATED:19160906T150024Z
LAST-MODIFIED:20160909T024627Z
UID:10000759-1474722000-1474747200@www.bcmagazine.net
SUMMARY:MGM Macau Oktoberfest
DESCRIPTION:MGM Macau Oktoberfest\nDate: 1-8pm\, 12 September – 23 October\, 2016\nVenue: MGM Macau\nTickets: $16o
URL:https://www.bcmagazine.net/event/mgm-macau-oktoberfest-2016/2016-09-24/
LOCATION:Hong Kong
CATEGORIES:2016,Food,Macau,Nightlife
END:VEVENT
BEGIN:VEVENT
DTSTART;TZID=Asia/Hong_Kong:20160925T130000
DTEND;TZID=Asia/Hong_Kong:20160925T200000
DTSTAMP:20260423T105045
CREATED:19160906T150024Z
LAST-MODIFIED:20160909T024627Z
UID:10000760-1474808400-1474833600@www.bcmagazine.net
SUMMARY:MGM Macau Oktoberfest
DESCRIPTION:MGM Macau Oktoberfest\nDate: 1-8pm\, 12 September – 23 October\, 2016\nVenue: MGM Macau\nTickets: $16o
URL:https://www.bcmagazine.net/event/mgm-macau-oktoberfest-2016/2016-09-25/
LOCATION:Hong Kong
CATEGORIES:2016,Food,Macau,Nightlife
END:VEVENT
END:VCALENDAR