BEGIN:VCALENDAR
VERSION:2.0
PRODID:-//bc magazine - ECPv6.15.20//NONSGML v1.0//EN
CALSCALE:GREGORIAN
METHOD:PUBLISH
X-WR-CALNAME:bc magazine
X-ORIGINAL-URL:https://www.bcmagazine.net
X-WR-CALDESC:Events for bc magazine
REFRESH-INTERVAL;VALUE=DURATION:PT1H
X-Robots-Tag:noindex
X-PUBLISHED-TTL:PT1H
BEGIN:VTIMEZONE
TZID:Asia/Hong_Kong
BEGIN:STANDARD
TZOFFSETFROM:+0800
TZOFFSETTO:+0800
TZNAME:HKT
DTSTART:20150101T000000
END:STANDARD
END:VTIMEZONE
BEGIN:VEVENT
DTSTART;VALUE=DATE:20161129
DTEND;VALUE=DATE:20161205
DTSTAMP:20260422T042513
CREATED:19161017T172049Z
LAST-MODIFIED:20161017T172412Z
UID:10000903-1480377600-1480895999@www.bcmagazine.net
SUMMARY:Macau Open Badminton
DESCRIPTION:Macau Open Badminton\nDate: 29 November – 4 December\, 2016\nVenue: Tap Seac Multisport Pavilion Macau\nTickets: $400\, $150 from MacauTicket
URL:https://www.bcmagazine.net/event/macau-open-badminton-2016/
LOCATION:Tap Seac Multisport Pavilion\, Av. Conselheiro Ferreira de Almeida\, no.95\, Macau
CATEGORIES:2016,Macau,Sport
GEO:22.198933;113.5470855
X-APPLE-STRUCTURED-LOCATION;VALUE=URI;X-ADDRESS=Tap Seac Multisport Pavilion Av. Conselheiro Ferreira de Almeida no.95 Macau;X-APPLE-RADIUS=500;X-TITLE=Av. Conselheiro Ferreira de Almeida\, no.95:geo:113.5470855,22.198933
END:VEVENT
BEGIN:VEVENT
DTSTART;TZID=Asia/Hong_Kong:20161202T200000
DTEND;TZID=Asia/Hong_Kong:20161202T200000
DTSTAMP:20260422T042513
CREATED:19161017T173617Z
LAST-MODIFIED:20161023T094115Z
UID:10002272-1480708800-1480708800@www.bcmagazine.net
SUMMARY:Love & Information 2016
DESCRIPTION:Love & Information\nMacau Experimental Theatre\nDate: 8pm\, 2-4\, 7-9 December\, 2016\nVenue: Old Court Building\nTickets: $160 from MacauTicket
URL:https://www.bcmagazine.net/event/love-information-2016/2016-12-02/
LOCATION:Old Court Building\, Avenida da Praia Grande\, Macau
CATEGORIES:2016,Macau,Performing Arts,Theatre
GEO:22.1917797;113.5403743
X-APPLE-STRUCTURED-LOCATION;VALUE=URI;X-ADDRESS=Old Court Building Avenida da Praia Grande Macau;X-APPLE-RADIUS=500;X-TITLE=Avenida da Praia Grande:geo:113.5403743,22.1917797
END:VEVENT
BEGIN:VEVENT
DTSTART;TZID=Asia/Hong_Kong:20161202T200000
DTEND;TZID=Asia/Hong_Kong:20161202T200000
DTSTAMP:20260422T042513
CREATED:19161119T144056Z
LAST-MODIFIED:20161119T145146Z
UID:10000987-1480708800-1480708800@www.bcmagazine.net
SUMMARY:Picnic in the Cemetery
DESCRIPTION:A picnic in a cemetery? Perhaps not the most obvious choice. But why not? We are all heading there eventually anyway. Though by then\, whether we can actually enjoy a picnic remains the greatest mystery\, so why not enjoy it now? \nAt once romantic\, filmic\, visceral\, and nostalgic\, this first-ever Macau original concert-theatre received a five stars review from British Theatre Guide during its run at the Edinburgh Fringe Festival\, citing it as a “must experience” show. This new 2016 version at the Macau Cultural Centre with new staging and additional music promises to offer to the audience another “euphoric assault on the senses”. \nPicnic in the Cemetery\nWhen: 2-3 December\, 2016\nWhere: Macau Cultural Centre\, Small Auditorium\nHow much: $180 from MacauTicket
URL:https://www.bcmagazine.net/event/picnic-in-a-cemetery/2016-12-02/
LOCATION:Macao Cultural Centre\, Small Auditorium\, Macau
CATEGORIES:2016,Macau,Performing Arts,Theatre
END:VEVENT
BEGIN:VEVENT
DTSTART;TZID=Asia/Hong_Kong:20161203T200000
DTEND;TZID=Asia/Hong_Kong:20161203T200000
DTSTAMP:20260422T042513
CREATED:19161017T173617Z
LAST-MODIFIED:20161023T094115Z
UID:10002273-1480795200-1480795200@www.bcmagazine.net
SUMMARY:Love & Information 2016
DESCRIPTION:Love & Information\nMacau Experimental Theatre\nDate: 8pm\, 2-4\, 7-9 December\, 2016\nVenue: Old Court Building\nTickets: $160 from MacauTicket
URL:https://www.bcmagazine.net/event/love-information-2016/2016-12-03/
LOCATION:Old Court Building\, Avenida da Praia Grande\, Macau
CATEGORIES:2016,Macau,Performing Arts,Theatre
GEO:22.1917797;113.5403743
X-APPLE-STRUCTURED-LOCATION;VALUE=URI;X-ADDRESS=Old Court Building Avenida da Praia Grande Macau;X-APPLE-RADIUS=500;X-TITLE=Avenida da Praia Grande:geo:113.5403743,22.1917797
END:VEVENT
BEGIN:VEVENT
DTSTART;TZID=Asia/Hong_Kong:20161203T200000
DTEND;TZID=Asia/Hong_Kong:20161203T200000
DTSTAMP:20260422T042513
CREATED:19161119T140056Z
LAST-MODIFIED:20161119T140655Z
UID:10000984-1480795200-1480795200@www.bcmagazine.net
SUMMARY:Jan Lamb
DESCRIPTION:Jan Lamb\nWhen: 8pm\, 3 December\, 2016\nWhere: Cotai Arena\nHow much: $880\, $680\, $480\, $280 from HKTicketing
URL:https://www.bcmagazine.net/event/jan-lamb-macau-2016/
LOCATION:CotaiArena\, Venetian Macao\, Taipa\, Macau
CATEGORIES:2016,Comedy,Macau,Performing Arts
GEO:22.1483528;113.5602019
X-APPLE-STRUCTURED-LOCATION;VALUE=URI;X-ADDRESS=CotaiArena Venetian Macao Taipa Macau;X-APPLE-RADIUS=500;X-TITLE=Venetian Macao:geo:113.5602019,22.1483528
END:VEVENT
BEGIN:VEVENT
DTSTART;TZID=Asia/Hong_Kong:20161203T200000
DTEND;TZID=Asia/Hong_Kong:20161203T200000
DTSTAMP:20260422T042513
CREATED:19161119T144056Z
LAST-MODIFIED:20161119T145146Z
UID:10000988-1480795200-1480795200@www.bcmagazine.net
SUMMARY:Picnic in the Cemetery
DESCRIPTION:A picnic in a cemetery? Perhaps not the most obvious choice. But why not? We are all heading there eventually anyway. Though by then\, whether we can actually enjoy a picnic remains the greatest mystery\, so why not enjoy it now? \nAt once romantic\, filmic\, visceral\, and nostalgic\, this first-ever Macau original concert-theatre received a five stars review from British Theatre Guide during its run at the Edinburgh Fringe Festival\, citing it as a “must experience” show. This new 2016 version at the Macau Cultural Centre with new staging and additional music promises to offer to the audience another “euphoric assault on the senses”. \nPicnic in the Cemetery\nWhen: 2-3 December\, 2016\nWhere: Macau Cultural Centre\, Small Auditorium\nHow much: $180 from MacauTicket
URL:https://www.bcmagazine.net/event/picnic-in-a-cemetery/2016-12-03/
LOCATION:Macao Cultural Centre\, Small Auditorium\, Macau
CATEGORIES:2016,Macau,Performing Arts,Theatre
END:VEVENT
BEGIN:VEVENT
DTSTART;TZID=Asia/Hong_Kong:20161204T200000
DTEND;TZID=Asia/Hong_Kong:20161204T200000
DTSTAMP:20260422T042513
CREATED:19161017T173617Z
LAST-MODIFIED:20161023T094115Z
UID:10002274-1480881600-1480881600@www.bcmagazine.net
SUMMARY:Love & Information 2016
DESCRIPTION:Love & Information\nMacau Experimental Theatre\nDate: 8pm\, 2-4\, 7-9 December\, 2016\nVenue: Old Court Building\nTickets: $160 from MacauTicket
URL:https://www.bcmagazine.net/event/love-information-2016/2016-12-04/
LOCATION:Old Court Building\, Avenida da Praia Grande\, Macau
CATEGORIES:2016,Macau,Performing Arts,Theatre
GEO:22.1917797;113.5403743
X-APPLE-STRUCTURED-LOCATION;VALUE=URI;X-ADDRESS=Old Court Building Avenida da Praia Grande Macau;X-APPLE-RADIUS=500;X-TITLE=Avenida da Praia Grande:geo:113.5403743,22.1917797
END:VEVENT
END:VCALENDAR