BEGIN:VCALENDAR
VERSION:2.0
PRODID:-//bc magazine - ECPv6.15.20//NONSGML v1.0//EN
CALSCALE:GREGORIAN
METHOD:PUBLISH
X-WR-CALNAME:bc magazine
X-ORIGINAL-URL:https://www.bcmagazine.net
X-WR-CALDESC:Events for bc magazine
REFRESH-INTERVAL;VALUE=DURATION:PT1H
X-Robots-Tag:noindex
X-PUBLISHED-TTL:PT1H
BEGIN:VTIMEZONE
TZID:Asia/Hong_Kong
BEGIN:STANDARD
TZOFFSETFROM:+0800
TZOFFSETTO:+0800
TZNAME:HKT
DTSTART:20160101T000000
END:STANDARD
END:VTIMEZONE
BEGIN:VEVENT
DTSTART;TZID=Asia/Hong_Kong:20170217T210000
DTEND;TZID=Asia/Hong_Kong:20170217T210000
DTSTAMP:20260423T234238
CREATED:19161228T133142Z
LAST-MODIFIED:20161228T134704Z
UID:10002423-1487365200-1487365200@www.bcmagazine.net
SUMMARY:Butterflies in the Spring Breeze
DESCRIPTION:Butterflies in the Spring Breeze\nOpen Box 2017\, Harry Ng\nDate: 9pm\, 17-18 February\, 2017\nVenue: .Art\nTickets: $120 from MacauTicket
URL:https://www.bcmagazine.net/event/butterflies-in-the-spring-breeze-open-box-2017/2017-02-17/
LOCATION:.Art\, Macau
CATEGORIES:2017,Cultural Festival,Macau,Performing Arts
GEO:22.198745;113.543873
END:VEVENT
BEGIN:VEVENT
DTSTART;TZID=Asia/Hong_Kong:20170218T200000
DTEND;TZID=Asia/Hong_Kong:20170218T200000
DTSTAMP:20260423T234238
CREATED:19161228T133142Z
LAST-MODIFIED:20161228T133652Z
UID:10002421-1487448000-1487448000@www.bcmagazine.net
SUMMARY:Echoes of Our Times
DESCRIPTION:Echoes of Our Times\nOpen Box 2017\, Chan Si Kei\, Chan Chi Cheng\, Chi Po Hao\nDate: 8pm\, 18-19 February\, 2017\nVenue: Macau Cultural Centre\, Small Auditorium\nTickets: $120 from MacauTicket
URL:https://www.bcmagazine.net/event/echoes-of-our-times-open-box-2017/2017-02-18/
LOCATION:Macao Cultural Centre\, Small Auditorium\, Macau
CATEGORIES:2017,Cultural Festival,Macau,Performing Arts
END:VEVENT
BEGIN:VEVENT
DTSTART;TZID=Asia/Hong_Kong:20170218T200000
DTEND;TZID=Asia/Hong_Kong:20170218T200000
DTSTAMP:20260423T234238
CREATED:20170201T034516Z
LAST-MODIFIED:20170201T034516Z
UID:10006370-1487448000-1487448000@www.bcmagazine.net
SUMMARY:Running Man
DESCRIPTION:South Korean reality TV show live in Macau starring Song Ji-hyo\, Lee Kwang-soo\, Kim Jong-kook\, Ji Suk-jin\, Haha \nRunning Man\nDate: 8pm\, 18 February\, 2017\nVenue: CotaiArena\nTickets: $1\,480\, $1\,280\, $980\, $680\, $480 from HKTicketing
URL:https://www.bcmagazine.net/event/running-man-macau-2017/
LOCATION:CotaiArena\, Venetian Macao\, Taipa\, Macau
CATEGORIES:2017,Macau,Performing Arts
GEO:22.1483528;113.5602019
X-APPLE-STRUCTURED-LOCATION;VALUE=URI;X-ADDRESS=CotaiArena Venetian Macao Taipa Macau;X-APPLE-RADIUS=500;X-TITLE=Venetian Macao:geo:113.5602019,22.1483528
END:VEVENT
BEGIN:VEVENT
DTSTART;TZID=Asia/Hong_Kong:20170219T200000
DTEND;TZID=Asia/Hong_Kong:20170219T200000
DTSTAMP:20260423T234238
CREATED:19161228T122722Z
LAST-MODIFIED:20161228T123052Z
UID:10002416-1487534400-1487534400@www.bcmagazine.net
SUMMARY:Ning Feng
DESCRIPTION:Ning Feng Interprets Elgar\nMacao Orchestra\nDate: 8pm\, 19 February\, 2017\nVenue: St Dominic’s Church\nTickets: Free
URL:https://www.bcmagazine.net/event/ning-feng-macao-orchestra-2017/
LOCATION:St. Dominic’s Church\, Macau
CATEGORIES:2017,Concert,Free,Macau,Music,Performing Arts
END:VEVENT
END:VCALENDAR