BEGIN:VCALENDAR
VERSION:2.0
PRODID:-//bc magazine - ECPv6.15.20//NONSGML v1.0//EN
CALSCALE:GREGORIAN
METHOD:PUBLISH
X-WR-CALNAME:bc magazine
X-ORIGINAL-URL:https://www.bcmagazine.net
X-WR-CALDESC:Events for bc magazine
REFRESH-INTERVAL;VALUE=DURATION:PT1H
X-Robots-Tag:noindex
X-PUBLISHED-TTL:PT1H
BEGIN:VTIMEZONE
TZID:Asia/Hong_Kong
BEGIN:STANDARD
TZOFFSETFROM:+0800
TZOFFSETTO:+0800
TZNAME:HKT
DTSTART:20160101T000000
END:STANDARD
END:VTIMEZONE
BEGIN:VEVENT
DTSTART;TZID=Asia/Hong_Kong:20170722T200000
DTEND;TZID=Asia/Hong_Kong:20170722T200000
DTSTAMP:20260421T230233
CREATED:19170702T035650Z
LAST-MODIFIED:20170702T052237Z
UID:10002936-1500753600-1500753600@www.bcmagazine.net
SUMMARY:Janice Vidal
DESCRIPTION:Janice Vidal\nDate: 8pm\, 22 July\, 2017\nVenue: Cotai Arena\nTickets: $880\, $680\, $480\, $280 from HKTicketing
URL:https://www.bcmagazine.net/event/janice-vidal-macau-2017-2/
LOCATION:CotaiArena\, Venetian Macao\, Taipa\, Macau
CATEGORIES:2017,Concert,Macau,Music,Performing Arts
GEO:22.1483528;113.5602019
X-APPLE-STRUCTURED-LOCATION;VALUE=URI;X-ADDRESS=CotaiArena Venetian Macao Taipa Macau;X-APPLE-RADIUS=500;X-TITLE=Venetian Macao:geo:113.5602019,22.1483528
END:VEVENT
END:VCALENDAR