BEGIN:VCALENDAR
VERSION:2.0
PRODID:-//bc magazine - ECPv6.15.20//NONSGML v1.0//EN
CALSCALE:GREGORIAN
METHOD:PUBLISH
X-WR-CALNAME:bc magazine
X-ORIGINAL-URL:https://www.bcmagazine.net
X-WR-CALDESC:Events for bc magazine
REFRESH-INTERVAL;VALUE=DURATION:PT1H
X-Robots-Tag:noindex
X-PUBLISHED-TTL:PT1H
BEGIN:VTIMEZONE
TZID:Asia/Hong_Kong
BEGIN:STANDARD
TZOFFSETFROM:+0800
TZOFFSETTO:+0800
TZNAME:HKT
DTSTART:20190101T000000
END:STANDARD
END:VTIMEZONE
BEGIN:VEVENT
DTSTART;TZID=Asia/Hong_Kong:20200223T200000
DTEND;TZID=Asia/Hong_Kong:20200223T200000
DTSTAMP:20260425T055613
CREATED:20150501T010812Z
LAST-MODIFIED:20191231T052808Z
UID:10005813-1582488000-1582488000@www.bcmagazine.net
SUMMARY:Andy Lau
DESCRIPTION:My Love Andy Lau World Tour\nDate: 8pm\, 23-25\, 28 February\, 2020\nVenue: HK Coliseum\nTickets: $980\, $580\, $380 from Urbtix
URL:https://www.bcmagazine.net/event/andy-lau-23-02-2020-hk/
LOCATION:HK Coliseum\, 9 Cheong Wan Road\, Hung Hom\, Hong Kong
CATEGORIES:Cantopop,Concert,Music,Performing Arts
GEO:22.3014169;114.1820305
X-APPLE-STRUCTURED-LOCATION;VALUE=URI;X-ADDRESS=HK Coliseum 9 Cheong Wan Road Hung Hom Hong Kong;X-APPLE-RADIUS=500;X-TITLE=9 Cheong Wan Road:geo:114.1820305,22.3014169
END:VEVENT
BEGIN:VEVENT
DTSTART;TZID=Asia/Hong_Kong:20200224T200000
DTEND;TZID=Asia/Hong_Kong:20200224T200000
DTSTAMP:20260425T055613
CREATED:20150501T010812Z
LAST-MODIFIED:20191231T052931Z
UID:10005814-1582574400-1582574400@www.bcmagazine.net
SUMMARY:Andy Lau
DESCRIPTION:My Love Andy Lau World Tour\nDate: 8pm\, 23-25\, 28 February\, 2020\nVenue: HK Coliseum\nTickets: $980\, $580\, $380 from Urbtix
URL:https://www.bcmagazine.net/event/andy-lau-24-02-2020-hk/
LOCATION:HK Coliseum\, 9 Cheong Wan Road\, Hung Hom\, Hong Kong
CATEGORIES:Cantopop,Concert,Music,Performing Arts
GEO:22.3014169;114.1820305
X-APPLE-STRUCTURED-LOCATION;VALUE=URI;X-ADDRESS=HK Coliseum 9 Cheong Wan Road Hung Hom Hong Kong;X-APPLE-RADIUS=500;X-TITLE=9 Cheong Wan Road:geo:114.1820305,22.3014169
END:VEVENT
BEGIN:VEVENT
DTSTART;TZID=Asia/Hong_Kong:20200225T200000
DTEND;TZID=Asia/Hong_Kong:20200225T200000
DTSTAMP:20260425T055613
CREATED:20150501T010812Z
LAST-MODIFIED:20191231T052926Z
UID:10005815-1582660800-1582660800@www.bcmagazine.net
SUMMARY:Andy Lau
DESCRIPTION:My Love Andy Lau World Tour\nDate: 8pm\, 23-25\, 28 February\, 2020\nVenue: HK Coliseum\nTickets: $980\, $580\, $380 from Urbtix
URL:https://www.bcmagazine.net/event/andy-lau-25-02-2020-hk/
LOCATION:HK Coliseum\, 9 Cheong Wan Road\, Hung Hom\, Hong Kong
CATEGORIES:Cantopop,Concert,Music,Performing Arts
GEO:22.3014169;114.1820305
X-APPLE-STRUCTURED-LOCATION;VALUE=URI;X-ADDRESS=HK Coliseum 9 Cheong Wan Road Hung Hom Hong Kong;X-APPLE-RADIUS=500;X-TITLE=9 Cheong Wan Road:geo:114.1820305,22.3014169
END:VEVENT
BEGIN:VEVENT
DTSTART;TZID=Asia/Hong_Kong:20200228T200000
DTEND;TZID=Asia/Hong_Kong:20200228T200000
DTSTAMP:20260425T055613
CREATED:20150501T010812Z
LAST-MODIFIED:20191231T052919Z
UID:10005816-1582920000-1582920000@www.bcmagazine.net
SUMMARY:Andy Lau
DESCRIPTION:My Love Andy Lau World Tour\nDate: 8pm\, 23-25\, 28 February\, 2020\nVenue: HK Coliseum\nTickets: $980\, $580\, $380 from Urbtix
URL:https://www.bcmagazine.net/event/andy-lau-28-02-2020-hk/
LOCATION:HK Coliseum\, 9 Cheong Wan Road\, Hung Hom\, Hong Kong
CATEGORIES:Cantopop,Concert,Music,Performing Arts
GEO:22.3014169;114.1820305
X-APPLE-STRUCTURED-LOCATION;VALUE=URI;X-ADDRESS=HK Coliseum 9 Cheong Wan Road Hung Hom Hong Kong;X-APPLE-RADIUS=500;X-TITLE=9 Cheong Wan Road:geo:114.1820305,22.3014169
END:VEVENT
END:VCALENDAR