BEGIN:VCALENDAR
VERSION:2.0
PRODID:-//bc magazine - ECPv6.15.20//NONSGML v1.0//EN
CALSCALE:GREGORIAN
METHOD:PUBLISH
X-WR-CALNAME:bc magazine
X-ORIGINAL-URL:https://www.bcmagazine.net
X-WR-CALDESC:Events for bc magazine
REFRESH-INTERVAL;VALUE=DURATION:PT1H
X-Robots-Tag:noindex
X-PUBLISHED-TTL:PT1H
BEGIN:VTIMEZONE
TZID:Asia/Hong_Kong
BEGIN:STANDARD
TZOFFSETFROM:+0800
TZOFFSETTO:+0800
TZNAME:HKT
DTSTART:20140101T000000
END:STANDARD
END:VTIMEZONE
BEGIN:VEVENT
DTSTART;VALUE=DATE:20150629
DTEND;VALUE=DATE:20150802
DTSTAMP:20260425T113628
CREATED:20150521T130136Z
LAST-MODIFIED:20150521T131756Z
UID:10005880-1435536000-1438473599@www.bcmagazine.net
SUMMARY:The Dream of the Red Chamber Symposium
DESCRIPTION:The San Francisco Opera has commissioned the creation of an opera based on The Dream of the Red Chamber\, the most important Chinese novel\, scheduled to have its world premiere in the fall of 2016 \nThe symposium will feature 3 events: \nRoundtable Discussion\n4:30pm – June 29\, 2015 (Monday) \nCreative Team In-depth\n4:30pm  – July 1\, 2015 (Wednesday) \nThe Dream of the Red Chamber Preview\n5:30pm – July 1\, 2015 (Wednesday) \nThe Dream of the Red Chamber Symposium\nDate: 29 June – July 1\, 2015\nVenue: Multipurpose Hall\, Cheng Yu Tung Building\, HKUST\nTickets: Free register for tickets here
URL:https://www.bcmagazine.net/event/the-dream-of-the-red-chamber-symposium/
LOCATION:Multipurpose Hall\, Cheng Yu Tung Building\, HKUST\, Multipurpose Hall\, Cheng Yu Tung Building\, HKUST\, Hong Kong
CATEGORIES:2015,Concert,concert,Free,Music,Performing Arts
GEO:22.396428;114.109497
X-APPLE-STRUCTURED-LOCATION;VALUE=URI;X-ADDRESS=Multipurpose Hall Cheng Yu Tung Building HKUST Multipurpose Hall Cheng Yu Tung Building HKUST Hong Kong;X-APPLE-RADIUS=500;X-TITLE=Multipurpose Hall\, Cheng Yu Tung Building\, HKUST:geo:114.109497,22.396428
END:VEVENT
BEGIN:VEVENT
DTSTART;TZID=Asia/Hong_Kong:20150702T200000
DTEND;TZID=Asia/Hong_Kong:20150702T220000
DTSTAMP:20260425T113628
CREATED:20150507T070558Z
LAST-MODIFIED:20150607T071019Z
UID:10005853-1435867200-1435874400@www.bcmagazine.net
SUMMARY:Oxford Gargoyles
DESCRIPTION:Oxford Gargoyles\nDate: 8pm\, 2 July\, 2015\nVenue: Fringe Club\, Fringe Upstairs\nTickets: $240
URL:https://www.bcmagazine.net/event/oxford-gargoyles/
LOCATION:Fringe Club\, Fringe Upstairs\, Central\, Hong Kong
CATEGORIES:2015,Concert,Music,Performing Arts
END:VEVENT
BEGIN:VEVENT
DTSTART;VALUE=DATE:20150703
DTEND;VALUE=DATE:20150706
DTSTAMP:20260425T113628
CREATED:20150523T044541Z
LAST-MODIFIED:20150623T045250Z
UID:10005883-1435881600-1436140799@www.bcmagazine.net
SUMMARY:Good Music @ The Fringe with Chu Pak-him & Friends
DESCRIPTION:Good Music @ The Fringe with Chu Pak-him & Friends\nDate: 8pm\, 3-5 July\, 2015\nVenue: Fringe Dairy\nTickets: $220
URL:https://www.bcmagazine.net/event/good-music-the-fringe-with-chu-pak-him-friends/
LOCATION:Fringe Club\, Fringe Dairy\, Central\, Hong Kong
CATEGORIES:2015,Concert,Music
END:VEVENT
BEGIN:VEVENT
DTSTART;TZID=Asia/Hong_Kong:20150704T200000
DTEND;TZID=Asia/Hong_Kong:20150704T230000
DTSTAMP:20260425T113628
CREATED:20150425T023443Z
LAST-MODIFIED:20150425T094520Z
UID:10005779-1436040000-1436050800@www.bcmagazine.net
SUMMARY:LiSA LiVE is Smile Always ~ Hong Kong 2015 @ MacPherson Stadium - 4 July\, 2015
DESCRIPTION:LiSA LiVE is Smile Always ~ Hong Kong 2015\nDate: 8pm\, 4 July\, 2015\nVenue: MacPherson Stadium\nTickets: $680\, $480\, $380 from Cityline
URL:https://www.bcmagazine.net/event/lisa-live-is-smile-always-hong-kong-2015-macpherson-stadium-4-july-2015/
LOCATION:MacPherson Stadium\, 38 Nelson Street\, Mongkok\, Hong Kong
CATEGORIES:Concert,concert,Music,Performing Arts
GEO:22.3188457;114.1728403
X-APPLE-STRUCTURED-LOCATION;VALUE=URI;X-ADDRESS=MacPherson Stadium 38 Nelson Street Mongkok Hong Kong;X-APPLE-RADIUS=500;X-TITLE=38 Nelson Street:geo:114.1728403,22.3188457
END:VEVENT
BEGIN:VEVENT
DTSTART;TZID=Asia/Hong_Kong:20150704T200000
DTEND;TZID=Asia/Hong_Kong:20150704T230000
DTSTAMP:20260425T113628
CREATED:20150523T113444Z
LAST-MODIFIED:20150623T113708Z
UID:10005895-1436040000-1436050800@www.bcmagazine.net
SUMMARY:Chi Lam Crazy Hours Live in Macau
DESCRIPTION:Chi Lam Crazy Hours Live in Macau\nDate: 8pm\, 4 July\, 2015\nVenue: CotaiArena\nTickets: $1\,080\, $880\, $680\, $480\, $280 from HKTicketing
URL:https://www.bcmagazine.net/event/chi-lam-crazy-hours-live-in-macau/
LOCATION:CotaiArena\, Venetian Macao\, Taipa\, Macau
CATEGORIES:2015,Concert,Macau,Music
GEO:22.1483528;113.5602019
X-APPLE-STRUCTURED-LOCATION;VALUE=URI;X-ADDRESS=CotaiArena Venetian Macao Taipa Macau;X-APPLE-RADIUS=500;X-TITLE=Venetian Macao:geo:113.5602019,22.1483528
END:VEVENT
BEGIN:VEVENT
DTSTART;TZID=Asia/Hong_Kong:20150707T124500
DTEND;TZID=Asia/Hong_Kong:20150707T134500
DTSTAMP:20260425T113628
CREATED:20150523T044922Z
LAST-MODIFIED:20150623T045225Z
UID:10005884-1436273100-1436276700@www.bcmagazine.net
SUMMARY:Good Music This Lunch
DESCRIPTION:Good Music This Lunch\nDate: 12:45pm\, 7July\, 2015\nVenue: HK City Hall Foyer\nTickets: Free
URL:https://www.bcmagazine.net/event/good-music-this-lunch/
LOCATION:HK City Hall\, Foyer\, 5 Edinburgh Place\, Central\, Hong Kong
CATEGORIES:2015,Concert,Music
END:VEVENT
BEGIN:VEVENT
DTSTART;TZID=Asia/Hong_Kong:20150711T200000
DTEND;TZID=Asia/Hong_Kong:20150711T200000
DTSTAMP:20260425T113628
CREATED:20150710T042035Z
LAST-MODIFIED:20150710T042035Z
UID:10006055-1436644800-1436644800@www.bcmagazine.net
SUMMARY:Wanfang Lin
DESCRIPTION:Wanfang Lin\nDate: 8pm\, 11 July\nVenue: Music Zone@E-Max\nTickets: $580\, $480 from Tixeasy
URL:https://www.bcmagazine.net/event/wanfang-lin/
LOCATION:KITEC\, Music Zone@E-Max\, KITEC\,‎ 1 Trademart Drive\, Kowloon Bay\, Hong Kong
CATEGORIES:2015,Concert,Music
GEO:22.3239575;114.2037608
X-APPLE-STRUCTURED-LOCATION;VALUE=URI;X-ADDRESS=KITEC Music Zone@E-Max KITEC‎ 1 Trademart Drive Kowloon Bay Hong Kong;X-APPLE-RADIUS=500;X-TITLE=KITEC\,‎ 1 Trademart Drive:geo:114.2037608,22.3239575
END:VEVENT
BEGIN:VEVENT
DTSTART;TZID=Asia/Hong_Kong:20150711T200000
DTEND;TZID=Asia/Hong_Kong:20150711T230000
DTSTAMP:20260425T113628
CREATED:20150523T113742Z
LAST-MODIFIED:20150623T114017Z
UID:10005896-1436644800-1436655600@www.bcmagazine.net
SUMMARY:Yanzi Kepler 2015 World Tour Macau
DESCRIPTION:Yanzi Kepler 2015 World Tour Macau\nDate: 8pm\, 11 July\, 2015\nVenue: CotaiArena\nTickets: $1\,580\, $1\,280\, $980\, $680\, $380 from HKTicketing
URL:https://www.bcmagazine.net/event/yanzi-kepler-2015-world-tour-macau/
LOCATION:CotaiArena\, Venetian Macao\, Taipa\, Macau
CATEGORIES:2015,Concert,Macau,Music
GEO:22.1483528;113.5602019
X-APPLE-STRUCTURED-LOCATION;VALUE=URI;X-ADDRESS=CotaiArena Venetian Macao Taipa Macau;X-APPLE-RADIUS=500;X-TITLE=Venetian Macao:geo:113.5602019,22.1483528
END:VEVENT
BEGIN:VEVENT
DTSTART;TZID=Asia/Hong_Kong:20150711T203000
DTEND;TZID=Asia/Hong_Kong:20150711T230000
DTSTAMP:20260425T113628
CREATED:20150612T063228Z
LAST-MODIFIED:20150622T063435Z
UID:10004997-1436646600-1436655600@www.bcmagazine.net
SUMMARY:Braids
DESCRIPTION:Braids\nDate: 8:30pm\, 11 July\, 2015\nVenue: Backstage Live\nTickets: $230 (Advance)\, $280
URL:https://www.bcmagazine.net/event/braids/
LOCATION:Backstage Live Restaurant\, 1/F Somptueux Central\, 52-54 Wellington Street\, Central\, Hong Kong
CATEGORIES:2015,Concert,Music
GEO:22.2818279;114.155339
X-APPLE-STRUCTURED-LOCATION;VALUE=URI;X-ADDRESS=Backstage Live Restaurant 1/F Somptueux Central 52-54 Wellington Street Central Hong Kong;X-APPLE-RADIUS=500;X-TITLE=1/F Somptueux Central\, 52-54 Wellington Street:geo:114.155339,22.2818279
END:VEVENT
BEGIN:VEVENT
DTSTART;TZID=Asia/Hong_Kong:20150714T200000
DTEND;TZID=Asia/Hong_Kong:20150714T230000
DTSTAMP:20260425T113628
CREATED:20150610T051333Z
LAST-MODIFIED:20150710T052234Z
UID:10004991-1436904000-1436914800@www.bcmagazine.net
SUMMARY:2Cellos On The Road
DESCRIPTION:2Cellos On The Road\nDate: 8pm\, 14 July\, 2015\nVenue: KITEC\, Star Hall\nTickets: $680\, $480 from HKTicketing
URL:https://www.bcmagazine.net/event/2cellos-on-the-road/
LOCATION:KITEC\, Star Hall\, KITEC\, 1 Trademart Drive\, Kowloon Bay\, Hong Kong
CATEGORIES:2015,Concert,Music,Performing Arts
GEO:22.3239575;114.2037608
X-APPLE-STRUCTURED-LOCATION;VALUE=URI;X-ADDRESS=KITEC Star Hall KITEC 1 Trademart Drive Kowloon Bay Hong Kong;X-APPLE-RADIUS=500;X-TITLE=KITEC\, 1 Trademart Drive:geo:114.2037608,22.3239575
END:VEVENT
BEGIN:VEVENT
DTSTART;TZID=Asia/Hong_Kong:20150715T200000
DTEND;TZID=Asia/Hong_Kong:20150715T220000
DTSTAMP:20260425T113628
CREATED:20150507T071028Z
LAST-MODIFIED:20150607T071558Z
UID:10005854-1436990400-1436997600@www.bcmagazine.net
SUMMARY:Oxford Gargoyles
DESCRIPTION:Oxford Gargoyles\nDate: 8pm\, 15 July\, 2015\nVenue: Shatin Town Hall\, Auditorium\nTickets: $360\, $240\, $160
URL:https://www.bcmagazine.net/event/oxford-gargoyles-2/
LOCATION:Shatin Town Hall\, Auditorium\, Shatin\, Hong Kong
CATEGORIES:2015,Concert,Music,Performing Arts
END:VEVENT
BEGIN:VEVENT
DTSTART;TZID=Asia/Hong_Kong:20150716T200000
DTEND;TZID=Asia/Hong_Kong:20150716T220000
DTSTAMP:20260425T113628
CREATED:20150507T071032Z
LAST-MODIFIED:20150607T071930Z
UID:10005855-1437076800-1437084000@www.bcmagazine.net
SUMMARY:Oxford Gargoyles
DESCRIPTION:Oxford Gargoyles\nDate: 8pm\, 16 July\, 2015\nVenue: HK Arts Centre\, agnes b. Cinema\nTickets: $240
URL:https://www.bcmagazine.net/event/oxford-gargoyles-3/
LOCATION:HK Arts Centre\, agnès b. Cinema\, 2 Harbour Road\, Wanchai
CATEGORIES:2015,Concert,Music
GEO:22.2802442;114.17082
X-APPLE-STRUCTURED-LOCATION;VALUE=URI;X-ADDRESS=HK Arts Centre agnès b. Cinema 2 Harbour Road Wanchai;X-APPLE-RADIUS=500;X-TITLE=2 Harbour Road:geo:114.17082,22.2802442
END:VEVENT
BEGIN:VEVENT
DTSTART;TZID=Asia/Hong_Kong:20150717T190000
DTEND;TZID=Asia/Hong_Kong:20150717T190000
DTSTAMP:20260425T113628
CREATED:20150507T071034Z
LAST-MODIFIED:20150607T072127Z
UID:10005856-1437159600-1437159600@www.bcmagazine.net
SUMMARY:Oxford Gargoyles
DESCRIPTION:Oxford Gargoyles\nDate: 7pm\, 17 July\, 2015\nVenue: Fringe Club\, Fringe Upstairs\nTickets: $240
URL:https://www.bcmagazine.net/event/oxford-gargoyles-4/
LOCATION:Grand Hall\, Lee Shau Kee Lecture Centre\, Centennial Campus\, The University of Hong Kong\, The University of Hong Kong\, Pokfulam\, Hong Kong
CATEGORIES:2015,Concert,Music,Performing Arts
GEO:22.2840507;114.1378391
X-APPLE-STRUCTURED-LOCATION;VALUE=URI;X-ADDRESS=Grand Hall Lee Shau Kee Lecture Centre Centennial Campus The University of Hong Kong The University of Hong Kong Pokfulam Hong Kong;X-APPLE-RADIUS=500;X-TITLE=The University of Hong Kong:geo:114.1378391,22.2840507
END:VEVENT
BEGIN:VEVENT
DTSTART;TZID=Asia/Hong_Kong:20150717T191500
DTEND;TZID=Asia/Hong_Kong:20150717T230000
DTSTAMP:20260425T113628
CREATED:20150523T045256Z
LAST-MODIFIED:20150623T045710Z
UID:10005885-1437160500-1437174000@www.bcmagazine.net
SUMMARY:Inspired by Mozart
DESCRIPTION:Inspired by Mozart\nHong Kong Sinfonietta\nDate: 7:15pm\, 17 July\, 2015\nVenue: Rehearsal Room CR2\, 7/F HK Cultural Centre Concert Hall\nTickets: $250
URL:https://www.bcmagazine.net/event/inspired-by-mozart/
LOCATION:HK Cultural Centre\, Concert Hall\, 10 Salisbury Road\, Tsim Sha Tsui\, Hong Kong
CATEGORIES:2015,Concert,Music,Performing Arts
GEO:22.294318;114.171708
X-APPLE-STRUCTURED-LOCATION;VALUE=URI;X-ADDRESS=HK Cultural Centre Concert Hall 10 Salisbury Road Tsim Sha Tsui Hong Kong;X-APPLE-RADIUS=500;X-TITLE=10 Salisbury Road:geo:114.171708,22.294318
END:VEVENT
BEGIN:VEVENT
DTSTART;TZID=Asia/Hong_Kong:20150717T200000
DTEND;TZID=Asia/Hong_Kong:20150717T230000
DTSTAMP:20260425T113628
CREATED:20150505T081922Z
LAST-MODIFIED:20150518T082832Z
UID:10005847-1437163200-1437174000@www.bcmagazine.net
SUMMARY:Shin HK Concert
DESCRIPTION:Shin\nDate: 8pm\, 17 July\, 2015\nVenue: Music Zone@E-max\nTickets: $380 from Cityline
URL:https://www.bcmagazine.net/event/shin-hk-concert/
LOCATION:KITEC\, Music Zone@E-Max\, KITEC\,‎ 1 Trademart Drive\, Kowloon Bay\, Hong Kong
CATEGORIES:2015,Concert,Music
GEO:22.3239575;114.2037608
X-APPLE-STRUCTURED-LOCATION;VALUE=URI;X-ADDRESS=KITEC Music Zone@E-Max KITEC‎ 1 Trademart Drive Kowloon Bay Hong Kong;X-APPLE-RADIUS=500;X-TITLE=KITEC\,‎ 1 Trademart Drive:geo:114.2037608,22.3239575
END:VEVENT
BEGIN:VEVENT
DTSTART;TZID=Asia/Hong_Kong:20150717T200000
DTEND;TZID=Asia/Hong_Kong:20150717T230000
DTSTAMP:20260425T113628
CREATED:20150610T041344Z
LAST-MODIFIED:20150710T041710Z
UID:10004981-1437163200-1437174000@www.bcmagazine.net
SUMMARY:Shin Live
DESCRIPTION:Shin\nDate: 8pm\, 17 July\, 2015\nVenue: Music Zone@E-Max\nTickets: $380 from Cityline
URL:https://www.bcmagazine.net/event/shin-live/
LOCATION:KITEC\, Music Zone@E-Max\, KITEC\,‎ 1 Trademart Drive\, Kowloon Bay\, Hong Kong
CATEGORIES:2015,Concert,Music
GEO:22.3239575;114.2037608
X-APPLE-STRUCTURED-LOCATION;VALUE=URI;X-ADDRESS=KITEC Music Zone@E-Max KITEC‎ 1 Trademart Drive Kowloon Bay Hong Kong;X-APPLE-RADIUS=500;X-TITLE=KITEC\,‎ 1 Trademart Drive:geo:114.2037608,22.3239575
END:VEVENT
BEGIN:VEVENT
DTSTART;TZID=Asia/Hong_Kong:20150718T200000
DTEND;TZID=Asia/Hong_Kong:20150718T220000
DTSTAMP:20260425T113628
CREATED:20150604T065355Z
LAST-MODIFIED:20150704T065649Z
UID:10005943-1437249600-1437256800@www.bcmagazine.net
SUMMARY:Ángel Padilla Harp Recital
DESCRIPTION:Ángel Padilla Harp Recital\nDate: 8pm\, 18 July\, 2015\nVenue: The Hong Kong Polytechnic University\, Chiang Chen Studio Theatre (CCST)\nTickets: $380\, $280
URL:https://www.bcmagazine.net/event/angel-padilla-harp-recital/
LOCATION:Chiang Chen Studio Theatre\, HK Polytechnic University\, Hung Hom\, Hong Kong
CATEGORIES:2015,Concert,concert,Music,Performing Arts
END:VEVENT
BEGIN:VEVENT
DTSTART;TZID=Asia/Hong_Kong:20150718T200000
DTEND;TZID=Asia/Hong_Kong:20150718T230000
DTSTAMP:20260425T113628
CREATED:20150610T040829Z
LAST-MODIFIED:20150710T041104Z
UID:10006023-1437249600-1437260400@www.bcmagazine.net
SUMMARY:Chan Wing Him & Friends Live
DESCRIPTION:Chan Wing Him & Friends Live\nDate: 8pm 18 July\, 2015\nVenue: Music Zone@E-Max\nTickets: http://event.kkbox.com/him_friends.hk/
URL:https://www.bcmagazine.net/event/chan-wing-him-friends-live/
LOCATION:KITEC\, Music Zone@E-Max\, KITEC\,‎ 1 Trademart Drive\, Kowloon Bay\, Hong Kong
CATEGORIES:2015,Concert,Music
GEO:22.3239575;114.2037608
X-APPLE-STRUCTURED-LOCATION;VALUE=URI;X-ADDRESS=KITEC Music Zone@E-Max KITEC‎ 1 Trademart Drive Kowloon Bay Hong Kong;X-APPLE-RADIUS=500;X-TITLE=KITEC\,‎ 1 Trademart Drive:geo:114.2037608,22.3239575
END:VEVENT
BEGIN:VEVENT
DTSTART;TZID=Asia/Hong_Kong:20150719T200000
DTEND;TZID=Asia/Hong_Kong:20150719T230000
DTSTAMP:20260425T113628
CREATED:20150424T041143Z
LAST-MODIFIED:20150425T094453Z
UID:10005774-1437336000-1437346800@www.bcmagazine.net
SUMMARY:Silent Siren Live Tour 2015 Spring→Summer ~ Siren VS Silent @ MusicZone@E-Max - 19 July\, 2015
DESCRIPTION:Silent Siren Live Tour 2015 Spring→Summer ~ Siren vs Silent\nDate: 19 July\, 2015\nVenue: MusicZone@E-Max\nTickets: $480\, $360 from Tixeasy
URL:https://www.bcmagazine.net/event/silent-siren-live-tour-2015-spring%e2%86%92summer-siren-vs-silent-musiczonee-max-19-july-2015/
LOCATION:KITEC\, Music Zone@E-Max\, KITEC\,‎ 1 Trademart Drive\, Kowloon Bay\, Hong Kong
CATEGORIES:Concert,concert,Music,Performing Arts
GEO:22.3239575;114.2037608
X-APPLE-STRUCTURED-LOCATION;VALUE=URI;X-ADDRESS=KITEC Music Zone@E-Max KITEC‎ 1 Trademart Drive Kowloon Bay Hong Kong;X-APPLE-RADIUS=500;X-TITLE=KITEC\,‎ 1 Trademart Drive:geo:114.2037608,22.3239575
END:VEVENT
BEGIN:VEVENT
DTSTART;TZID=Asia/Hong_Kong:20150720T200000
DTEND;TZID=Asia/Hong_Kong:20150720T230000
DTSTAMP:20260425T113628
CREATED:20150505T082838Z
LAST-MODIFIED:20150518T083418Z
UID:10005848-1437422400-1437433200@www.bcmagazine.net
SUMMARY:Nu'est Showcase
DESCRIPTION:Nu’est Showcase\nDate: 8pm\, 20 July\, 2015\nVenue: KITEC\, Rotunda 3\nTickets: $980\, $780\, $580 from Cityline
URL:https://www.bcmagazine.net/event/nuest-showcase/
LOCATION:KITEC\, Rotunda 3\, 1 Trademart Drive\, Kowloon Bay\, Hong Kong
CATEGORIES:2015,Concert,Music,Performing Arts
GEO:22.3239575;114.2037608
X-APPLE-STRUCTURED-LOCATION;VALUE=URI;X-ADDRESS=KITEC Rotunda 3 1 Trademart Drive Kowloon Bay Hong Kong;X-APPLE-RADIUS=500;X-TITLE=1 Trademart Drive:geo:114.2037608,22.3239575
END:VEVENT
BEGIN:VEVENT
DTSTART;TZID=Asia/Hong_Kong:20150721T190000
DTEND;TZID=Asia/Hong_Kong:20150721T230000
DTSTAMP:20260425T113628
CREATED:20150523T045745Z
LAST-MODIFIED:20150623T050007Z
UID:10005886-1437505200-1437519600@www.bcmagazine.net
SUMMARY:Good Music @ The Fringe with James C.: East West Miniatures
DESCRIPTION:Good Music @ The Fringe with James C.: East West Miniatures\nDate: 7pm\, 21 July\, 2015\nVenue: Fringe Dairy\nTickets: $150
URL:https://www.bcmagazine.net/event/good-music-the-fringe-with-james-c-east-west-miniatures/
LOCATION:Fringe Club\, Fringe Dairy\, Central\, Hong Kong
CATEGORIES:2015,Concert,Music,Performing Arts
END:VEVENT
BEGIN:VEVENT
DTSTART;TZID=Asia/Hong_Kong:20150721T200000
DTEND;TZID=Asia/Hong_Kong:20150721T230000
DTSTAMP:20260425T113628
CREATED:20150531T232027Z
LAST-MODIFIED:20150611T232336Z
UID:10005937-1437508800-1437519600@www.bcmagazine.net
SUMMARY:Twenty One Pilots + Miavi + Killersoap
DESCRIPTION:Twenty One Pilots + Miavi + Killersoap\nDate: 8pm\, 21 July\, 2015\nVenue: KITEC\, Rotunda 3\nTickets: $550
URL:https://www.bcmagazine.net/event/twenty-one-pilots-miavi-killersoap/
LOCATION:KITEC\, Rotunda 3\, 1 Trademart Drive\, Kowloon Bay\, Hong Kong
CATEGORIES:2015,Concert,Music,Performing Arts
GEO:22.3239575;114.2037608
X-APPLE-STRUCTURED-LOCATION;VALUE=URI;X-ADDRESS=KITEC Rotunda 3 1 Trademart Drive Kowloon Bay Hong Kong;X-APPLE-RADIUS=500;X-TITLE=1 Trademart Drive:geo:114.2037608,22.3239575
END:VEVENT
BEGIN:VEVENT
DTSTART;TZID=Asia/Hong_Kong:20150721T200000
DTEND;TZID=Asia/Hong_Kong:20150721T230000
DTSTAMP:20260425T113628
CREATED:20150610T040140Z
LAST-MODIFIED:20150710T040458Z
UID:10006022-1437508800-1437519600@www.bcmagazine.net
SUMMARY:Soundbox - Music to be Heard
DESCRIPTION:Soundbox – Music to be Heard\nTwenty One Pilots\, Killersoap\, Miyavi\nDate: 8pm\, 21 July\nVenue: Rotunda 3\, KITEC\nTickets: $550 from Cityline
URL:https://www.bcmagazine.net/event/soundbox-music-to-be-heard/
LOCATION:KITEC\, Rotunda 3\, 1 Trademart Drive\, Kowloon Bay\, Hong Kong
CATEGORIES:2015,Concert,Music
GEO:22.3239575;114.2037608
X-APPLE-STRUCTURED-LOCATION;VALUE=URI;X-ADDRESS=KITEC Rotunda 3 1 Trademart Drive Kowloon Bay Hong Kong;X-APPLE-RADIUS=500;X-TITLE=1 Trademart Drive:geo:114.2037608,22.3239575
END:VEVENT
BEGIN:VEVENT
DTSTART;TZID=Asia/Hong_Kong:20150722T200000
DTEND;TZID=Asia/Hong_Kong:20150722T230000
DTSTAMP:20260425T113628
CREATED:20150419T084650Z
LAST-MODIFIED:20150513T061649Z
UID:10005760-1437595200-1437606000@www.bcmagazine.net
SUMMARY:Blur: The Magic Whip @ HKCEC - 8pm\, 22 July\, 2015
DESCRIPTION:Blur: The Magic Whip\nWhen: 8pm\, 22 July\, 2015\nWhere: HKCEC\, Hall 5BC\nTickets: $1080\, $880\, $680\, $480 from HK Ticketing
URL:https://www.bcmagazine.net/event/blur-the-magic-whip-hkcec-8pm-22-july-2015/
LOCATION:HK Convention and Exhibition Centre\, 1 Expo Drive\, Wanchai\, Hong Kong
CATEGORIES:Concert,concert,Music,Performing Arts
END:VEVENT
BEGIN:VEVENT
DTSTART;TZID=Asia/Hong_Kong:20150723T193000
DTEND;TZID=Asia/Hong_Kong:20150723T230000
DTSTAMP:20260425T113628
CREATED:20150523T050030Z
LAST-MODIFIED:20150623T050304Z
UID:10005887-1437679800-1437692400@www.bcmagazine.net
SUMMARY:UpClose Encounters: Dialogue with Veronika Eberle
DESCRIPTION:UpClose Encounters: Dialogue with Veronika Eberle\nDate: 7:30pm\, 23 July\, 2015\nVenue: Fringe Dairy\nTickets: $150
URL:https://www.bcmagazine.net/event/upclose-encounters-dialogue-with-veronika-eberle/
LOCATION:Fringe Club\, Fringe Dairy\, Central\, Hong Kong
CATEGORIES:2015,Concert,concert,Music,Performing Arts
END:VEVENT
BEGIN:VEVENT
DTSTART;TZID=Asia/Hong_Kong:20150724T200000
DTEND;TZID=Asia/Hong_Kong:20150724T230000
DTSTAMP:20260425T113628
CREATED:20150505T081330Z
LAST-MODIFIED:20150518T081649Z
UID:10005846-1437768000-1437778800@www.bcmagazine.net
SUMMARY:OK Go
DESCRIPTION:OK Go\nDate: 8pm\, 24 July\, 2015\nVenue: Music Zone@E-max\nTickets: $450 from Ticketflap
URL:https://www.bcmagazine.net/event/ok-go/
LOCATION:KITEC\, Music Zone@E-Max\, KITEC\,‎ 1 Trademart Drive\, Kowloon Bay\, Hong Kong
CATEGORIES:2015,Concert,Music,Performing Arts
GEO:22.3239575;114.2037608
X-APPLE-STRUCTURED-LOCATION;VALUE=URI;X-ADDRESS=KITEC Music Zone@E-Max KITEC‎ 1 Trademart Drive Kowloon Bay Hong Kong;X-APPLE-RADIUS=500;X-TITLE=KITEC\,‎ 1 Trademart Drive:geo:114.2037608,22.3239575
END:VEVENT
BEGIN:VEVENT
DTSTART;TZID=Asia/Hong_Kong:20150725T150000
DTEND;TZID=Asia/Hong_Kong:20150725T170000
DTSTAMP:20260425T113628
CREATED:20150505T080601Z
LAST-MODIFIED:20150518T080859Z
UID:10005845-1437836400-1437843600@www.bcmagazine.net
SUMMARY:Kamen Joshi Mini Concert
DESCRIPTION:Kamen Joshi Mini Concert\nDate: 3pm\, 25 July\, 2015\nVenue: Music Zone@E-max\nTickets: $380\, $280 from TixEasy
URL:https://www.bcmagazine.net/event/kamen-joshi-mini-concert/
LOCATION:KITEC\, Music Zone@E-Max\, KITEC\,‎ 1 Trademart Drive\, Kowloon Bay\, Hong Kong
CATEGORIES:2015,Concert,Music
GEO:22.3239575;114.2037608
X-APPLE-STRUCTURED-LOCATION;VALUE=URI;X-ADDRESS=KITEC Music Zone@E-Max KITEC‎ 1 Trademart Drive Kowloon Bay Hong Kong;X-APPLE-RADIUS=500;X-TITLE=KITEC\,‎ 1 Trademart Drive:geo:114.2037608,22.3239575
END:VEVENT
BEGIN:VEVENT
DTSTART;TZID=Asia/Hong_Kong:20150725T170000
DTEND;TZID=Asia/Hong_Kong:20150725T230000
DTSTAMP:20260425T113628
CREATED:20150425T100022Z
LAST-MODIFIED:20150707T105011Z
UID:10005781-1437843600-1437865200@www.bcmagazine.net
SUMMARY:Life in Colour "World's Largest Paint Party" 2015 @ AsiaWorld Expo - 25 July\, 2015 - CANCELLED
DESCRIPTION:Updated 7 July: Life in Colour has been cancelled\, the organisers appear to have been unable to persuade the government and the venue of the safety of the event. \nUpdated 29 June: After the tragic events in Taiwan\, AsiaWorld Expo issued the following statement on the 29 June\, 2015 \n“With increasing public concern over the safety measures of the event “The Color Run”\, AsiaWorld-Expo as a venue provider\, has taken an active role in liaising with the government authorities and event organiser for risk assessment. \nIn view of the public anxiety grows towards colour-powder themed events and a lengthy discussion required for all concerned parties to coordinate the arrangement in details\, the venue application for the “The Colour Run” event to be held at AsiaWorld-Expo in December this year will not be processed until relevant licence and approval by government authorities is granted.” \nSo as of the 30 June\, 2015 – it would appear the event is yet to be licensed and approved by the government and cannot take place until it is. \nLife in Colour “World’s Largest Paint Party” 2015\nDate: 5pm\, 25 July\, 2015\nVenue: AsiaWorld Expo\nTickets: $780\, $580 (Advance) from HKTicketing
URL:https://www.bcmagazine.net/event/life-in-colour-worlds-largest-paint-party-2015-asiaworld-expo-25-july-2015/
LOCATION:AsiaWorld-Expo\, Cheong Wing Road\, Chek Lap Kok\, Lantau\, Hong Kong
CATEGORIES:Concert,Music,Nightlife
GEO:22.3217383;113.9402012
X-APPLE-STRUCTURED-LOCATION;VALUE=URI;X-ADDRESS=AsiaWorld-Expo Cheong Wing Road Chek Lap Kok Lantau Hong Kong;X-APPLE-RADIUS=500;X-TITLE=Cheong Wing Road\, Chek Lap Kok:geo:113.9402012,22.3217383
END:VEVENT
BEGIN:VEVENT
DTSTART;TZID=Asia/Hong_Kong:20150725T200000
DTEND;TZID=Asia/Hong_Kong:20150725T230000
DTSTAMP:20260425T113628
CREATED:20150523T050334Z
LAST-MODIFIED:20150623T050658Z
UID:10005888-1437854400-1437865200@www.bcmagazine.net
SUMMARY:Veronika Eberle Plays Shostakovich Violin Concerto No 1
DESCRIPTION:Veronika Eberle Plays Shostakovich Violin Concerto No 1\nHong Kong Sinfonietta\nDate: 8pm\, 25 July\, 2015\nVenue: HK City Hall\, Concert Hall\nTickets: $320\, $220\, $140
URL:https://www.bcmagazine.net/event/veronika-eberle-plays-shostakovich-violin-concerto-no-1/
LOCATION:HK City Hall\, Concert Hall\,  5 Edinburgh Place\, Central\, Hong Kong
CATEGORIES:2015,Concert,concert,Music,Performing Arts
END:VEVENT
BEGIN:VEVENT
DTSTART;TZID=Asia/Hong_Kong:20150726T193000
DTEND;TZID=Asia/Hong_Kong:20150726T230000
DTSTAMP:20260425T113628
CREATED:20150610T035644Z
LAST-MODIFIED:20150710T035916Z
UID:10006021-1437939000-1437951600@www.bcmagazine.net
SUMMARY:Anison Dream
DESCRIPTION:Anison Dream\nDate: 7:30pm\, 26 July\, 2015\nVenue: Rotunda 3\, KITEC\nTickets: $980\, $780\, $580 from HKTicketing
URL:https://www.bcmagazine.net/event/anison-dream/
LOCATION:KITEC\, Rotunda 3\, 1 Trademart Drive\, Kowloon Bay\, Hong Kong
CATEGORIES:2015,Concert,Music
GEO:22.3239575;114.2037608
X-APPLE-STRUCTURED-LOCATION;VALUE=URI;X-ADDRESS=KITEC Rotunda 3 1 Trademart Drive Kowloon Bay Hong Kong;X-APPLE-RADIUS=500;X-TITLE=1 Trademart Drive:geo:114.2037608,22.3239575
END:VEVENT
END:VCALENDAR