BEGIN:VCALENDAR
VERSION:2.0
PRODID:-//bc magazine - ECPv6.15.20//NONSGML v1.0//EN
CALSCALE:GREGORIAN
METHOD:PUBLISH
X-WR-CALNAME:bc magazine
X-ORIGINAL-URL:https://www.bcmagazine.net
X-WR-CALDESC:Events for bc magazine
REFRESH-INTERVAL;VALUE=DURATION:PT1H
X-Robots-Tag:noindex
X-PUBLISHED-TTL:PT1H
BEGIN:VTIMEZONE
TZID:Asia/Hong_Kong
BEGIN:STANDARD
TZOFFSETFROM:+0800
TZOFFSETTO:+0800
TZNAME:HKT
DTSTART:20140101T000000
END:STANDARD
END:VTIMEZONE
BEGIN:VEVENT
DTSTART;VALUE=DATE:20150629
DTEND;VALUE=DATE:20150802
DTSTAMP:20260426T011457
CREATED:20150521T130136Z
LAST-MODIFIED:20150521T131756Z
UID:10005880-1435536000-1438473599@www.bcmagazine.net
SUMMARY:The Dream of the Red Chamber Symposium
DESCRIPTION:The San Francisco Opera has commissioned the creation of an opera based on The Dream of the Red Chamber\, the most important Chinese novel\, scheduled to have its world premiere in the fall of 2016 \nThe symposium will feature 3 events: \nRoundtable Discussion\n4:30pm – June 29\, 2015 (Monday) \nCreative Team In-depth\n4:30pm  – July 1\, 2015 (Wednesday) \nThe Dream of the Red Chamber Preview\n5:30pm – July 1\, 2015 (Wednesday) \nThe Dream of the Red Chamber Symposium\nDate: 29 June – July 1\, 2015\nVenue: Multipurpose Hall\, Cheng Yu Tung Building\, HKUST\nTickets: Free register for tickets here
URL:https://www.bcmagazine.net/event/the-dream-of-the-red-chamber-symposium/
LOCATION:Multipurpose Hall\, Cheng Yu Tung Building\, HKUST\, Multipurpose Hall\, Cheng Yu Tung Building\, HKUST\, Hong Kong
CATEGORIES:2015,Concert,concert,Free,Music,Performing Arts
GEO:22.396428;114.109497
X-APPLE-STRUCTURED-LOCATION;VALUE=URI;X-ADDRESS=Multipurpose Hall Cheng Yu Tung Building HKUST Multipurpose Hall Cheng Yu Tung Building HKUST Hong Kong;X-APPLE-RADIUS=500;X-TITLE=Multipurpose Hall\, Cheng Yu Tung Building\, HKUST:geo:114.109497,22.396428
END:VEVENT
BEGIN:VEVENT
DTSTART;VALUE=DATE:20150801
DTEND;VALUE=DATE:20150803
DTSTAMP:20260426T011457
CREATED:20150610T034305Z
LAST-MODIFIED:20150710T035019Z
UID:10006019-1438387200-1438559999@www.bcmagazine.net
SUMMARY:Ascot Anime Songs
DESCRIPTION:Ascot Anime Songs\nDate: 8pm\,1-2 August\, 2015\nVenue: Music Zone@E-max\nTickets: $688\, $388 from Cityline
URL:https://www.bcmagazine.net/event/ascot-anime-songs/
LOCATION:KITEC\, Music Zone@E-Max\, KITEC\,‎ 1 Trademart Drive\, Kowloon Bay\, Hong Kong
CATEGORIES:2015,Concert,Music
GEO:22.3239575;114.2037608
X-APPLE-STRUCTURED-LOCATION;VALUE=URI;X-ADDRESS=KITEC Music Zone@E-Max KITEC‎ 1 Trademart Drive Kowloon Bay Hong Kong;X-APPLE-RADIUS=500;X-TITLE=KITEC\,‎ 1 Trademart Drive:geo:114.2037608,22.3239575
END:VEVENT
BEGIN:VEVENT
DTSTART;TZID=Asia/Hong_Kong:20150801T200000
DTEND;TZID=Asia/Hong_Kong:20150801T230000
DTSTAMP:20260426T011457
CREATED:20150523T114631Z
LAST-MODIFIED:20150623T115016Z
UID:10005898-1438459200-1438470000@www.bcmagazine.net
SUMMARY:Ftisland Live [We Will]
DESCRIPTION:Ftisland Live [We Will]\nDate: 8pm\, 1 August\, 2015\nVenue: AsiaWorld-Expo Arena\nTickets: $1\,280\, $880\, $680\, $480\, $280 from HKTicketing
URL:https://www.bcmagazine.net/event/ftisland-live-we-will/
LOCATION:AsiaWorld-Expo\, Arena\, Cheong Wing Road\, Chek Lap Kok\, Lantau\, Hong Kong
CATEGORIES:2015,Concert,Music
GEO:22.3217383;113.9402012
X-APPLE-STRUCTURED-LOCATION;VALUE=URI;X-ADDRESS=AsiaWorld-Expo Arena Cheong Wing Road Chek Lap Kok Lantau Hong Kong;X-APPLE-RADIUS=500;X-TITLE=Cheong Wing Road\, Chek Lap Kok:geo:113.9402012,22.3217383
END:VEVENT
BEGIN:VEVENT
DTSTART;VALUE=DATE:20150804
DTEND;VALUE=DATE:20150806
DTSTAMP:20260426T011457
CREATED:20150628T104352Z
LAST-MODIFIED:20150728T104707Z
UID:10006043-1438646400-1438819199@www.bcmagazine.net
SUMMARY:DCFE Concert
DESCRIPTION:DCFE Concert\nWhen: 8:15pm\, 4-5 August\, 2015\nWhere: HKCEC – Hall 5BC\nTickets: $1\,280\, $680\, $480\, $380 from HKTicketing
URL:https://www.bcmagazine.net/event/dcfe-concert/
LOCATION:Hong Kong
CATEGORIES:2015,Concert,Music
END:VEVENT
BEGIN:VEVENT
DTSTART;TZID=Asia/Hong_Kong:20150804T124500
DTEND;TZID=Asia/Hong_Kong:20150804T134500
DTSTAMP:20260426T011457
CREATED:20150523T051530Z
LAST-MODIFIED:20150623T051746Z
UID:10005891-1438692300-1438695900@www.bcmagazine.net
SUMMARY:Good Music This Lunch
DESCRIPTION:Good Music This Lunch\nDate: 12:45pm\, 4 August\, 2015\nVenue: HK City Hall Foyer\nTickets: Free
URL:https://www.bcmagazine.net/event/good-music-this-lunch-2/
LOCATION:HK City Hall\, Foyer\, 5 Edinburgh Place\, Central\, Hong Kong
CATEGORIES:2015,Concert,concert,Music,Performing Arts
END:VEVENT
BEGIN:VEVENT
DTSTART;VALUE=DATE:20150807
DTEND;VALUE=DATE:20150809
DTSTAMP:20260426T011457
CREATED:20150508T071736Z
LAST-MODIFIED:20150808T072258Z
UID:10004787-1438905600-1439078399@www.bcmagazine.net
SUMMARY:Jam Hsiao
DESCRIPTION:Jam Hsiao <Triple Jam>\nDate:  8:15pm\, 7-8 August\, 2015\nVenue: HK Coliseum\nTickets: $880\, $580\, $380 from Urbtix
URL:https://www.bcmagazine.net/event/jam-hsiao/
LOCATION:HK Coliseum\, 9 Cheong Wan Road\, Hung Hom\, Hong Kong
CATEGORIES:2015,Concert,Music
GEO:22.3014169;114.1820305
X-APPLE-STRUCTURED-LOCATION;VALUE=URI;X-ADDRESS=HK Coliseum 9 Cheong Wan Road Hung Hom Hong Kong;X-APPLE-RADIUS=500;X-TITLE=9 Cheong Wan Road:geo:114.1820305,22.3014169
END:VEVENT
BEGIN:VEVENT
DTSTART;TZID=Asia/Hong_Kong:20150808T160000
DTEND;TZID=Asia/Hong_Kong:20150809T010000
DTSTAMP:20260426T011457
CREATED:20150609T050047Z
LAST-MODIFIED:20150709T050526Z
UID:10006010-1439049600-1439082000@www.bcmagazine.net
SUMMARY:Outlook Festival
DESCRIPTION:Outlook Festival\nDate: 4pm-1am August\, 2015\nVenue: Whitehead Barbecue\, Ma On Shan\nTickets: $380 from Ticketflap
URL:https://www.bcmagazine.net/event/outlook-festival/
LOCATION:Whitehead Barbecue\, Ma On Shan\, Hong Kong
CATEGORIES:2015,Concert,DJ,Music,Nightlife
END:VEVENT
BEGIN:VEVENT
DTSTART;TZID=Asia/Hong_Kong:20150808T200000
DTEND;TZID=Asia/Hong_Kong:20150808T230000
DTSTAMP:20260426T011457
CREATED:20150608T171230Z
LAST-MODIFIED:20150808T171444Z
UID:10005990-1439064000-1439074800@www.bcmagazine.net
SUMMARY:SingFest 2015: Bach 330 - Mass in B Minor
DESCRIPTION:SingFest 2015: Bach 330 – Mass in B Minor\nHong Kong Sinfonietta\nDate: 8pm\, 8 August\, 2015\nVenue: HK City Hall\, Concert Hall\nTickets: $360\, $260\, $150 from Urbtix
URL:https://www.bcmagazine.net/event/singfest-2015-bach-330-mass-in-b-minor/
LOCATION:HK City Hall\, Concert Hall\,  5 Edinburgh Place\, Central\, Hong Kong
CATEGORIES:2015,Concert,Music
END:VEVENT
BEGIN:VEVENT
DTSTART;TZID=Asia/Hong_Kong:20150810T200000
DTEND;TZID=Asia/Hong_Kong:20150810T230000
DTSTAMP:20260426T011457
CREATED:20150503T044115Z
LAST-MODIFIED:20150502T074251Z
UID:10005831-1439236800-1439247600@www.bcmagazine.net
SUMMARY:The Used Live In Hong Kong @ Music Zone@E-Max - 10 August\, 2015
DESCRIPTION:The Used Live In Hong Kong\nDate: 8pm\, 10 August\, 2015\nVenue: Music Zone@E-Max\nTickets: $450 (Early bird tickets limited to 80 available at Zoo Records)\, $550 (Advance)\, $650 from Ticketflap
URL:https://www.bcmagazine.net/event/the-used-live-in-hong-kong-music-zonee-max-10-august-2015/
LOCATION:KITEC\, Music Zone@E-Max\, KITEC\,‎ 1 Trademart Drive\, Kowloon Bay\, Hong Kong
CATEGORIES:Concert,Music
GEO:22.3239575;114.2037608
X-APPLE-STRUCTURED-LOCATION;VALUE=URI;X-ADDRESS=KITEC Music Zone@E-Max KITEC‎ 1 Trademart Drive Kowloon Bay Hong Kong;X-APPLE-RADIUS=500;X-TITLE=KITEC\,‎ 1 Trademart Drive:geo:114.2037608,22.3239575
END:VEVENT
BEGIN:VEVENT
DTSTART;VALUE=DATE:20150811
DTEND;VALUE=DATE:20150813
DTSTAMP:20260426T011457
CREATED:20150608T072349Z
LAST-MODIFIED:20150808T072526Z
UID:10005953-1439251200-1439423999@www.bcmagazine.net
SUMMARY:Edmond Leung
DESCRIPTION:Edmond Leung\nDate:  8:15pm\, 11-12 August\, 2015\nVenue: HK Coliseum\nTickets: $680\, $480\, $280 from Urbtix
URL:https://www.bcmagazine.net/event/edmond-leung/
LOCATION:HK Coliseum\, 9 Cheong Wan Road\, Hung Hom\, Hong Kong
CATEGORIES:2015,Concert,Music
GEO:22.3014169;114.1820305
X-APPLE-STRUCTURED-LOCATION;VALUE=URI;X-ADDRESS=HK Coliseum 9 Cheong Wan Road Hung Hom Hong Kong;X-APPLE-RADIUS=500;X-TITLE=9 Cheong Wan Road:geo:114.1820305,22.3014169
END:VEVENT
BEGIN:VEVENT
DTSTART;TZID=Asia/Hong_Kong:20150811T200000
DTEND;TZID=Asia/Hong_Kong:20150811T230000
DTSTAMP:20260426T011457
CREATED:20150523T114212Z
LAST-MODIFIED:20150623T114431Z
UID:10005897-1439323200-1439334000@www.bcmagazine.net
SUMMARY:Kodaline
DESCRIPTION:Kodaline\nDate: 8pm\, 11 August\, 2015\nVenue: Star Hall\, KITEC\nTickets: $688 from HKTicketing
URL:https://www.bcmagazine.net/event/kodaline/
LOCATION:KITEC\, Star Hall\, KITEC\, 1 Trademart Drive\, Kowloon Bay\, Hong Kong
CATEGORIES:2015,Concert,Music
GEO:22.3239575;114.2037608
X-APPLE-STRUCTURED-LOCATION;VALUE=URI;X-ADDRESS=KITEC Star Hall KITEC 1 Trademart Drive Kowloon Bay Hong Kong;X-APPLE-RADIUS=500;X-TITLE=KITEC\, 1 Trademart Drive:geo:114.2037608,22.3239575
END:VEVENT
BEGIN:VEVENT
DTSTART;TZID=Asia/Hong_Kong:20150812T190000
DTEND;TZID=Asia/Hong_Kong:20150812T230000
DTSTAMP:20260426T011457
CREATED:20150808T062042Z
LAST-MODIFIED:20190924T041252Z
UID:10006067-1439406000-1439420400@www.bcmagazine.net
SUMMARY:Supernova HK 2015 Grand Final
DESCRIPTION:Supernova HK 2015 Grand Final\n周柏豪 (Pakho Chau)\, C AllStar\, Supper Moment\, Zpecial\nDate: 7pm\, 12 August\, 2015\nVenue: Queen Elizabeth Stadium\, Arena\nTickets: $300\, $250\, $200\, $150\, $120 from Urbtix
URL:https://www.bcmagazine.net/event/supernova-hk-2015-grand-final/
LOCATION:Queen Elizabeth Stadium\, 18 Oi Kwan Road\, Wanchai\, Hong Kong
CATEGORIES:2015,Concert,Music
GEO:22.2751271;114.1789682
X-APPLE-STRUCTURED-LOCATION;VALUE=URI;X-ADDRESS=Queen Elizabeth Stadium 18 Oi Kwan Road Wanchai Hong Kong;X-APPLE-RADIUS=500;X-TITLE=18 Oi Kwan Road:geo:114.1789682,22.2751271
END:VEVENT
BEGIN:VEVENT
DTSTART;TZID=Asia/Hong_Kong:20150812T210000
DTEND;TZID=Asia/Hong_Kong:20150812T230000
DTSTAMP:20260426T011457
CREATED:20150528T094125Z
LAST-MODIFIED:20150728T094433Z
UID:10005917-1439413200-1439420400@www.bcmagazine.net
SUMMARY:Mouse on the Keys
DESCRIPTION:Mouse on the Keys Live in Hong Kong 2015\nWhen: 9pm\, 12 August\, 2015\nWhere: Music Zone@E-Max\nTickets: $360 (Door)\, $330 (Online)\, $320 (Advance)
URL:https://www.bcmagazine.net/event/mouse-on-the-keys/
LOCATION:KITEC\, Music Zone@E-Max\, KITEC\,‎ 1 Trademart Drive\, Kowloon Bay\, Hong Kong
CATEGORIES:2015,Concert,Music
GEO:22.3239575;114.2037608
X-APPLE-STRUCTURED-LOCATION;VALUE=URI;X-ADDRESS=KITEC Music Zone@E-Max KITEC‎ 1 Trademart Drive Kowloon Bay Hong Kong;X-APPLE-RADIUS=500;X-TITLE=KITEC\,‎ 1 Trademart Drive:geo:114.2037608,22.3239575
END:VEVENT
BEGIN:VEVENT
DTSTART;TZID=Asia/Hong_Kong:20150814T190000
DTEND;TZID=Asia/Hong_Kong:20150814T230000
DTSTAMP:20260426T011457
CREATED:20150628T092424Z
LAST-MODIFIED:20150728T093012Z
UID:10006042-1439578800-1439593200@www.bcmagazine.net
SUMMARY:己龍單獨巡業「龍跳狐臥」in Asia
DESCRIPTION:己龍單獨巡業「龍跳狐臥」in Asia\nWhen: 7pm\, 14 August\, 2015\nWhere: Music Zone@E-Max\nTickets: $500\, $350
URL:https://www.bcmagazine.net/event/%e5%b7%b1%e9%be%8d%e5%96%ae%e7%8d%a8%e5%b7%a1%e6%a5%ad%e3%80%8c%e9%be%8d%e8%b7%b3%e7%8b%90%e8%87%a5%e3%80%8din-asia/
LOCATION:KITEC\, Music Zone@E-Max\, KITEC\,‎ 1 Trademart Drive\, Kowloon Bay\, Hong Kong
CATEGORIES:2015,Concert,Music
GEO:22.3239575;114.2037608
X-APPLE-STRUCTURED-LOCATION;VALUE=URI;X-ADDRESS=KITEC Music Zone@E-Max KITEC‎ 1 Trademart Drive Kowloon Bay Hong Kong;X-APPLE-RADIUS=500;X-TITLE=KITEC\,‎ 1 Trademart Drive:geo:114.2037608,22.3239575
END:VEVENT
BEGIN:VEVENT
DTSTART;VALUE=DATE:20150815
DTEND;VALUE=DATE:20150816
DTSTAMP:20260426T011457
CREATED:20150610T051016Z
LAST-MODIFIED:20150710T051311Z
UID:10004989-1439596800-1439683199@www.bcmagazine.net
SUMMARY:Acappella Time to Shine
DESCRIPTION:Acappella Time to Shine\nThe Hong Kong Federation of Youth Groups\nDate: 15 August\, 2015\nVenue: Music Zone@E-Max\nTickets: tbc\nMore info: http://acappella.hkfyg.org.hk/page.aspx?corpname=acappella&i=9364
URL:https://www.bcmagazine.net/event/acappella-time-to-shine/
LOCATION:KITEC\, Music Zone@E-Max\, KITEC\,‎ 1 Trademart Drive\, Kowloon Bay\, Hong Kong
CATEGORIES:2015,Concert,Music
GEO:22.3239575;114.2037608
X-APPLE-STRUCTURED-LOCATION;VALUE=URI;X-ADDRESS=KITEC Music Zone@E-Max KITEC‎ 1 Trademart Drive Kowloon Bay Hong Kong;X-APPLE-RADIUS=500;X-TITLE=KITEC\,‎ 1 Trademart Drive:geo:114.2037608,22.3239575
END:VEVENT
BEGIN:VEVENT
DTSTART;VALUE=DATE:20150815
DTEND;VALUE=DATE:20150817
DTSTAMP:20260426T011457
CREATED:20150608T121016Z
LAST-MODIFIED:20150808T121453Z
UID:10005981-1439596800-1439769599@www.bcmagazine.net
SUMMARY:ACG Ocarina Concert
DESCRIPTION:ACG Ocarina Concert\nHong Kong Ocarina Cultural Association\nWhen: 15-16 August\, 2015\nWhere: Shatin Town Hall\, Cultural Activities Hall\nTickets: $200 from Urbtix\nMore info:\n15-16 August – 8pm\n15-16 August – 3pm
URL:https://www.bcmagazine.net/event/acg-ocarina-concert/
LOCATION:Shatin Town Hall\, Cultural Activities Hall\, 1 Yuen Wo Road\, Sha Tin\, Hong Kong
CATEGORIES:2015,Concert,Music
GEO:22.381264;114.189895
X-APPLE-STRUCTURED-LOCATION;VALUE=URI;X-ADDRESS=Shatin Town Hall Cultural Activities Hall 1 Yuen Wo Road Sha Tin Hong Kong;X-APPLE-RADIUS=500;X-TITLE=1 Yuen Wo Road:geo:114.189895,22.381264
END:VEVENT
BEGIN:VEVENT
DTSTART;VALUE=DATE:20150815
DTEND;VALUE=DATE:20150817
DTSTAMP:20260426T011457
CREATED:20150707T065225Z
LAST-MODIFIED:20150707T065225Z
UID:10005046-1439596800-1439769599@www.bcmagazine.net
SUMMARY:Open Sesame
DESCRIPTION:Open Sesame camp\, a two day festival at the Garden of Life on Kam Tin Road featuring live music\, camping and a relaxed laid back time \nBand Line up:\n15 August (Saturday)\n話梅鹿 Prune Deer (hk)\nDowner (hk)\nSexy Hammer (hk)\nni.ne.mo (hk)\n慘慘豬 CharmCharmChu (hk)\nShepherds the Weak (hk)\nLife Was All Silence (hk)\nPowerMilk (gz)\n晨曦光廊 Sun of Morning (tw)\n雞蛋蒸肉餅 GDJYB (hk) \n16 August (Sunday)\nOWK (hk)\nSmoke In Half Note (hk)\nSalad Kowloon (hk)\nFantastic Day (hk)\nBedstars (bj)\n吹波糖 Chui Ball Tong (gz)\nSeason For Change (hk)\nDIV (hk)\n荔枝王 King Ly Chee (hk)\nAnwiycti (hk) \nOpen Sesame\nDate: 15-16 August\nVenue: Garden of Life\, 1 Chi Ma Leng\, Kam Tin Rd\nTickets: $380 (2day)\, $280 (walk-in day pass)\, $150 (Camping) from Ticketflap\nMore info:\n15 August\, 12pm-11pm\n16 August\, 11am-10pm
URL:https://www.bcmagazine.net/event/open-sesame/
LOCATION:Garden of Life\, 1 Chi Ma Leng\, Kam Tin Rd\, Hong Kong
CATEGORIES:2015,Concert,Music,Nightlife
END:VEVENT
BEGIN:VEVENT
DTSTART;TZID=Asia/Hong_Kong:20150815T200000
DTEND;TZID=Asia/Hong_Kong:20150815T230000
DTSTAMP:20260426T011457
CREATED:20150628T105525Z
LAST-MODIFIED:20150728T110127Z
UID:10006044-1439668800-1439679600@www.bcmagazine.net
SUMMARY:I Want Music Let's POP World Tour
DESCRIPTION:I Want Music Let’s POP World Tour\nSuper Girls\, SpeXial\, Zhang Liangying\, Pakho Chau\, Shiga Lin\, Amber Ann\nWhen: 8pm\, 15 August\, 2015\nWhere: CotaiArena\, Venetian\, Macau\nTickets: $1\,680\, $1\,280\, $880\, $680\, $380 from HKTicketing
URL:https://www.bcmagazine.net/event/i-want-music-lets-pop-world-tour/
LOCATION:CotaiArena\, Venetian Macao\, Taipa\, Macau
CATEGORIES:2015,Concert,Macau,Music
GEO:22.1483528;113.5602019
X-APPLE-STRUCTURED-LOCATION;VALUE=URI;X-ADDRESS=CotaiArena Venetian Macao Taipa Macau;X-APPLE-RADIUS=500;X-TITLE=Venetian Macao:geo:113.5602019,22.1483528
END:VEVENT
BEGIN:VEVENT
DTSTART;TZID=Asia/Hong_Kong:20150816T180000
DTEND;TZID=Asia/Hong_Kong:20150816T230000
DTSTAMP:20260426T011457
CREATED:20150528T091544Z
LAST-MODIFIED:20150728T092352Z
UID:10005916-1439748000-1439766000@www.bcmagazine.net
SUMMARY:2015 Youth Band Sound Competition Final
DESCRIPTION:2015 Youth Band Sound Competition Final\nWhen: 6pm\, 16 August\, 2015\nWhere: Music Zone@E-Max\nTickets: tbc\nMore info: http://band.hkfyg.org.hk/
URL:https://www.bcmagazine.net/event/2015-youth-band-sound-competition-final/
LOCATION:KITEC\, Music Zone@E-Max\, KITEC\,‎ 1 Trademart Drive\, Kowloon Bay\, Hong Kong
CATEGORIES:2015,Concert,Music
GEO:22.3239575;114.2037608
X-APPLE-STRUCTURED-LOCATION;VALUE=URI;X-ADDRESS=KITEC Music Zone@E-Max KITEC‎ 1 Trademart Drive Kowloon Bay Hong Kong;X-APPLE-RADIUS=500;X-TITLE=KITEC\,‎ 1 Trademart Drive:geo:114.2037608,22.3239575
END:VEVENT
BEGIN:VEVENT
DTSTART;TZID=Asia/Hong_Kong:20150816T193000
DTEND;TZID=Asia/Hong_Kong:20150816T220000
DTSTAMP:20260426T011457
CREATED:20150429T043252Z
LAST-MODIFIED:20150729T044305Z
UID:10005804-1439753400-1439762400@www.bcmagazine.net
SUMMARY:EXO PLANET #2 – The EXO' luXion
DESCRIPTION:EXO PLANET #2 – The EXO’ luXion\nChen\, D.O.\, Chan Yeol\, Xiu Min\, Baek Hyun\, Kai\, Lay\, Su Ho and Se Hun\nWhen: 7:30pm\, 16-17 August\, 2015\nWhere: AsiaWorld Expo\, Arena\nTickets: $1\,680\, $1\,380\, $980\, $880\, $680\, $480 from HKTicketing
URL:https://www.bcmagazine.net/event/exo-planet-2-the-exo-luxion/
LOCATION:AsiaWorld-Expo\, Arena\, Cheong Wing Road\, Chek Lap Kok\, Lantau\, Hong Kong
CATEGORIES:2015,Concert,Music
GEO:22.3217383;113.9402012
X-APPLE-STRUCTURED-LOCATION;VALUE=URI;X-ADDRESS=AsiaWorld-Expo Arena Cheong Wing Road Chek Lap Kok Lantau Hong Kong;X-APPLE-RADIUS=500;X-TITLE=Cheong Wing Road\, Chek Lap Kok:geo:113.9402012,22.3217383
END:VEVENT
BEGIN:VEVENT
DTSTART;TZID=Asia/Hong_Kong:20150816T193000
DTEND;TZID=Asia/Hong_Kong:20150816T230000
DTSTAMP:20260426T011457
CREATED:20150609T022324Z
LAST-MODIFIED:20150809T022632Z
UID:10005996-1439753400-1439766000@www.bcmagazine.net
SUMMARY:Summer Pop Piano Recital
DESCRIPTION:Summer Pop Piano Recital\nhongkongsong.com\nDate: 7:30pm\, 16 August\, 2015\nVenue: HK City Hall\, Recital Hall\nTickets: $150 from Urbtix
URL:https://www.bcmagazine.net/event/summer-pop-piano-recital/
LOCATION:HK City Hall\, Recital Hall\, 5 Edinburgh Place\, Central\, Hong Kong
CATEGORIES:2015,Concert,Music
GEO:22.2822646;114.1615275
X-APPLE-STRUCTURED-LOCATION;VALUE=URI;X-ADDRESS=HK City Hall Recital Hall 5 Edinburgh Place Central Hong Kong;X-APPLE-RADIUS=500;X-TITLE=5 Edinburgh Place:geo:114.1615275,22.2822646
END:VEVENT
BEGIN:VEVENT
DTSTART;TZID=Asia/Hong_Kong:20150816T200000
DTEND;TZID=Asia/Hong_Kong:20150816T220000
DTSTAMP:20260426T011457
CREATED:20150429T090423Z
LAST-MODIFIED:20150729T090752Z
UID:10005805-1439755200-1439762400@www.bcmagazine.net
SUMMARY:Benjamin & Elise Liu
DESCRIPTION:Piano and Marimba Recital\nBenjamin & Elise Liu\nWhen: 8pm\, 16 August\, 2015\nWhere: HKAPA\, Recital Hall\nTickets: $150 from HKTicketing
URL:https://www.bcmagazine.net/event/benjamin-elise-liu/
LOCATION:HKAPA: Recital Hall\, 1 Gloucester Road\, Wanchai\, Hong Kong
CATEGORIES:2015,Concert,concert,Music,Performing Arts
GEO:22.2801854;114.1695054
X-APPLE-STRUCTURED-LOCATION;VALUE=URI;X-ADDRESS=HKAPA: Recital Hall 1 Gloucester Road Wanchai Hong Kong;X-APPLE-RADIUS=500;X-TITLE=1 Gloucester Road:geo:114.1695054,22.2801854
END:VEVENT
BEGIN:VEVENT
DTSTART;TZID=Asia/Hong_Kong:20150817T193000
DTEND;TZID=Asia/Hong_Kong:20150817T220000
DTSTAMP:20260426T011457
CREATED:20150729T044328Z
LAST-MODIFIED:20150729T044328Z
UID:10006057-1439839800-1439848800@www.bcmagazine.net
SUMMARY:EXO PLANET #2 – The EXO' luXion
DESCRIPTION:EXO PLANET #2 – The EXO’ luXion\nChen\, D.O.\, Chan Yeol\, Xiu Min\, Baek Hyun\, Kai\, Lay\, Su Ho and Se Hun\nWhen: 7:30pm\, 16-17 August\, 2015\nWhere: AsiaWorld Expo\, Arena\nTickets: $1\,680\, $1\,380\, $980\, $880\, $680\, $480 from HKTicketing
URL:https://www.bcmagazine.net/event/exo-planet-2-the-exo-luxion-2/
LOCATION:AsiaWorld-Expo\, Arena\, Cheong Wing Road\, Chek Lap Kok\, Lantau\, Hong Kong
CATEGORIES:2015,Concert,Music
GEO:22.3217383;113.9402012
X-APPLE-STRUCTURED-LOCATION;VALUE=URI;X-ADDRESS=AsiaWorld-Expo Arena Cheong Wing Road Chek Lap Kok Lantau Hong Kong;X-APPLE-RADIUS=500;X-TITLE=Cheong Wing Road\, Chek Lap Kok:geo:113.9402012,22.3217383
END:VEVENT
BEGIN:VEVENT
DTSTART;TZID=Asia/Hong_Kong:20150817T200000
DTEND;TZID=Asia/Hong_Kong:20150817T220000
DTSTAMP:20260426T011457
CREATED:20150509T045742Z
LAST-MODIFIED:20150809T045941Z
UID:10004785-1439841600-1439848800@www.bcmagazine.net
SUMMARY:Tribute to Erhu Master Tong Leung Tak
DESCRIPTION:Tribute to Erhu Master Tong Leung Tak\nWhen: 17 August\, 2015\nWhere: HK Cultural Centre\, Studio Theatre\nTickets: $250\, $150 from Urbtix
URL:https://www.bcmagazine.net/event/tribute-to-erhu-master-tong-leung-tak/
LOCATION:HK Cultural Centre\, Studio Theatre\, 10 Salisbury Road\, Tsim Sha Tsui\, Hong Kong
CATEGORIES:2015,Concert,Music
END:VEVENT
BEGIN:VEVENT
DTSTART;TZID=Asia/Hong_Kong:20150818T190000
DTEND;TZID=Asia/Hong_Kong:20150818T230000
DTSTAMP:20260426T011457
CREATED:20150523T051912Z
LAST-MODIFIED:20150623T052217Z
UID:10005892-1439924400-1439938800@www.bcmagazine.net
SUMMARY:Good Music @ The Fringe with James C.: Living European Masters
DESCRIPTION:Good Music @ The Fringe with James C.: Living European Masters\nHong Kong Sinfonietta\nDate: 7pm\, 18 August\, 2015\nVenue: Fringe Dairy\nTickets: $150
URL:https://www.bcmagazine.net/event/good-music-the-fringe-with-james-c-living-european-masters/
LOCATION:Fringe Club\, Fringe Dairy\, Central\, Hong Kong
CATEGORIES:2015,Concert,concert,Music,Performing Arts
END:VEVENT
BEGIN:VEVENT
DTSTART;VALUE=DATE:20150819
DTEND;VALUE=DATE:20150823
DTSTAMP:20260426T011457
CREATED:20150608T170118Z
LAST-MODIFIED:20150808T170829Z
UID:10005988-1439942400-1440287999@www.bcmagazine.net
SUMMARY:McDull . me & my mum
DESCRIPTION:Great Eagle Family Series: McDull . me & my mum\nHong Kong Sinfonietta\nDate: 19-22 August\, 2015\nVenue: HK City Hall\, Concert Hall\nTickets: $380\, $260\, $150 from Urbtix\nMore info:\n19-22 August – 7:30pm\n21-22 August – 3pm
URL:https://www.bcmagazine.net/event/mcdull-me-my-mum/
LOCATION:HK City Hall\, Concert Hall\,  5 Edinburgh Place\, Central\, Hong Kong
CATEGORIES:2015,Concert,Music,Performing Arts
END:VEVENT
BEGIN:VEVENT
DTSTART;VALUE=DATE:20150819
DTEND;VALUE=DATE:20150824
DTSTAMP:20260426T011457
CREATED:20150523T190133Z
LAST-MODIFIED:20150623T190521Z
UID:10005901-1439942400-1440374399@www.bcmagazine.net
SUMMARY:DisneyLive! - Mickey’s Music Festival
DESCRIPTION:DisneyLive! – Mickey’s Music Festival\nDate: 19-23 August\, 2015\nVenue: Star Hall\, KITEC\nTickets: $680\, $480\, $380\, $280\, $180 from HKTicketing\nMore info:\n19 Aug 2015 (Wed) at 7pm\n20 Aug 2015 (Thu) at 7pm\n21 Aug 2015 (Fri) at 7pm\n22 Aug 2015 (Sat) at 11am\, 3pm & 7pm\n23 Aug 2015 (Sun) at 11am & 3pm
URL:https://www.bcmagazine.net/event/disneylive-mickeys-music-festival/
LOCATION:KITEC\, Star Hall\, KITEC\, 1 Trademart Drive\, Kowloon Bay\, Hong Kong
CATEGORIES:2015,Concert,Music,Musical,Performing Arts
GEO:22.3239575;114.2037608
X-APPLE-STRUCTURED-LOCATION;VALUE=URI;X-ADDRESS=KITEC Star Hall KITEC 1 Trademart Drive Kowloon Bay Hong Kong;X-APPLE-RADIUS=500;X-TITLE=KITEC\, 1 Trademart Drive:geo:114.2037608,22.3239575
END:VEVENT
BEGIN:VEVENT
DTSTART;VALUE=DATE:20150819
DTEND;VALUE=DATE:20150825
DTSTAMP:20260426T011457
CREATED:20150806T060905Z
LAST-MODIFIED:20150808T061511Z
UID:10006065-1439942400-1440460799@www.bcmagazine.net
SUMMARY:Reimagine HK
DESCRIPTION:Reimagine HK\nDate: 8:15pm\, 19-24 August\, 2015\nVenue: Queen Elizabeth Stadium\, Arena\nTickets: $680\, $450 from Urbtix\nMore info: www.facebook.com/reimaginehk
URL:https://www.bcmagazine.net/event/reimagine-hk/
LOCATION:Queen Elizabeth Stadium\, 18 Oi Kwan Road\, Wanchai\, Hong Kong
CATEGORIES:2015,Concert,Music,Performing Arts
GEO:22.2751271;114.1789682
X-APPLE-STRUCTURED-LOCATION;VALUE=URI;X-ADDRESS=Queen Elizabeth Stadium 18 Oi Kwan Road Wanchai Hong Kong;X-APPLE-RADIUS=500;X-TITLE=18 Oi Kwan Road:geo:114.1789682,22.2751271
END:VEVENT
BEGIN:VEVENT
DTSTART;VALUE=DATE:20150821
DTEND;VALUE=DATE:20150823
DTSTAMP:20260426T011457
CREATED:20150523T185758Z
LAST-MODIFIED:20150623T190114Z
UID:10005900-1440115200-1440287999@www.bcmagazine.net
SUMMARY:Vikki Tong: I See You
DESCRIPTION:Vikki Tong: I See You\nDate: 7:45pm\, 21-22 August\, 2015\nVenue: Jockey Club Auditorium\, The Hong Kong Polytechnic University\nTickets: $450\, $330\, $210 from HKTicketing
URL:https://www.bcmagazine.net/event/vikki-tong-i-see-you/
LOCATION:Hong Kong Polytechnic University\, Jockey Club Auditorium\, Hong Kong
CATEGORIES:2015,Concert,Music
GEO:22.396428;114.109497
END:VEVENT
BEGIN:VEVENT
DTSTART;TZID=Asia/Hong_Kong:20150821T200000
DTEND;TZID=Asia/Hong_Kong:20150821T200000
DTSTAMP:20260426T011457
CREATED:20150627T031000Z
LAST-MODIFIED:20150727T031348Z
UID:10006037-1440187200-1440187200@www.bcmagazine.net
SUMMARY:Naturally 7
DESCRIPTION:Naturally 7 Live in Hong Kong\nDate: 8pm\, 21 August\, 2015\nVenue: Macpherson Stadium\, 38 Nelson Street\, Mongkok\, Kowloon\nTickets: $400
URL:https://www.bcmagazine.net/event/naturally-7/
LOCATION:MacPherson Stadium\, 38 Nelson Street\, Mongkok\, Hong Kong
CATEGORIES:2015,Concert,Music
GEO:22.3188457;114.1728403
X-APPLE-STRUCTURED-LOCATION;VALUE=URI;X-ADDRESS=MacPherson Stadium 38 Nelson Street Mongkok Hong Kong;X-APPLE-RADIUS=500;X-TITLE=38 Nelson Street:geo:114.1728403,22.3188457
END:VEVENT
END:VCALENDAR