BEGIN:VCALENDAR
VERSION:2.0
PRODID:-//bc magazine - ECPv6.15.20//NONSGML v1.0//EN
CALSCALE:GREGORIAN
METHOD:PUBLISH
X-WR-CALNAME:bc magazine
X-ORIGINAL-URL:https://www.bcmagazine.net
X-WR-CALDESC:Events for bc magazine
REFRESH-INTERVAL;VALUE=DURATION:PT1H
X-Robots-Tag:noindex
X-PUBLISHED-TTL:PT1H
BEGIN:VTIMEZONE
TZID:Asia/Hong_Kong
BEGIN:STANDARD
TZOFFSETFROM:+0800
TZOFFSETTO:+0800
TZNAME:HKT
DTSTART:20160101T000000
END:STANDARD
END:VTIMEZONE
BEGIN:VEVENT
DTSTART;VALUE=DATE:20170228
DTEND;VALUE=DATE:20170327
DTSTAMP:20260424T030248
CREATED:19170208T135429Z
LAST-MODIFIED:20220925T110250Z
UID:10002445-1488240000-1490572799@www.bcmagazine.net
SUMMARY:Three Phantoms
DESCRIPTION:Three Phantoms\nDate: 28 February – 26 March\, 2017\nVenue: The Parisian Theatre\, The Parisian Macao\nTickets: $480\, $280\, $180 from HKTicketing
URL:https://www.bcmagazine.net/event/three-phantoms-macau-2017/
LOCATION:The Parisian Theatre\, The Parisian Macao\, Macau
CATEGORIES:2017,Concert,Macau,Music
GEO:22.1905958;113.5518856
X-APPLE-STRUCTURED-LOCATION;VALUE=URI;X-ADDRESS=The Parisian Theatre The Parisian Macao Macau;X-APPLE-RADIUS=500;X-TITLE=The Parisian Macao:geo:113.5518856,22.1905958
END:VEVENT
BEGIN:VEVENT
DTSTART;TZID=Asia/Hong_Kong:20170301T200000
DTEND;TZID=Asia/Hong_Kong:20170301T200000
DTSTAMP:20260424T030248
CREATED:19170222T004419Z
LAST-MODIFIED:20170222T004937Z
UID:10002471-1488398400-1488398400@www.bcmagazine.net
SUMMARY:London Symphony Orchestra
DESCRIPTION:London Symphony Orchestra\nDate: 8pm\, 1 March\, 2017\nVenue: Macau Cultural Centre\, Grand Auditorium\nTickets: $880\, $680 from Macauticket
URL:https://www.bcmagazine.net/event/london-symphony-orchestra/
LOCATION:Macao Cultural Centre\, Grand Auditorium\, Avenida Xian Xing Hai\, Macau\, Macau
CATEGORIES:2017,Concert,Macau,Music,Performing Arts
END:VEVENT
BEGIN:VEVENT
DTSTART;TZID=Asia/Hong_Kong:20170303T200000
DTEND;TZID=Asia/Hong_Kong:20170303T200000
DTSTAMP:20260424T030248
CREATED:19170123T232222Z
LAST-MODIFIED:20170123T232453Z
UID:10002442-1488571200-1488571200@www.bcmagazine.net
SUMMARY:Before You Exit
DESCRIPTION:Before You Exit Asia Tour 2017\nDate: 8pm\, 3 March\, 2017\nVenue: KITEC\, Music Zone@E-Max\nTickets: $500\, $300 from Ticketflap
URL:https://www.bcmagazine.net/event/before-you-exit-2017/
LOCATION:KITEC\, Music Zone@E-Max\, KITEC\,‎ 1 Trademart Drive\, Kowloon Bay\, Hong Kong
CATEGORIES:2017,Concert,Music
GEO:22.3239575;114.2037608
X-APPLE-STRUCTURED-LOCATION;VALUE=URI;X-ADDRESS=KITEC Music Zone@E-Max KITEC‎ 1 Trademart Drive Kowloon Bay Hong Kong;X-APPLE-RADIUS=500;X-TITLE=KITEC\,‎ 1 Trademart Drive:geo:114.2037608,22.3239575
END:VEVENT
BEGIN:VEVENT
DTSTART;TZID=Asia/Hong_Kong:20170303T200000
DTEND;TZID=Asia/Hong_Kong:20170303T200000
DTSTAMP:20260424T030248
CREATED:19170125T035738Z
LAST-MODIFIED:20170125T040045Z
UID:10001072-1488571200-1488571200@www.bcmagazine.net
SUMMARY:Astro
DESCRIPTION:Astro\nDate: 8pm\, 3 March\, 2017\nVenue: Macpherson Stadium\nTickets: $980\, $680 from Cityline
URL:https://www.bcmagazine.net/event/astro-2017/
LOCATION:MacPherson Stadium\, 38 Nelson Street\, Mongkok\, Hong Kong
CATEGORIES:2017,Concert,Music
GEO:22.3188457;114.1728403
X-APPLE-STRUCTURED-LOCATION;VALUE=URI;X-ADDRESS=MacPherson Stadium 38 Nelson Street Mongkok Hong Kong;X-APPLE-RADIUS=500;X-TITLE=38 Nelson Street:geo:114.1728403,22.3188457
END:VEVENT
BEGIN:VEVENT
DTSTART;TZID=Asia/Hong_Kong:20170304T193000
DTEND;TZID=Asia/Hong_Kong:20170304T193000
DTSTAMP:20260424T030248
CREATED:19161228T143707Z
LAST-MODIFIED:20161228T144032Z
UID:10001059-1488655800-1488655800@www.bcmagazine.net
SUMMARY:Macao Youth Symphony Orchestra
DESCRIPTION:Macao Youth Symphony Orchestra\nDate: 7:30pm\, 4 March\, 2017\nVenue: Macau Cultural Centre\, Small Auditorium\nTickets: $70 from MacauTicket
URL:https://www.bcmagazine.net/event/macao-youth-symphony-orchestra-04-03-2017/
LOCATION:Macao Cultural Centre\, Small Auditorium\, Macau
CATEGORIES:2017,Concert,Macau,Music
END:VEVENT
BEGIN:VEVENT
DTSTART;TZID=Asia/Hong_Kong:20170304T200000
DTEND;TZID=Asia/Hong_Kong:20170304T200000
DTSTAMP:20260424T030248
CREATED:19160913T065630Z
LAST-MODIFIED:20160913T071051Z
UID:10000825-1488657600-1488657600@www.bcmagazine.net
SUMMARY:IC2017 Contemporary Song Festival
DESCRIPTION:The Intimacy of Creativity 2017 Contemporary Song Festival – Preview Concert\nHKUST Music Live!\nDate: 8pm\, 4 March\, 2017\nVenue: HKUST\, Cheng Yu Tung Building\, CMA Lecture Hall\nTickets: free – register here
URL:https://www.bcmagazine.net/event/ic2017-contemporary-song-festival-04-03-2017/
LOCATION:HKUST\, Cheng Yu Tung Building\, CMA Lecture Hall\, Clear Water Bay\, Hong Kong
CATEGORIES:2017,Concert,Free,Music,Performing Arts
GEO:22.3104901;114.2836275
END:VEVENT
BEGIN:VEVENT
DTSTART;TZID=Asia/Hong_Kong:20170305T160000
DTEND;TZID=Asia/Hong_Kong:20170305T160000
DTSTAMP:20260424T030248
CREATED:19160913T070228Z
LAST-MODIFIED:20160913T071108Z
UID:10000829-1488729600-1488729600@www.bcmagazine.net
SUMMARY:IC2017 Contemporary Song Festival
DESCRIPTION:The Intimacy of Creativity 2017 Contemporary Song Festival – World Premiere\nHKUST Music Live!\nDate: 4pm\, 5 March\, 2017\nVenue: Asia Society\, HK Center\nTickets: tbc
URL:https://www.bcmagazine.net/event/ic2017-contemporary-song-festival-05-03-2017/
LOCATION:Asia Society Hong Kong Center\, 9 Justice Drive\, Admiralty\, Hong Kong
CATEGORIES:2017,Concert,Music,Performing Arts
END:VEVENT
BEGIN:VEVENT
DTSTART;TZID=Asia/Hong_Kong:20170306T200000
DTEND;TZID=Asia/Hong_Kong:20170306T200000
DTSTAMP:20260424T030248
CREATED:19170210T105958Z
LAST-MODIFIED:20170210T110442Z
UID:10001090-1488830400-1488830400@www.bcmagazine.net
SUMMARY:Joe Mok
DESCRIPTION:Joe Mok\nDate: 8pm\, 6 March\, 2017\nVenue: HK Cultural Centre\, Concert Hall\nTickets: $450\, $350\, $250\, $150 from Urbtix
URL:https://www.bcmagazine.net/event/joe-mok-2017/
LOCATION:HK Cultural Centre\, Concert Hall\, 10 Salisbury Road\, Tsim Sha Tsui\, Hong Kong
CATEGORIES:2017,Concert,Music
GEO:22.294318;114.171708
X-APPLE-STRUCTURED-LOCATION;VALUE=URI;X-ADDRESS=HK Cultural Centre Concert Hall 10 Salisbury Road Tsim Sha Tsui Hong Kong;X-APPLE-RADIUS=500;X-TITLE=10 Salisbury Road:geo:114.171708,22.294318
END:VEVENT
BEGIN:VEVENT
DTSTART;TZID=Asia/Hong_Kong:20170307T200000
DTEND;TZID=Asia/Hong_Kong:20170307T200000
DTSTAMP:20260424T030249
CREATED:20170211T121352Z
LAST-MODIFIED:20170211T121352Z
UID:10006378-1488916800-1488916800@www.bcmagazine.net
SUMMARY:Braids
DESCRIPTION:Braids\nSupport: So It Goes\nDate: 8pm\, 7 March\, 2017\nVenue: Hidden Agenda\nTickets: $320\, $260 (Advance) from Ticketflap
URL:https://www.bcmagazine.net/event/braids-2017/
LOCATION:Hidden Agenda (Livehouse)\, 80 Hung To Road\, Kwun Tong\, Hong Kong
CATEGORIES:2017,Concert,Music
GEO:22.308171;114.223939
X-APPLE-STRUCTURED-LOCATION;VALUE=URI;X-ADDRESS=Hidden Agenda (Livehouse) 80 Hung To Road Kwun Tong Hong Kong;X-APPLE-RADIUS=500;X-TITLE=80 Hung To Road:geo:114.223939,22.308171
END:VEVENT
BEGIN:VEVENT
DTSTART;TZID=Asia/Hong_Kong:20170308T200000
DTEND;TZID=Asia/Hong_Kong:20170308T200000
DTSTAMP:20260424T030249
CREATED:19170210T104439Z
LAST-MODIFIED:20170210T110837Z
UID:10002460-1489003200-1489003200@www.bcmagazine.net
SUMMARY:Rosanne Lui
DESCRIPTION:Rosanne Lui\nDate: 8pm\, 8 March\, 2017\nVenue: HK Cultural Centre\, Concert Hall\nTickets: $480\, $380\, $280\, $180 from Urbtix
URL:https://www.bcmagazine.net/event/rosanne-lui-08-03-2017/
LOCATION:HK Cultural Centre\, Concert Hall\, 10 Salisbury Road\, Tsim Sha Tsui\, Hong Kong
CATEGORIES:2017,Concert,Music
GEO:22.294318;114.171708
X-APPLE-STRUCTURED-LOCATION;VALUE=URI;X-ADDRESS=HK Cultural Centre Concert Hall 10 Salisbury Road Tsim Sha Tsui Hong Kong;X-APPLE-RADIUS=500;X-TITLE=10 Salisbury Road:geo:114.171708,22.294318
END:VEVENT
BEGIN:VEVENT
DTSTART;TZID=Asia/Hong_Kong:20170309T200000
DTEND;TZID=Asia/Hong_Kong:20170309T200000
DTSTAMP:20260424T030249
CREATED:20170216T092632Z
LAST-MODIFIED:20170216T092632Z
UID:10006380-1489089600-1489089600@www.bcmagazine.net
SUMMARY:La Femme
DESCRIPTION:La Femme\nWhen: 8pm\, 9 March\, 2017\nWhere: Kitec\, Music Zone@E-Max\nHow much: $450\, $380 from Peatix
URL:https://www.bcmagazine.net/event/la-femme-2017/
LOCATION:KITEC\, Music Zone@E-Max\, KITEC\,‎ 1 Trademart Drive\, Kowloon Bay\, Hong Kong
CATEGORIES:2017,Concert,Music
GEO:22.3239575;114.2037608
X-APPLE-STRUCTURED-LOCATION;VALUE=URI;X-ADDRESS=KITEC Music Zone@E-Max KITEC‎ 1 Trademart Drive Kowloon Bay Hong Kong;X-APPLE-RADIUS=500;X-TITLE=KITEC\,‎ 1 Trademart Drive:geo:114.2037608,22.3239575
END:VEVENT
BEGIN:VEVENT
DTSTART;TZID=Asia/Hong_Kong:20170310T190000
DTEND;TZID=Asia/Hong_Kong:20170310T190000
DTSTAMP:20260424T030249
CREATED:19161221T100953Z
LAST-MODIFIED:20161221T101519Z
UID:10002408-1489172400-1489172400@www.bcmagazine.net
SUMMARY:Anisong Fantasy Live
DESCRIPTION:Anisong Fantasy Live\nAimer\, Alisa Takigawa\, Elisa\, Garnidelia\, Kalafina\, Luna Haruna\nDate: 7pm\, 10 March\, 2017\nVenue: QE Stadium\nTickets: $1\,380\, $880\, $680\, $480 from Urbtix
URL:https://www.bcmagazine.net/event/anisong-fantasy-live/
LOCATION:Queen Elizabeth Stadium\, 18 Oi Kwan Road\, Wanchai\, Hong Kong
CATEGORIES:2017,Concert,Music
GEO:22.2751271;114.1789682
X-APPLE-STRUCTURED-LOCATION;VALUE=URI;X-ADDRESS=Queen Elizabeth Stadium 18 Oi Kwan Road Wanchai Hong Kong;X-APPLE-RADIUS=500;X-TITLE=18 Oi Kwan Road:geo:114.1789682,22.2751271
END:VEVENT
BEGIN:VEVENT
DTSTART;TZID=Asia/Hong_Kong:20170310T200000
DTEND;TZID=Asia/Hong_Kong:20170310T200000
DTSTAMP:20260424T030249
CREATED:19170210T104145Z
LAST-MODIFIED:20170210T104415Z
UID:10002459-1489176000-1489176000@www.bcmagazine.net
SUMMARY:Hong Kong Gospel Festival
DESCRIPTION:Hong Kong Gospel Festival\nDate: 8pm\, 10 March\, 2017\nVenue: HK Cultural Centre\, Grand Theatre\nTickets: $2\,000\, $1\,000\, $500\, $250 from Urbtix
URL:https://www.bcmagazine.net/event/hong-kong-gospel-festival-10-03-2017/
LOCATION:HK Cultural Centre\, Grand Theatre\,\, 10 Salisbury Road\, Tsim Sha Tsui\, Hong Kong
CATEGORIES:2017,Concert,Music,Performing Arts
GEO:22.294318;114.171708
X-APPLE-STRUCTURED-LOCATION;VALUE=URI;X-ADDRESS=HK Cultural Centre Grand Theatre 10 Salisbury Road Tsim Sha Tsui Hong Kong;X-APPLE-RADIUS=500;X-TITLE=10 Salisbury Road:geo:114.171708,22.294318
END:VEVENT
BEGIN:VEVENT
DTSTART;VALUE=DATE:20170311
DTEND;VALUE=DATE:20170312
DTSTAMP:20260424T030249
CREATED:19170104T042828Z
LAST-MODIFIED:20170104T044521Z
UID:10001060-1489190400-1489276799@www.bcmagazine.net
SUMMARY:Altn8 Music Festival
DESCRIPTION:Altn8 Music Festival\nDate: 11 March 2017\nVenues: Zafran\, Fly\, Stockton\, Kee Backstage\, Rulabula\, Volar\, Halycon\nTickets: $1\,780\, $1\,500\, $980\, $780 from Ticketflap
URL:https://www.bcmagazine.net/event/altn8-music-festival-2017/
CATEGORIES:2017,Concert,DJ,Music
END:VEVENT
BEGIN:VEVENT
DTSTART;TZID=Asia/Hong_Kong:20170311T200000
DTEND;TZID=Asia/Hong_Kong:20170311T200000
DTSTAMP:20260424T030249
CREATED:20170209T083810Z
LAST-MODIFIED:20170209T083810Z
UID:10006374-1489262400-1489262400@www.bcmagazine.net
SUMMARY:Supper Moment
DESCRIPTION:Supper Moment 10th Anniversary Concert – Macao\nDate: 8pm\, 11 March\, 2017\nVenue: Cotai Arena\nTickets: $880\, $680\, $480\, $280 from HKTicketing
URL:https://www.bcmagazine.net/event/supper-moment-macau-2017/
LOCATION:CotaiArena\, Venetian Macao\, Taipa\, Macau
CATEGORIES:2017,Concert,Macau,Music
GEO:22.1483528;113.5602019
X-APPLE-STRUCTURED-LOCATION;VALUE=URI;X-ADDRESS=CotaiArena Venetian Macao Taipa Macau;X-APPLE-RADIUS=500;X-TITLE=Venetian Macao:geo:113.5602019,22.1483528
END:VEVENT
BEGIN:VEVENT
DTSTART;TZID=Asia/Hong_Kong:20170311T200000
DTEND;TZID=Asia/Hong_Kong:20170311T200000
DTSTAMP:20260424T030249
CREATED:20170212T001357Z
LAST-MODIFIED:20170211T133833Z
UID:10006379-1489262400-1489262400@www.bcmagazine.net
SUMMARY:Axelle Red
DESCRIPTION:First live performance in Hong Kong for Belgian soul pop icon\, Axelle Red. Axelle will perform iconic songs from her upcoming album Acoustic. \nAxelle Red\nDate: 8pm\, 11 March\, 2017\nVenue: MOM Livehouse\nTickets: $430\, $380 from Ticketflap
URL:https://www.bcmagazine.net/event/axelle-red-2017/
LOCATION:MOM Livehouse\, B39 Seven Seas Shopping Centre\, 117-121 Kings Road\, North Point\, Hong Kong
CATEGORIES:2017,Concert,Music
GEO:22.2884683;114.192803
X-APPLE-STRUCTURED-LOCATION;VALUE=URI;X-ADDRESS=MOM Livehouse B39 Seven Seas Shopping Centre 117-121 Kings Road North Point Hong Kong;X-APPLE-RADIUS=500;X-TITLE=B39 Seven Seas Shopping Centre\, 117-121 Kings Road:geo:114.192803,22.2884683
END:VEVENT
BEGIN:VEVENT
DTSTART;TZID=Asia/Hong_Kong:20170311T201500
DTEND;TZID=Asia/Hong_Kong:20170311T201500
DTSTAMP:20260424T030249
CREATED:19170210T112025Z
LAST-MODIFIED:20170210T112328Z
UID:10001092-1489263300-1489263300@www.bcmagazine.net
SUMMARY:Kinjo Gakuin University Handbell Choir
DESCRIPTION:Kinjo Gakuin University Handbell Choir\nDate: 8:15pm\, 11 March\, 2017\nVenue: Jockey Club Auditorium\, The Hong Kong Polytechnic University\nTickets: $450\, $360\, $240\, $160 from Urbtix
URL:https://www.bcmagazine.net/event/kinjo-gakuin-university-handbell-choir/
LOCATION:Hong Kong Polytechnic University\, Jockey Club Auditorium\, Hong Kong
CATEGORIES:2017,Concert,Music,Performing Arts
GEO:22.396428;114.109497
END:VEVENT
BEGIN:VEVENT
DTSTART;TZID=Asia/Hong_Kong:20170313T193000
DTEND;TZID=Asia/Hong_Kong:20170313T193000
DTSTAMP:20260424T030249
CREATED:19170210T103833Z
LAST-MODIFIED:20170210T104032Z
UID:10002458-1489433400-1489433400@www.bcmagazine.net
SUMMARY:Art And Culture Motivation
DESCRIPTION:Art And Culture Motivation\nDate: 7:30pm\, 13 March\, 2017\nVenue: HK Cultural Centre\, Grand Theatre\nTickets: $500\, $380\, $250\, $150\, $100 from Urbtix
URL:https://www.bcmagazine.net/event/art-and-culture-motivation-2017/
LOCATION:HK Cultural Centre\, Grand Theatre\,\, 10 Salisbury Road\, Tsim Sha Tsui\, Hong Kong
CATEGORIES:2017,Concert,Music,Performing Arts
GEO:22.294318;114.171708
X-APPLE-STRUCTURED-LOCATION;VALUE=URI;X-ADDRESS=HK Cultural Centre Grand Theatre 10 Salisbury Road Tsim Sha Tsui Hong Kong;X-APPLE-RADIUS=500;X-TITLE=10 Salisbury Road:geo:114.171708,22.294318
END:VEVENT
BEGIN:VEVENT
DTSTART;TZID=Asia/Hong_Kong:20170313T200000
DTEND;TZID=Asia/Hong_Kong:20170313T200000
DTSTAMP:20260424T030249
CREATED:20170210T084958Z
LAST-MODIFIED:20170210T084958Z
UID:10006375-1489435200-1489435200@www.bcmagazine.net
SUMMARY:1099
DESCRIPTION:1099\nDate: 8pm\, 13 March\, 2017\nVenue: MOM Livehouse\nTickets: $200\, $150
URL:https://www.bcmagazine.net/event/1099-live-2017/
LOCATION:MOM Livehouse\, B39 Seven Seas Shopping Centre\, 117-121 Kings Road\, North Point\, Hong Kong
CATEGORIES:2017,Concert,Music
GEO:22.2884683;114.192803
X-APPLE-STRUCTURED-LOCATION;VALUE=URI;X-ADDRESS=MOM Livehouse B39 Seven Seas Shopping Centre 117-121 Kings Road North Point Hong Kong;X-APPLE-RADIUS=500;X-TITLE=B39 Seven Seas Shopping Centre\, 117-121 Kings Road:geo:114.192803,22.2884683
END:VEVENT
BEGIN:VEVENT
DTSTART;TZID=Asia/Hong_Kong:20170318T190000
DTEND;TZID=Asia/Hong_Kong:20170318T190000
DTSTAMP:20260424T030249
CREATED:20170120T151150Z
LAST-MODIFIED:20170120T151150Z
UID:10006364-1489863600-1489863600@www.bcmagazine.net
SUMMARY:Remembering Jacky Yip
DESCRIPTION:Remembering Jacky Yip\nTacit Closet (ft. Eric Chu\, Ky Chan\, Mercy Hung)\, The Time Traveller\, Stephen Mok\, Flashback\nDate: 7pm\, 18 March\, 2017\nVenue: MOM Livehouse\nTickets: email hmsytk@gmail.com
URL:https://www.bcmagazine.net/event/remembering-jacky-yip-2017/
LOCATION:MOM Livehouse\, B39 Seven Seas Shopping Centre\, 117-121 Kings Road\, North Point\, Hong Kong
CATEGORIES:2017,Charity,Concert,Music
GEO:22.2884683;114.192803
X-APPLE-STRUCTURED-LOCATION;VALUE=URI;X-ADDRESS=MOM Livehouse B39 Seven Seas Shopping Centre 117-121 Kings Road North Point Hong Kong;X-APPLE-RADIUS=500;X-TITLE=B39 Seven Seas Shopping Centre\, 117-121 Kings Road:geo:114.192803,22.2884683
END:VEVENT
BEGIN:VEVENT
DTSTART;TZID=Asia/Hong_Kong:20170318T200000
DTEND;TZID=Asia/Hong_Kong:20170318T200000
DTSTAMP:20260424T030249
CREATED:19170210T103601Z
LAST-MODIFIED:20170210T111155Z
UID:10002456-1489867200-1489867200@www.bcmagazine.net
SUMMARY:Hong Kong Art of Hu Qin Association
DESCRIPTION:Hong Kong Art of Hu Qin Association\nDate: 8pm\, 18-19 March\, 2017\nVenue: HK Cultural Centre\, Concert Hall\nTickets: $580\, $380\, $280\, $180 from Urbtix
URL:https://www.bcmagazine.net/event/hong-kong-art-of-hu-qin-association/2017-03-18/
LOCATION:HK Cultural Centre\, Concert Hall\, 10 Salisbury Road\, Tsim Sha Tsui\, Hong Kong
CATEGORIES:2017,Concert,Music,Performing Arts
GEO:22.294318;114.171708
X-APPLE-STRUCTURED-LOCATION;VALUE=URI;X-ADDRESS=HK Cultural Centre Concert Hall 10 Salisbury Road Tsim Sha Tsui Hong Kong;X-APPLE-RADIUS=500;X-TITLE=10 Salisbury Road:geo:114.171708,22.294318
END:VEVENT
BEGIN:VEVENT
DTSTART;TZID=Asia/Hong_Kong:20170318T200000
DTEND;TZID=Asia/Hong_Kong:20170318T200000
DTSTAMP:20260424T030249
CREATED:19170210T105217Z
LAST-MODIFIED:20170210T105416Z
UID:10001087-1489867200-1489867200@www.bcmagazine.net
SUMMARY:Rosanne Lui
DESCRIPTION:Rosanne Lui\nDate: 8pm\, 18 March\, 2017\nVenue: HK City Hall\, Concert Hall\nTickets: $380\, $280\, $180 from Urbtix
URL:https://www.bcmagazine.net/event/rosanne-lui-18-03-2017/
LOCATION:HK City Hall\, Concert Hall\,  5 Edinburgh Place\, Central\, Hong Kong
CATEGORIES:2017,Concert,Music
END:VEVENT
BEGIN:VEVENT
DTSTART;TZID=Asia/Hong_Kong:20170319T200000
DTEND;TZID=Asia/Hong_Kong:20170319T200000
DTSTAMP:20260424T030249
CREATED:19170210T103601Z
LAST-MODIFIED:20170210T111155Z
UID:10002457-1489953600-1489953600@www.bcmagazine.net
SUMMARY:Hong Kong Art of Hu Qin Association
DESCRIPTION:Hong Kong Art of Hu Qin Association\nDate: 8pm\, 18-19 March\, 2017\nVenue: HK Cultural Centre\, Concert Hall\nTickets: $580\, $380\, $280\, $180 from Urbtix
URL:https://www.bcmagazine.net/event/hong-kong-art-of-hu-qin-association/2017-03-19/
LOCATION:HK Cultural Centre\, Concert Hall\, 10 Salisbury Road\, Tsim Sha Tsui\, Hong Kong
CATEGORIES:2017,Concert,Music,Performing Arts
GEO:22.294318;114.171708
X-APPLE-STRUCTURED-LOCATION;VALUE=URI;X-ADDRESS=HK Cultural Centre Concert Hall 10 Salisbury Road Tsim Sha Tsui Hong Kong;X-APPLE-RADIUS=500;X-TITLE=10 Salisbury Road:geo:114.171708,22.294318
END:VEVENT
BEGIN:VEVENT
DTSTART;TZID=Asia/Hong_Kong:20170320T200000
DTEND;TZID=Asia/Hong_Kong:20170320T200000
DTSTAMP:20260424T030249
CREATED:19170210T103342Z
LAST-MODIFIED:20170210T111336Z
UID:10002455-1490040000-1490040000@www.bcmagazine.net
SUMMARY:Ziu Yang Chinese Opera Society
DESCRIPTION:Ziu Yang Chinese Opera Society\nDate: 8pm\, 20 March\, 2017\nVenue: HK Cultural Centre\, Concert Hall\nTickets: $400\, $300\, $200\, $150 from Urbtix
URL:https://www.bcmagazine.net/event/ziu-yang-chinese-opera-society-2017/
LOCATION:HK Cultural Centre\, Concert Hall\, 10 Salisbury Road\, Tsim Sha Tsui\, Hong Kong
CATEGORIES:2017,Cantonese Opera,Concert,Music,Performing Arts
GEO:22.294318;114.171708
X-APPLE-STRUCTURED-LOCATION;VALUE=URI;X-ADDRESS=HK Cultural Centre Concert Hall 10 Salisbury Road Tsim Sha Tsui Hong Kong;X-APPLE-RADIUS=500;X-TITLE=10 Salisbury Road:geo:114.171708,22.294318
END:VEVENT
BEGIN:VEVENT
DTSTART;TZID=Asia/Hong_Kong:20170322T200000
DTEND;TZID=Asia/Hong_Kong:20170322T200000
DTSTAMP:20260424T030249
CREATED:19161211T154405Z
LAST-MODIFIED:20161211T154637Z
UID:10001016-1490212800-1490212800@www.bcmagazine.net
SUMMARY:The Chick Corea Elektric Band
DESCRIPTION:The Chick Corea Elektric Band\nDate: 8pm\, 22 March\, 2017\nVenue: AC Baptist Hall\nTickets: $1\,280\, $980\, $680\, $380 from Cityline
URL:https://www.bcmagazine.net/event/the-chick-corea-elektric-band-2017/
LOCATION:HKBU Academic Community Hall\, 224 Waterloo Road\, Kowloon Tong\, Hong Kong
CATEGORIES:2017,Concert,Music
GEO:22.340854;114.1799456
X-APPLE-STRUCTURED-LOCATION;VALUE=URI;X-ADDRESS=HKBU Academic Community Hall 224 Waterloo Road Kowloon Tong Hong Kong;X-APPLE-RADIUS=500;X-TITLE=224 Waterloo Road:geo:114.1799456,22.340854
END:VEVENT
BEGIN:VEVENT
DTSTART;TZID=Asia/Hong_Kong:20170323T193000
DTEND;TZID=Asia/Hong_Kong:20170323T193000
DTSTAMP:20260424T030249
CREATED:19170215T105024Z
LAST-MODIFIED:20170215T105300Z
UID:10002463-1490297400-1490297400@www.bcmagazine.net
SUMMARY:Bo Ningen
DESCRIPTION:Bo Ningen\nDate: 7:30pm\, 23 March\, 2017\nVenue: Kitec\, Music Zone@E-Max\nTickets: $320 from Ticketflap
URL:https://www.bcmagazine.net/event/bo-ningen-2017/
LOCATION:KITEC\, Music Zone@E-Max\, KITEC\,‎ 1 Trademart Drive\, Kowloon Bay\, Hong Kong
CATEGORIES:2017,Concert,Music
GEO:22.3239575;114.2037608
X-APPLE-STRUCTURED-LOCATION;VALUE=URI;X-ADDRESS=KITEC Music Zone@E-Max KITEC‎ 1 Trademart Drive Kowloon Bay Hong Kong;X-APPLE-RADIUS=500;X-TITLE=KITEC\,‎ 1 Trademart Drive:geo:114.2037608,22.3239575
END:VEVENT
BEGIN:VEVENT
DTSTART;TZID=Asia/Hong_Kong:20170323T201500
DTEND;TZID=Asia/Hong_Kong:20170323T201500
DTSTAMP:20260424T030249
CREATED:19170210T101621Z
LAST-MODIFIED:20170210T101952Z
UID:10002449-1490300100-1490300100@www.bcmagazine.net
SUMMARY:Tat Ming Pair
DESCRIPTION:Tat Ming Pair\nDate: 8:15pm\, 23-25 March\, 2017\nVenue: HK Coliseum\nTickets: $900\, $780\, $580\, $380 from Urbtix
URL:https://www.bcmagazine.net/event/tat-ming-pair-2017/2017-03-23/
LOCATION:HK Coliseum\, 9 Cheong Wan Road\, Hung Hom\, Hong Kong
CATEGORIES:2017,Concert,Music
GEO:22.3014169;114.1820305
X-APPLE-STRUCTURED-LOCATION;VALUE=URI;X-ADDRESS=HK Coliseum 9 Cheong Wan Road Hung Hom Hong Kong;X-APPLE-RADIUS=500;X-TITLE=9 Cheong Wan Road:geo:114.1820305,22.3014169
END:VEVENT
BEGIN:VEVENT
DTSTART;TZID=Asia/Hong_Kong:20170324T201500
DTEND;TZID=Asia/Hong_Kong:20170324T201500
DTSTAMP:20260424T030249
CREATED:19170210T101621Z
LAST-MODIFIED:20170210T101952Z
UID:10002450-1490386500-1490386500@www.bcmagazine.net
SUMMARY:Tat Ming Pair
DESCRIPTION:Tat Ming Pair\nDate: 8:15pm\, 23-25 March\, 2017\nVenue: HK Coliseum\nTickets: $900\, $780\, $580\, $380 from Urbtix
URL:https://www.bcmagazine.net/event/tat-ming-pair-2017/2017-03-24/
LOCATION:HK Coliseum\, 9 Cheong Wan Road\, Hung Hom\, Hong Kong
CATEGORIES:2017,Concert,Music
GEO:22.3014169;114.1820305
X-APPLE-STRUCTURED-LOCATION;VALUE=URI;X-ADDRESS=HK Coliseum 9 Cheong Wan Road Hung Hom Hong Kong;X-APPLE-RADIUS=500;X-TITLE=9 Cheong Wan Road:geo:114.1820305,22.3014169
END:VEVENT
BEGIN:VEVENT
DTSTART;TZID=Asia/Hong_Kong:20170325T200000
DTEND;TZID=Asia/Hong_Kong:20170325T200000
DTSTAMP:20260424T030249
CREATED:19170128T134446Z
LAST-MODIFIED:20170128T134856Z
UID:10001073-1490472000-1490472000@www.bcmagazine.net
SUMMARY:Alexandros
DESCRIPTION:Alexandros – We Come in Peace \nDate: 8pm\, 25 March\, 2017\nVenue: KITEC Music Zone@E-Max\nTickets: $680\, $480 from Cityline
URL:https://www.bcmagazine.net/event/alexandros-2017/
LOCATION:KITEC\, Music Zone@E-Max\, KITEC\,‎ 1 Trademart Drive\, Kowloon Bay\, Hong Kong
CATEGORIES:2017,Concert,Music
GEO:22.3239575;114.2037608
X-APPLE-STRUCTURED-LOCATION;VALUE=URI;X-ADDRESS=KITEC Music Zone@E-Max KITEC‎ 1 Trademart Drive Kowloon Bay Hong Kong;X-APPLE-RADIUS=500;X-TITLE=KITEC\,‎ 1 Trademart Drive:geo:114.2037608,22.3239575
END:VEVENT
BEGIN:VEVENT
DTSTART;TZID=Asia/Hong_Kong:20170325T200000
DTEND;TZID=Asia/Hong_Kong:20170325T200000
DTSTAMP:20260424T030249
CREATED:19170320T162945Z
LAST-MODIFIED:20170320T163926Z
UID:10002476-1490472000-1490472000@www.bcmagazine.net
SUMMARY:Kim Jae Jong
DESCRIPTION:Kim Jae Jong\nDate: 8pm\, 25 March\, 2017\nVenue: Venetian\, CotaiArena\nTickets: $1\,680\, $1\,380\, $1\,180\, $880 from HKTicketing
URL:https://www.bcmagazine.net/event/kim-jae-jong-2017/
LOCATION:CotaiArena\, Venetian Macao\, Taipa\, Macau
CATEGORIES:2017,Concert,Macau,Music
GEO:22.1483528;113.5602019
X-APPLE-STRUCTURED-LOCATION;VALUE=URI;X-ADDRESS=CotaiArena Venetian Macao Taipa Macau;X-APPLE-RADIUS=500;X-TITLE=Venetian Macao:geo:113.5602019,22.1483528
END:VEVENT
END:VCALENDAR