BEGIN:VCALENDAR
VERSION:2.0
PRODID:-//bc magazine - ECPv6.15.20//NONSGML v1.0//EN
CALSCALE:GREGORIAN
METHOD:PUBLISH
X-WR-CALNAME:bc magazine
X-ORIGINAL-URL:https://www.bcmagazine.net
X-WR-CALDESC:Events for bc magazine
REFRESH-INTERVAL;VALUE=DURATION:PT1H
X-Robots-Tag:noindex
X-PUBLISHED-TTL:PT1H
BEGIN:VTIMEZONE
TZID:Asia/Hong_Kong
BEGIN:STANDARD
TZOFFSETFROM:+0800
TZOFFSETTO:+0800
TZNAME:HKT
DTSTART:20160101T000000
END:STANDARD
END:VTIMEZONE
BEGIN:VEVENT
DTSTART;TZID=Asia/Hong_Kong:20171002T193000
DTEND;TZID=Asia/Hong_Kong:20171002T193000
DTSTAMP:20260423T131148
CREATED:19170910T090347Z
LAST-MODIFIED:20170910T090543Z
UID:10003462-1506972600-1506972600@www.bcmagazine.net
SUMMARY:Mika Type
DESCRIPTION:Mika Type\nDate: 7:30pm\, 2 October\, 2017\nVenue: Kitec\, Music Zone@E-Max\nTickets: $580\, $380 from Cityline
URL:https://www.bcmagazine.net/event/mika-type-2017/
LOCATION:KITEC\, Music Zone@E-Max\, KITEC\,‎ 1 Trademart Drive\, Kowloon Bay\, Hong Kong
CATEGORIES:2017,Concert,Music,Performing Arts
GEO:22.3239575;114.2037608
X-APPLE-STRUCTURED-LOCATION;VALUE=URI;X-ADDRESS=KITEC Music Zone@E-Max KITEC‎ 1 Trademart Drive Kowloon Bay Hong Kong;X-APPLE-RADIUS=500;X-TITLE=KITEC\,‎ 1 Trademart Drive:geo:114.2037608,22.3239575
END:VEVENT
BEGIN:VEVENT
DTSTART;TZID=Asia/Hong_Kong:20171002T200000
DTEND;TZID=Asia/Hong_Kong:20171002T200000
DTSTAMP:20260423T131148
CREATED:19170709T062208Z
LAST-MODIFIED:20170709T070838Z
UID:10003027-1506974400-1506974400@www.bcmagazine.net
SUMMARY:Hong Kong Erhu Arts Centre
DESCRIPTION:Hong Kong Erhu Arts Centre\nDate: 8pm 2 October\, 2017\nVenue: HK Cultural Centre\, Studio Theatre\nTickets: $200 from Urbtix
URL:https://www.bcmagazine.net/event/hong-kong-erhu-arts-centre-2017/
LOCATION:HK Cultural Centre\, Studio Theatre\, 10 Salisbury Road\, Tsim Sha Tsui\, Hong Kong
CATEGORIES:2017,Concert,Music,Performing Arts
END:VEVENT
BEGIN:VEVENT
DTSTART;TZID=Asia/Hong_Kong:20171002T200000
DTEND;TZID=Asia/Hong_Kong:20171002T200000
DTSTAMP:20260423T131148
CREATED:19170807T083751Z
LAST-MODIFIED:20170807T084125Z
UID:10003119-1506974400-1506974400@www.bcmagazine.net
SUMMARY:Mamamoo
DESCRIPTION:Mamamoo –  1st Party in Hong Kong\nDate: 8pm\, 2 October\, 2017\nVenue: Kitec\, Rotunda 3\nTickets: $1\,280\, $880 from HKTicketing
URL:https://www.bcmagazine.net/event/mamamoo-2017/
LOCATION:KITEC\, Rotunda 3\, 1 Trademart Drive\, Kowloon Bay\, Hong Kong
CATEGORIES:2017,Concert,Music
GEO:22.3239575;114.2037608
X-APPLE-STRUCTURED-LOCATION;VALUE=URI;X-ADDRESS=KITEC Rotunda 3 1 Trademart Drive Kowloon Bay Hong Kong;X-APPLE-RADIUS=500;X-TITLE=1 Trademart Drive:geo:114.2037608,22.3239575
END:VEVENT
BEGIN:VEVENT
DTSTART;TZID=Asia/Hong_Kong:20171003T200000
DTEND;TZID=Asia/Hong_Kong:20171003T200000
DTSTAMP:20260423T131148
CREATED:19170826T101430Z
LAST-MODIFIED:20170826T102322Z
UID:10003267-1507060800-1507060800@www.bcmagazine.net
SUMMARY:Wanna One
DESCRIPTION:Wanna One\nDate: 8pm\, 3 October\, 2017\nVenue: AsiaWorld Expo\, Hall 10\nTickets: $1\,480\, $980\, $680 from HKTicketing
URL:https://www.bcmagazine.net/event/wanna-one-2017/
LOCATION:AsiaWorld-Expo\, Hall 10\, Cheong Wing Road\, Chek Lap Kok\, Lantau\, Hong Kong
CATEGORIES:2017,Concert,Music,Performing Arts
GEO:22.3217383;113.9402012
X-APPLE-STRUCTURED-LOCATION;VALUE=URI;X-ADDRESS=AsiaWorld-Expo Hall 10 Cheong Wing Road Chek Lap Kok Lantau Hong Kong;X-APPLE-RADIUS=500;X-TITLE=Cheong Wing Road\, Chek Lap Kok:geo:113.9402012,22.3217383
END:VEVENT
BEGIN:VEVENT
DTSTART;TZID=Asia/Hong_Kong:20171005T200000
DTEND;TZID=Asia/Hong_Kong:20171005T200000
DTSTAMP:20260423T131148
CREATED:19170903T040056Z
LAST-MODIFIED:20170903T042107Z
UID:10003309-1507233600-1507233600@www.bcmagazine.net
SUMMARY:Lisa
DESCRIPTION:Lisa\nDate: 8pm\, 5 October\, 2017\nVenue: Queen Elizabeth Stadium\nTickets: $580\, $480\, $280 from Urbtix
URL:https://www.bcmagazine.net/event/lisa-05-10-2017/
LOCATION:Queen Elizabeth Stadium\, 18 Oi Kwan Road\, Wanchai\, Hong Kong
CATEGORIES:2017,Concert,Music,Performing Arts
GEO:22.2751271;114.1789682
X-APPLE-STRUCTURED-LOCATION;VALUE=URI;X-ADDRESS=Queen Elizabeth Stadium 18 Oi Kwan Road Wanchai Hong Kong;X-APPLE-RADIUS=500;X-TITLE=18 Oi Kwan Road:geo:114.1789682,22.2751271
END:VEVENT
BEGIN:VEVENT
DTSTART;TZID=Asia/Hong_Kong:20171007T200000
DTEND;TZID=Asia/Hong_Kong:20171007T200000
DTSTAMP:20260423T131148
CREATED:19170806T053034Z
LAST-MODIFIED:20170806T060251Z
UID:10003111-1507406400-1507406400@www.bcmagazine.net
SUMMARY:Amei
DESCRIPTION:Amei – Utopia 2.0\nDate: 8:15pm\, 7-8 October\, 2017\nVenue: HK Coliseum\nTickets: $980\, $580\, $380 from Urbtix
URL:https://www.bcmagazine.net/event/amei-07-10-2017/
LOCATION:HK Coliseum\, 9 Cheong Wan Road\, Hung Hom\, Hong Kong
CATEGORIES:2017,Concert,Music,Performing Arts
GEO:22.3014169;114.1820305
X-APPLE-STRUCTURED-LOCATION;VALUE=URI;X-ADDRESS=HK Coliseum 9 Cheong Wan Road Hung Hom Hong Kong;X-APPLE-RADIUS=500;X-TITLE=9 Cheong Wan Road:geo:114.1820305,22.3014169
END:VEVENT
BEGIN:VEVENT
DTSTART;TZID=Asia/Hong_Kong:20171007T203000
DTEND;TZID=Asia/Hong_Kong:20171007T203000
DTSTAMP:20260423T131148
CREATED:20170915T095624Z
LAST-MODIFIED:20170915T095624Z
UID:10006442-1507408200-1507408200@www.bcmagazine.net
SUMMARY:5 Dollar Tux
DESCRIPTION:5 Dollar Tux\nDate: 8:30pm\, 7 October\, 2017\nVenue: MOM Livehouse\nTickets: $200
URL:https://www.bcmagazine.net/event/5-dollar-tux-2017/
LOCATION:MOM Livehouse\, B39 Seven Seas Shopping Centre\, 117-121 Kings Road\, North Point\, Hong Kong
CATEGORIES:2017,Concert,Music,Performing Arts
GEO:22.2884683;114.192803
X-APPLE-STRUCTURED-LOCATION;VALUE=URI;X-ADDRESS=MOM Livehouse B39 Seven Seas Shopping Centre 117-121 Kings Road North Point Hong Kong;X-APPLE-RADIUS=500;X-TITLE=B39 Seven Seas Shopping Centre\, 117-121 Kings Road:geo:114.192803,22.2884683
END:VEVENT
BEGIN:VEVENT
DTSTART;TZID=Asia/Hong_Kong:20171008T200000
DTEND;TZID=Asia/Hong_Kong:20171008T200000
DTSTAMP:20260423T131148
CREATED:19170702T035650Z
LAST-MODIFIED:20170702T042836Z
UID:10002924-1507492800-1507492800@www.bcmagazine.net
SUMMARY:Versailles
DESCRIPTION:Versailles – 10th Anniversary Tour\nDate: 8pm\, 15 October\, 2017\nVenue: Kitec\, Music Zone@E-Max\nTickets: $790\, $690\, $490 from Cityline
URL:https://www.bcmagazine.net/event/versailles-2017/
LOCATION:KITEC\, Music Zone@E-Max\, KITEC\,‎ 1 Trademart Drive\, Kowloon Bay\, Hong Kong
CATEGORIES:2017,Concert,Music,Performing Arts
GEO:22.3239575;114.2037608
X-APPLE-STRUCTURED-LOCATION;VALUE=URI;X-ADDRESS=KITEC Music Zone@E-Max KITEC‎ 1 Trademart Drive Kowloon Bay Hong Kong;X-APPLE-RADIUS=500;X-TITLE=KITEC\,‎ 1 Trademart Drive:geo:114.2037608,22.3239575
END:VEVENT
BEGIN:VEVENT
DTSTART;TZID=Asia/Hong_Kong:20171008T200000
DTEND;TZID=Asia/Hong_Kong:20171008T200000
DTSTAMP:20260423T131148
CREATED:19170806T053034Z
LAST-MODIFIED:20170806T060401Z
UID:10003112-1507492800-1507492800@www.bcmagazine.net
SUMMARY:Amei
DESCRIPTION:Amei – Utopia 2.0\nDate: 8:15pm\, 7-8 October\, 2017\nVenue: HK Coliseum\nTickets: $980\, $580\, $380 from Urbtix
URL:https://www.bcmagazine.net/event/amei-08-10-2017/
LOCATION:HK Coliseum\, 9 Cheong Wan Road\, Hung Hom\, Hong Kong
CATEGORIES:2017,Concert,Music,Performing Arts
GEO:22.3014169;114.1820305
X-APPLE-STRUCTURED-LOCATION;VALUE=URI;X-ADDRESS=HK Coliseum 9 Cheong Wan Road Hung Hom Hong Kong;X-APPLE-RADIUS=500;X-TITLE=9 Cheong Wan Road:geo:114.1820305,22.3014169
END:VEVENT
BEGIN:VEVENT
DTSTART;TZID=Asia/Hong_Kong:20171010T193000
DTEND;TZID=Asia/Hong_Kong:20171010T193000
DTSTAMP:20260423T131148
CREATED:19170810T093057Z
LAST-MODIFIED:20170810T101204Z
UID:10003173-1507663800-1507663800@www.bcmagazine.net
SUMMARY:Aida
DESCRIPTION:Aida\nOpera Hong Kong\nDate: 7:30pm\, 10-15 October\, 2017\nVenue: HK Cultural Centre\, Grand Theatre\nTickets: tbc from Urbtix
URL:https://www.bcmagazine.net/event/aida-opera-hong-kong-10-10-2017/
LOCATION:HK Cultural Centre\, Grand Theatre\,\, 10 Salisbury Road\, Tsim Sha Tsui\, Hong Kong
CATEGORIES:2017,Concert,Music,Opera,Performing Arts
GEO:22.294318;114.171708
X-APPLE-STRUCTURED-LOCATION;VALUE=URI;X-ADDRESS=HK Cultural Centre Grand Theatre 10 Salisbury Road Tsim Sha Tsui Hong Kong;X-APPLE-RADIUS=500;X-TITLE=10 Salisbury Road:geo:114.171708,22.294318
END:VEVENT
BEGIN:VEVENT
DTSTART;TZID=Asia/Hong_Kong:20171011T193000
DTEND;TZID=Asia/Hong_Kong:20171011T193000
DTSTAMP:20260423T131148
CREATED:19170810T093057Z
LAST-MODIFIED:20170810T101246Z
UID:10003174-1507750200-1507750200@www.bcmagazine.net
SUMMARY:Aida
DESCRIPTION:Aida\nOpera Hong Kong\nDate: 7:30pm\, 10-15 October\, 2017\nVenue: HK Cultural Centre\, Grand Theatre\nTickets: tbc from Urbtix
URL:https://www.bcmagazine.net/event/aida-opera-hong-kong-11-10-2017/
LOCATION:HK Cultural Centre\, Grand Theatre\,\, 10 Salisbury Road\, Tsim Sha Tsui\, Hong Kong
CATEGORIES:2017,Concert,Music,Opera,Performing Arts
GEO:22.294318;114.171708
X-APPLE-STRUCTURED-LOCATION;VALUE=URI;X-ADDRESS=HK Cultural Centre Grand Theatre 10 Salisbury Road Tsim Sha Tsui Hong Kong;X-APPLE-RADIUS=500;X-TITLE=10 Salisbury Road:geo:114.171708,22.294318
END:VEVENT
BEGIN:VEVENT
DTSTART;TZID=Asia/Hong_Kong:20171011T201500
DTEND;TZID=Asia/Hong_Kong:20171011T201500
DTSTAMP:20260423T131148
CREATED:19170910T091613Z
LAST-MODIFIED:20170910T091904Z
UID:10003465-1507752900-1507752900@www.bcmagazine.net
SUMMARY:Eason Chan
DESCRIPTION:Eason Chan\nDate: 8:15pm\, 11-12 October\, 2017\nVenue: MacPherson Stadium\nTickets: $750 from Cityline
URL:https://www.bcmagazine.net/event/eason-chan-11-10-2017/
LOCATION:MacPherson Stadium\, 38 Nelson Street\, Mongkok\, Hong Kong
CATEGORIES:2017,Concert,Music,Performing Arts
GEO:22.3188457;114.1728403
X-APPLE-STRUCTURED-LOCATION;VALUE=URI;X-ADDRESS=MacPherson Stadium 38 Nelson Street Mongkok Hong Kong;X-APPLE-RADIUS=500;X-TITLE=38 Nelson Street:geo:114.1728403,22.3188457
END:VEVENT
BEGIN:VEVENT
DTSTART;TZID=Asia/Hong_Kong:20171012T193000
DTEND;TZID=Asia/Hong_Kong:20171012T193000
DTSTAMP:20260423T131148
CREATED:19170810T093057Z
LAST-MODIFIED:20170810T101305Z
UID:10003175-1507836600-1507836600@www.bcmagazine.net
SUMMARY:Aida
DESCRIPTION:Aida\nOpera Hong Kong\nDate: 7:30pm\, 10-15 October\, 2017\nVenue: HK Cultural Centre\, Grand Theatre\nTickets: tbc from Urbtix
URL:https://www.bcmagazine.net/event/aida-opera-hong-kong-12-10-2017/
LOCATION:HK Cultural Centre\, Grand Theatre\,\, 10 Salisbury Road\, Tsim Sha Tsui\, Hong Kong
CATEGORIES:2017,Concert,Music,Opera,Performing Arts
GEO:22.294318;114.171708
X-APPLE-STRUCTURED-LOCATION;VALUE=URI;X-ADDRESS=HK Cultural Centre Grand Theatre 10 Salisbury Road Tsim Sha Tsui Hong Kong;X-APPLE-RADIUS=500;X-TITLE=10 Salisbury Road:geo:114.171708,22.294318
END:VEVENT
BEGIN:VEVENT
DTSTART;TZID=Asia/Hong_Kong:20171012T201500
DTEND;TZID=Asia/Hong_Kong:20171012T201500
DTSTAMP:20260423T131148
CREATED:19170910T091920Z
LAST-MODIFIED:20170910T092058Z
UID:10003466-1507839300-1507839300@www.bcmagazine.net
SUMMARY:Eason Chan
DESCRIPTION:Eason Chan\nDate: 8:15pm\, 11-12 October\, 2017\nVenue: MacPherson Stadium\nTickets: $750 from Cityline
URL:https://www.bcmagazine.net/event/eason-chan-12-10-2017/
LOCATION:MacPherson Stadium\, 38 Nelson Street\, Mongkok\, Hong Kong
CATEGORIES:2017,Concert,Music,Performing Arts
GEO:22.3188457;114.1728403
X-APPLE-STRUCTURED-LOCATION;VALUE=URI;X-ADDRESS=MacPherson Stadium 38 Nelson Street Mongkok Hong Kong;X-APPLE-RADIUS=500;X-TITLE=38 Nelson Street:geo:114.1728403,22.3188457
END:VEVENT
BEGIN:VEVENT
DTSTART;TZID=Asia/Hong_Kong:20171013T193000
DTEND;TZID=Asia/Hong_Kong:20171013T193000
DTSTAMP:20260423T131148
CREATED:19170810T093057Z
LAST-MODIFIED:20170810T101334Z
UID:10003176-1507923000-1507923000@www.bcmagazine.net
SUMMARY:Aida
DESCRIPTION:Aida\nOpera Hong Kong\nDate: 7:30pm\, 10-15 October\, 2017\nVenue: HK Cultural Centre\, Grand Theatre\nTickets: tbc from Urbtix
URL:https://www.bcmagazine.net/event/aida-opera-hong-kong-13-10-2017/
LOCATION:HK Cultural Centre\, Grand Theatre\,\, 10 Salisbury Road\, Tsim Sha Tsui\, Hong Kong
CATEGORIES:2017,Concert,Music,Opera,Performing Arts
GEO:22.294318;114.171708
X-APPLE-STRUCTURED-LOCATION;VALUE=URI;X-ADDRESS=HK Cultural Centre Grand Theatre 10 Salisbury Road Tsim Sha Tsui Hong Kong;X-APPLE-RADIUS=500;X-TITLE=10 Salisbury Road:geo:114.171708,22.294318
END:VEVENT
BEGIN:VEVENT
DTSTART;TZID=Asia/Hong_Kong:20171013T200000
DTEND;TZID=Asia/Hong_Kong:20171013T200000
DTSTAMP:20260423T131148
CREATED:19170903T040056Z
LAST-MODIFIED:20170903T042637Z
UID:10003340-1507924800-1507924800@www.bcmagazine.net
SUMMARY:Vincie
DESCRIPTION:Vincie\nDate: 8pm\, 13-14 October\, 2017\nVenue: Queen Elizabeth Stadium\nTickets: $680\, $480\, $280 from Urbtix
URL:https://www.bcmagazine.net/event/vincie-13-10-2017/
LOCATION:Queen Elizabeth Stadium\, 18 Oi Kwan Road\, Wanchai\, Hong Kong
CATEGORIES:2017,Concert,Music,Performing Arts
GEO:22.2751271;114.1789682
X-APPLE-STRUCTURED-LOCATION;VALUE=URI;X-ADDRESS=Queen Elizabeth Stadium 18 Oi Kwan Road Wanchai Hong Kong;X-APPLE-RADIUS=500;X-TITLE=18 Oi Kwan Road:geo:114.1789682,22.2751271
END:VEVENT
BEGIN:VEVENT
DTSTART;TZID=Asia/Hong_Kong:20171014T193000
DTEND;TZID=Asia/Hong_Kong:20171014T193000
DTSTAMP:20260423T131148
CREATED:19170807T083751Z
LAST-MODIFIED:20170807T112006Z
UID:10003125-1508009400-1508009400@www.bcmagazine.net
SUMMARY:Standing Egg
DESCRIPTION:Standing Egg\nDate: 7:30pm\, 14 October\, 2017\nVenue: Kitec\, Music Zone@E-Max\nTickets: $680\, $580 from Cityline
URL:https://www.bcmagazine.net/event/standing-egg-2017/
LOCATION:KITEC\, Music Zone@E-Max\, KITEC\,‎ 1 Trademart Drive\, Kowloon Bay\, Hong Kong
CATEGORIES:2017,Concert,Music
GEO:22.3239575;114.2037608
X-APPLE-STRUCTURED-LOCATION;VALUE=URI;X-ADDRESS=KITEC Music Zone@E-Max KITEC‎ 1 Trademart Drive Kowloon Bay Hong Kong;X-APPLE-RADIUS=500;X-TITLE=KITEC\,‎ 1 Trademart Drive:geo:114.2037608,22.3239575
END:VEVENT
BEGIN:VEVENT
DTSTART;TZID=Asia/Hong_Kong:20171014T193000
DTEND;TZID=Asia/Hong_Kong:20171014T193000
DTSTAMP:20260423T131148
CREATED:19170810T093057Z
LAST-MODIFIED:20170810T101435Z
UID:10003177-1508009400-1508009400@www.bcmagazine.net
SUMMARY:Aida
DESCRIPTION:Aida\nOpera Hong Kong\nDate: 7:30pm\, 10-15 October\, 2017\nVenue: HK Cultural Centre\, Grand Theatre\nTickets: tbc from Urbtix
URL:https://www.bcmagazine.net/event/aida-opera-hong-kong-14-10-2017/
LOCATION:HK Cultural Centre\, Grand Theatre\,\, 10 Salisbury Road\, Tsim Sha Tsui\, Hong Kong
CATEGORIES:2017,Concert,Music,Opera,Performing Arts
GEO:22.294318;114.171708
X-APPLE-STRUCTURED-LOCATION;VALUE=URI;X-ADDRESS=HK Cultural Centre Grand Theatre 10 Salisbury Road Tsim Sha Tsui Hong Kong;X-APPLE-RADIUS=500;X-TITLE=10 Salisbury Road:geo:114.171708,22.294318
END:VEVENT
BEGIN:VEVENT
DTSTART;TZID=Asia/Hong_Kong:20171014T200000
DTEND;TZID=Asia/Hong_Kong:20171014T200000
DTSTAMP:20260423T131148
CREATED:19170903T040056Z
LAST-MODIFIED:20170903T074155Z
UID:10003386-1508011200-1508011200@www.bcmagazine.net
SUMMARY:Fall in Love with Cello IV
DESCRIPTION:Fall in Love with Cello IV\nChinese Cellist’s Association\nDate: 8pm\, 14 October\, 2017\nVenue: HK Cultural Centre\, Studio Theatre\nTickets: $120 from Urbtix
URL:https://www.bcmagazine.net/event/fall-in-love-with-cello-iv/
LOCATION:HK Cultural Centre\, Studio Theatre\, 10 Salisbury Road\, Tsim Sha Tsui\, Hong Kong
CATEGORIES:2017,Concert,Music,Performing Arts
END:VEVENT
BEGIN:VEVENT
DTSTART;TZID=Asia/Hong_Kong:20171014T200000
DTEND;TZID=Asia/Hong_Kong:20171014T200000
DTSTAMP:20260423T131148
CREATED:19170903T040056Z
LAST-MODIFIED:20170903T042729Z
UID:10003356-1508011200-1508011200@www.bcmagazine.net
SUMMARY:Vincie
DESCRIPTION:Vincie\nDate: 8pm\, 13-14 October\, 2017\nVenue: Queen Elizabeth Stadium\nTickets: $680\, $480\, $280 from Urbtix
URL:https://www.bcmagazine.net/event/vincie-14-10-2017/
LOCATION:Queen Elizabeth Stadium\, 18 Oi Kwan Road\, Wanchai\, Hong Kong
CATEGORIES:2017,Concert,Music,Performing Arts
GEO:22.2751271;114.1789682
X-APPLE-STRUCTURED-LOCATION;VALUE=URI;X-ADDRESS=Queen Elizabeth Stadium 18 Oi Kwan Road Wanchai Hong Kong;X-APPLE-RADIUS=500;X-TITLE=18 Oi Kwan Road:geo:114.1789682,22.2751271
END:VEVENT
BEGIN:VEVENT
DTSTART;TZID=Asia/Hong_Kong:20171014T201500
DTEND;TZID=Asia/Hong_Kong:20171014T201500
DTSTAMP:20260423T131148
CREATED:19170806T053034Z
LAST-MODIFIED:20170806T060625Z
UID:10003113-1508012100-1508012100@www.bcmagazine.net
SUMMARY:Prudence Liew
DESCRIPTION:Prudence Liew – Karma Chameleon\nDate: 8:15pm\, 14-15 October\, 2017\nVenue: HK Coliseum\nTickets: $680\, $480\, $380 from Urbtix
URL:https://www.bcmagazine.net/event/prudence-liew-14-10-2017/
LOCATION:HK Coliseum\, 9 Cheong Wan Road\, Hung Hom\, Hong Kong
CATEGORIES:2017,Concert,Music,Performing Arts
GEO:22.3014169;114.1820305
X-APPLE-STRUCTURED-LOCATION;VALUE=URI;X-ADDRESS=HK Coliseum 9 Cheong Wan Road Hung Hom Hong Kong;X-APPLE-RADIUS=500;X-TITLE=9 Cheong Wan Road:geo:114.1820305,22.3014169
END:VEVENT
BEGIN:VEVENT
DTSTART;TZID=Asia/Hong_Kong:20171015T193000
DTEND;TZID=Asia/Hong_Kong:20171015T193000
DTSTAMP:20260423T131148
CREATED:19170810T093057Z
LAST-MODIFIED:20170810T101459Z
UID:10003178-1508095800-1508095800@www.bcmagazine.net
SUMMARY:Aida
DESCRIPTION:Aida\nOpera Hong Kong\nDate: 7:30pm\, 10-15 October\, 2017\nVenue: HK Cultural Centre\, Grand Theatre\nTickets: tbc from Urbtix
URL:https://www.bcmagazine.net/event/aida-opera-hong-kong-15-10-2017/
LOCATION:HK Cultural Centre\, Grand Theatre\,\, 10 Salisbury Road\, Tsim Sha Tsui\, Hong Kong
CATEGORIES:2017,Concert,Music,Opera,Performing Arts
GEO:22.294318;114.171708
X-APPLE-STRUCTURED-LOCATION;VALUE=URI;X-ADDRESS=HK Cultural Centre Grand Theatre 10 Salisbury Road Tsim Sha Tsui Hong Kong;X-APPLE-RADIUS=500;X-TITLE=10 Salisbury Road:geo:114.171708,22.294318
END:VEVENT
BEGIN:VEVENT
DTSTART;TZID=Asia/Hong_Kong:20171015T200000
DTEND;TZID=Asia/Hong_Kong:20171015T200000
DTSTAMP:20260423T131148
CREATED:19170903T040056Z
LAST-MODIFIED:20170903T074123Z
UID:10003385-1508097600-1508097600@www.bcmagazine.net
SUMMARY:Hong Kong Guitar Ensemble
DESCRIPTION:Hong Kong Guitar Ensemble – 30th Anniversary Concert\nDate: 8pm\, 15 October\, 2017\nVenue: HK Cultural Centre\, Studio Theatre\nTickets: $100 from Urbtix
URL:https://www.bcmagazine.net/event/hong-kong-guitar-ensemble-2017/
LOCATION:HK Cultural Centre\, Studio Theatre\, 10 Salisbury Road\, Tsim Sha Tsui\, Hong Kong
CATEGORIES:2017,Concert,Music,Performing Arts
END:VEVENT
BEGIN:VEVENT
DTSTART;TZID=Asia/Hong_Kong:20171015T201500
DTEND;TZID=Asia/Hong_Kong:20171015T201500
DTSTAMP:20260423T131148
CREATED:19170806T053034Z
LAST-MODIFIED:20170806T060724Z
UID:10003114-1508098500-1508098500@www.bcmagazine.net
SUMMARY:Prudence Liew
DESCRIPTION:Prudence Liew – Karma Chameleon\nDate: 8:15pm\, 14-15 October\, 2017\nVenue: HK Coliseum\nTickets: $680\, $480\, $380 from Urbtix
URL:https://www.bcmagazine.net/event/prudence-liew-15-10-2017/
LOCATION:HK Coliseum\, 9 Cheong Wan Road\, Hung Hom\, Hong Kong
CATEGORIES:2017,Concert,Music,Performing Arts
GEO:22.3014169;114.1820305
X-APPLE-STRUCTURED-LOCATION;VALUE=URI;X-ADDRESS=HK Coliseum 9 Cheong Wan Road Hung Hom Hong Kong;X-APPLE-RADIUS=500;X-TITLE=9 Cheong Wan Road:geo:114.1820305,22.3014169
END:VEVENT
BEGIN:VEVENT
DTSTART;TZID=Asia/Hong_Kong:20171015T201500
DTEND;TZID=Asia/Hong_Kong:20171015T201500
DTSTAMP:20260423T131148
CREATED:19170903T040056Z
LAST-MODIFIED:20170903T040903Z
UID:10003279-1508098500-1508098500@www.bcmagazine.net
SUMMARY:Jessica
DESCRIPTION:Jessica – On Cloud Nine\nDate: 8:15pm\, 15 October\, 2017\nVenue: Kitec\, Star Hall\nTickets: $1\,480\, $1\,080\, $680 from HKTicketing
URL:https://www.bcmagazine.net/event/jessica-2017/
LOCATION:KITEC\, Star Hall\, KITEC\, 1 Trademart Drive\, Kowloon Bay\, Hong Kong
CATEGORIES:2017,Concert,Music,Performing Arts
GEO:22.3239575;114.2037608
X-APPLE-STRUCTURED-LOCATION;VALUE=URI;X-ADDRESS=KITEC Star Hall KITEC 1 Trademart Drive Kowloon Bay Hong Kong;X-APPLE-RADIUS=500;X-TITLE=KITEC\, 1 Trademart Drive:geo:114.2037608,22.3239575
END:VEVENT
BEGIN:VEVENT
DTSTART;TZID=Asia/Hong_Kong:20171017T200000
DTEND;TZID=Asia/Hong_Kong:20171017T200000
DTSTAMP:20260423T131148
CREATED:20170908T091912Z
LAST-MODIFIED:20170908T091912Z
UID:10006439-1508270400-1508270400@www.bcmagazine.net
SUMMARY:Fazerdaze
DESCRIPTION:Fazerdaze\nDate: 8pm\, 17 October\, 2017\nVenue: MOM Livehouse\nTickets: $330\, $295 (advance)
URL:https://www.bcmagazine.net/event/fazerdaze-2017/
LOCATION:MOM Livehouse\, B39 Seven Seas Shopping Centre\, 117-121 Kings Road\, North Point\, Hong Kong
CATEGORIES:2017,Concert,Music,Performing Arts
GEO:22.2884683;114.192803
X-APPLE-STRUCTURED-LOCATION;VALUE=URI;X-ADDRESS=MOM Livehouse B39 Seven Seas Shopping Centre 117-121 Kings Road North Point Hong Kong;X-APPLE-RADIUS=500;X-TITLE=B39 Seven Seas Shopping Centre\, 117-121 Kings Road:geo:114.192803,22.2884683
END:VEVENT
BEGIN:VEVENT
DTSTART;TZID=Asia/Hong_Kong:20171018T201500
DTEND;TZID=Asia/Hong_Kong:20171018T201500
DTSTAMP:20260423T131148
CREATED:19170903T040056Z
LAST-MODIFIED:20170903T043045Z
UID:10003366-1508357700-1508357700@www.bcmagazine.net
SUMMARY:Show Your Big Smile
DESCRIPTION:Show Your Big Smile\nPhil Lam\, Supper Moment\, Lil Ashes\, Ng Lin Fung\, Siu Yuen\, Maggie Tsoi\nDate: 8:15pm\, 18 October\, 2017\nVenue: Queen Elizabeth Stadium\nTickets: $280\, $180\, $100 from Urbtix
URL:https://www.bcmagazine.net/event/show-your-big-smile-2017/
LOCATION:Queen Elizabeth Stadium\, 18 Oi Kwan Road\, Wanchai\, Hong Kong
CATEGORIES:2017,Concert,Music,Performing Arts
GEO:22.2751271;114.1789682
X-APPLE-STRUCTURED-LOCATION;VALUE=URI;X-ADDRESS=Queen Elizabeth Stadium 18 Oi Kwan Road Wanchai Hong Kong;X-APPLE-RADIUS=500;X-TITLE=18 Oi Kwan Road:geo:114.1789682,22.2751271
END:VEVENT
BEGIN:VEVENT
DTSTART;TZID=Asia/Hong_Kong:20171020T193000
DTEND;TZID=Asia/Hong_Kong:20171020T193000
DTSTAMP:20260423T131148
CREATED:19171010T092932Z
LAST-MODIFIED:20171010T093445Z
UID:10003525-1508527800-1508527800@www.bcmagazine.net
SUMMARY:Youssou N'Dour with the Super Étoile de Dakar
DESCRIPTION:World Cultures Festival 2017 – Vibrant Africa: Youssou N’Dour with the Super Étoile de Dakar\nDate: 20-22 October\, 2017\nVenue: HK Cultural Centre\, Grand Theatre\nTickets: $580\, $480\, $380\, $280\, $180 from Urbtix
URL:https://www.bcmagazine.net/event/youssou-ndour-with-the-super-etoile-de-dakar-20-10-2017/
LOCATION:HK Cultural Centre\, Grand Theatre\,\, 10 Salisbury Road\, Tsim Sha Tsui\, Hong Kong
CATEGORIES:2017,Concert,Cultural Festival,Music,Performing Arts
GEO:22.294318;114.171708
X-APPLE-STRUCTURED-LOCATION;VALUE=URI;X-ADDRESS=HK Cultural Centre Grand Theatre 10 Salisbury Road Tsim Sha Tsui Hong Kong;X-APPLE-RADIUS=500;X-TITLE=10 Salisbury Road:geo:114.171708,22.294318
END:VEVENT
BEGIN:VEVENT
DTSTART;TZID=Asia/Hong_Kong:20171020T201500
DTEND;TZID=Asia/Hong_Kong:20171020T201500
DTSTAMP:20260423T131148
CREATED:19170530T051029Z
LAST-MODIFIED:20170531T095311Z
UID:10002771-1508530500-1508530500@www.bcmagazine.net
SUMMARY:C AllStar
DESCRIPTION:C AllStar\nDate: 8:15pm\, 20-21 October\, 2017\nVenue: HK Coliseum\nTickets: $680\, $480\, $300 from Urbtix
URL:https://www.bcmagazine.net/event/c-allstar-2017/2017-10-20/
LOCATION:HK Coliseum\, 9 Cheong Wan Road\, Hung Hom\, Hong Kong
CATEGORIES:2017,Concert,Music,Performing Arts
GEO:22.3014169;114.1820305
X-APPLE-STRUCTURED-LOCATION;VALUE=URI;X-ADDRESS=HK Coliseum 9 Cheong Wan Road Hung Hom Hong Kong;X-APPLE-RADIUS=500;X-TITLE=9 Cheong Wan Road:geo:114.1820305,22.3014169
END:VEVENT
BEGIN:VEVENT
DTSTART;TZID=Asia/Hong_Kong:20171021T193000
DTEND;TZID=Asia/Hong_Kong:20171021T193000
DTSTAMP:20260423T131148
CREATED:19171010T092932Z
LAST-MODIFIED:20171010T093636Z
UID:10003526-1508614200-1508614200@www.bcmagazine.net
SUMMARY:Youssou N'Dour with the Super Étoile de Dakar
DESCRIPTION:World Cultures Festival 2017 – Vibrant Africa: Youssou N’Dour with the Super Étoile de Dakar\nDate: 20-22 October\, 2017\nVenue: HK Cultural Centre\, Grand Theatre\nTickets: $580\, $480\, $380\, $280\, $180 from Urbtix
URL:https://www.bcmagazine.net/event/youssou-ndour-with-the-super-etoile-de-dakar-21-10-2017/
LOCATION:HK Cultural Centre\, Grand Theatre\,\, 10 Salisbury Road\, Tsim Sha Tsui\, Hong Kong
CATEGORIES:2017,Concert,Cultural Festival,Music,Performing Arts
GEO:22.294318;114.171708
X-APPLE-STRUCTURED-LOCATION;VALUE=URI;X-ADDRESS=HK Cultural Centre Grand Theatre 10 Salisbury Road Tsim Sha Tsui Hong Kong;X-APPLE-RADIUS=500;X-TITLE=10 Salisbury Road:geo:114.171708,22.294318
END:VEVENT
END:VCALENDAR