BEGIN:VCALENDAR
VERSION:2.0
PRODID:-//bc magazine - ECPv6.15.20//NONSGML v1.0//EN
CALSCALE:GREGORIAN
METHOD:PUBLISH
X-WR-CALNAME:bc magazine
X-ORIGINAL-URL:https://www.bcmagazine.net
X-WR-CALDESC:Events for bc magazine
REFRESH-INTERVAL;VALUE=DURATION:PT1H
X-Robots-Tag:noindex
X-PUBLISHED-TTL:PT1H
BEGIN:VTIMEZONE
TZID:Asia/Hong_Kong
BEGIN:STANDARD
TZOFFSETFROM:+0800
TZOFFSETTO:+0800
TZNAME:HKT
DTSTART:20160101T000000
END:STANDARD
END:VTIMEZONE
BEGIN:VEVENT
DTSTART;TZID=Asia/Hong_Kong:20171101T201500
DTEND;TZID=Asia/Hong_Kong:20171101T203000
DTSTAMP:20260422T212108
CREATED:19171009T025544Z
LAST-MODIFIED:20171009T064825Z
UID:10003515-1509567300-1509568200@www.bcmagazine.net
SUMMARY:Vivian Chan
DESCRIPTION:Vivian Chan\nDate: 8:15pm\, 1 November\, 2017\nVenue: MacPherson Stadium\nTickets: $580\, $380 from Cityline
URL:https://www.bcmagazine.net/event/vivian-chan-2017/
LOCATION:MacPherson Stadium\, 38 Nelson Street\, Mongkok\, Hong Kong
CATEGORIES:2017,Concert,Music,Performing Arts
GEO:22.3188457;114.1728403
X-APPLE-STRUCTURED-LOCATION;VALUE=URI;X-ADDRESS=MacPherson Stadium 38 Nelson Street Mongkok Hong Kong;X-APPLE-RADIUS=500;X-TITLE=38 Nelson Street:geo:114.1728403,22.3188457
END:VEVENT
BEGIN:VEVENT
DTSTART;TZID=Asia/Hong_Kong:20171103T200000
DTEND;TZID=Asia/Hong_Kong:20171103T200000
DTSTAMP:20260422T212108
CREATED:19171010T092932Z
LAST-MODIFIED:20171010T110336Z
UID:10003561-1509739200-1509739200@www.bcmagazine.net
SUMMARY:Angélique Kidjo
DESCRIPTION:Angélique Kidjo\nWorld Cultures Festival 2017\, Vibrant Africa\nDate: 8pm\, 3 November\, 2017\nVenue: HK Cultural Centre\, Concert\nTickets: $480\, $380\, $280\, $180 from Urbtix
URL:https://www.bcmagazine.net/event/angelique-kidjo-2017/
LOCATION:HK Cultural Centre\, Concert Hall\, 10 Salisbury Road\, Tsim Sha Tsui\, Hong Kong
CATEGORIES:2017,Concert,Music,Performing Arts
GEO:22.294318;114.171708
X-APPLE-STRUCTURED-LOCATION;VALUE=URI;X-ADDRESS=HK Cultural Centre Concert Hall 10 Salisbury Road Tsim Sha Tsui Hong Kong;X-APPLE-RADIUS=500;X-TITLE=10 Salisbury Road:geo:114.171708,22.294318
END:VEVENT
BEGIN:VEVENT
DTSTART;TZID=Asia/Hong_Kong:20171103T200000
DTEND;TZID=Asia/Hong_Kong:20171103T200000
DTSTAMP:20260422T212108
CREATED:20171010T032020Z
LAST-MODIFIED:20171010T050333Z
UID:10006447-1509739200-1509739200@www.bcmagazine.net
SUMMARY:Yuki Lovey
DESCRIPTION:Yuki Lovey\nDate: 8pm\, 3 November\, 2017\nVenue: MOM Livehouse\nTickets: $250
URL:https://www.bcmagazine.net/event/yuki-lovey-3-11-2017/
LOCATION:MOM Livehouse\, B39 Seven Seas Shopping Centre\, 117-121 Kings Road\, North Point\, Hong Kong
CATEGORIES:2017,Concert,Music,Performing Arts
ATTACH;FMTTYPE=image/jpeg:https://www.bcmagazine.net/wp-content/uploads/2017/10/Yuki-Lovey-2017.jpg
GEO:22.2884683;114.192803
X-APPLE-STRUCTURED-LOCATION;VALUE=URI;X-ADDRESS=MOM Livehouse B39 Seven Seas Shopping Centre 117-121 Kings Road North Point Hong Kong;X-APPLE-RADIUS=500;X-TITLE=B39 Seven Seas Shopping Centre\, 117-121 Kings Road:geo:114.192803,22.2884683
END:VEVENT
BEGIN:VEVENT
DTSTART;TZID=Asia/Hong_Kong:20171103T203000
DTEND;TZID=Asia/Hong_Kong:20171103T203000
DTSTAMP:20260422T212108
CREATED:19171009T025544Z
LAST-MODIFIED:20171009T053012Z
UID:10003493-1509741000-1509741000@www.bcmagazine.net
SUMMARY:Maniac
DESCRIPTION:The Sailors on A Sinking Boat\nManiac\nDate: 8:30pm\, 3 November\, 2017\nVenue: Kitec\, Music Zone@E-Max\nTickets: $280 from Cityline
URL:https://www.bcmagazine.net/event/maniac-2017/
LOCATION:KITEC\, Music Zone@E-Max\, KITEC\,‎ 1 Trademart Drive\, Kowloon Bay\, Hong Kong
CATEGORIES:2017,Concert,Music,Performing Arts
GEO:22.3239575;114.2037608
X-APPLE-STRUCTURED-LOCATION;VALUE=URI;X-ADDRESS=KITEC Music Zone@E-Max KITEC‎ 1 Trademart Drive Kowloon Bay Hong Kong;X-APPLE-RADIUS=500;X-TITLE=KITEC\,‎ 1 Trademart Drive:geo:114.2037608,22.3239575
END:VEVENT
BEGIN:VEVENT
DTSTART;VALUE=DATE:20171104
DTEND;VALUE=DATE:20171105
DTSTAMP:20260422T212108
CREATED:19160905T171919Z
LAST-MODIFIED:20170903T082002Z
UID:10000746-1509753600-1509839999@www.bcmagazine.net
SUMMARY:Lamma Fun Day Beach Music Festival
DESCRIPTION:Lamma Fun Day Beach Music Festival\nDate: 11am-10pm\, 4 November\, 2017\nVenue: Tai Wan To Beach (Power Station Beach)\, Lamma Island\nTickets: Free\nMore info: www.facebook.com/LammaFunDay
URL:https://www.bcmagazine.net/event/lamma-fun-day-2017/
LOCATION:Hong Kong
CATEGORIES:2017,Concert,Food,Free,Lifestyle,Music,Sport
END:VEVENT
BEGIN:VEVENT
DTSTART;TZID=Asia/Hong_Kong:20171104T191500
DTEND;TZID=Asia/Hong_Kong:20171104T191500
DTSTAMP:20260422T212108
CREATED:19171009T025544Z
LAST-MODIFIED:20171009T030520Z
UID:10003484-1509822900-1509822900@www.bcmagazine.net
SUMMARY:20th Anniversary Performance of Knack Cordial
DESCRIPTION:20th Anniversary Performance of Knack Cordial – Csárdás: Hungarian Folklore & Others\nKnack Cordial Folk Group\nDate: 7:15pm\, 4 November\, 2017\nVenue: Shatin Town Hall\, Auditorium\nTickets: $450\, $360\, $270\, $180 from Urbtix
URL:https://www.bcmagazine.net/event/20th-anniversary-performance-of-knack-cordial/
LOCATION:Shatin Town Hall\, Auditorium\, Shatin\, Hong Kong
CATEGORIES:2017,Concert,Music,Performing Arts
END:VEVENT
BEGIN:VEVENT
DTSTART;TZID=Asia/Hong_Kong:20171104T200000
DTEND;TZID=Asia/Hong_Kong:20171104T200000
DTSTAMP:20260422T212108
CREATED:19170608T084335Z
LAST-MODIFIED:20170608T093018Z
UID:10002774-1509825600-1509825600@www.bcmagazine.net
SUMMARY:Ed Sheeran
DESCRIPTION:Ed Sheeran\nDate: 8pm\, 4-5 November\, 2017\nVenue: AsiaWorld-Expo\, Hall 10\nTickets: $880 from HKTicketing
URL:https://www.bcmagazine.net/event/ed-sheeran-2017/2017-11-04/
LOCATION:AsiaWorld-Expo\, Hall 10\, Cheong Wing Road\, Chek Lap Kok\, Lantau\, Hong Kong
CATEGORIES:2017,Concert,Music,Performing Arts
GEO:22.3217383;113.9402012
X-APPLE-STRUCTURED-LOCATION;VALUE=URI;X-ADDRESS=AsiaWorld-Expo Hall 10 Cheong Wing Road Chek Lap Kok Lantau Hong Kong;X-APPLE-RADIUS=500;X-TITLE=Cheong Wing Road\, Chek Lap Kok:geo:113.9402012,22.3217383
END:VEVENT
BEGIN:VEVENT
DTSTART;TZID=Asia/Hong_Kong:20171104T200000
DTEND;TZID=Asia/Hong_Kong:20171104T200000
DTSTAMP:20260422T212108
CREATED:19171009T025544Z
LAST-MODIFIED:20171009T061703Z
UID:10003504-1509825600-1509825600@www.bcmagazine.net
SUMMARY:Sticky Rice
DESCRIPTION:Sticky Rice\nDate: 8pm\, 4 November\, 2017\nVenue: Kitec\, Music Zone@E-Max\nTickets: $480 from Cityline
URL:https://www.bcmagazine.net/event/sticky-rice-2017/
LOCATION:KITEC\, Music Zone@E-Max\, KITEC\,‎ 1 Trademart Drive\, Kowloon Bay\, Hong Kong
CATEGORIES:2017,Concert,Music,Performing Arts
GEO:22.3239575;114.2037608
X-APPLE-STRUCTURED-LOCATION;VALUE=URI;X-ADDRESS=KITEC Music Zone@E-Max KITEC‎ 1 Trademart Drive Kowloon Bay Hong Kong;X-APPLE-RADIUS=500;X-TITLE=KITEC\,‎ 1 Trademart Drive:geo:114.2037608,22.3239575
END:VEVENT
BEGIN:VEVENT
DTSTART;TZID=Asia/Hong_Kong:20171105T150000
DTEND;TZID=Asia/Hong_Kong:20171105T150000
DTSTAMP:20260422T212108
CREATED:19171009T025544Z
LAST-MODIFIED:20171009T030808Z
UID:10003485-1509894000-1509894000@www.bcmagazine.net
SUMMARY:Népdalok-Hungarian Folk Song
DESCRIPTION:Népdalok-Hungarian Folk Song\nKnack Cordial Folk Group\nDate: 3pm\, 5 November\, 2017\nVenue: Sheung Wan Civic Centre\, Theatre\nTickets: $360\, $280\, $200 from Urbtix
URL:https://www.bcmagazine.net/event/nepdalok-hungarian-folk-song-2017/
LOCATION:Sheung Wan Civic Centre\, Theatre\, 345 Queen's Road Central\, Sheung Wan\, Hong Kong
CATEGORIES:2017,Concert,Music,Performing Arts
GEO:22.2861929;114.1497606
X-APPLE-STRUCTURED-LOCATION;VALUE=URI;X-ADDRESS=Sheung Wan Civic Centre Theatre 345 Queen's Road Central Sheung Wan Hong Kong;X-APPLE-RADIUS=500;X-TITLE=345 Queen's Road Central:geo:114.1497606,22.2861929
END:VEVENT
BEGIN:VEVENT
DTSTART;TZID=Asia/Hong_Kong:20171105T180000
DTEND;TZID=Asia/Hong_Kong:20171105T200000
DTSTAMP:20260422T212108
CREATED:19171009T025544Z
LAST-MODIFIED:20171009T065611Z
UID:10003517-1509904800-1509912000@www.bcmagazine.net
SUMMARY:Pile Asia Tour
DESCRIPTION:Pile Asia Tour\nDate: 6pm\, 5 November\, 2017\nVenue: Kitec\, Music Zone@E-Max\nTickets: $980\, $680 from Cityline
URL:https://www.bcmagazine.net/event/pile-asia-tour-2017/
LOCATION:KITEC\, Music Zone@E-Max\, KITEC\,‎ 1 Trademart Drive\, Kowloon Bay\, Hong Kong
CATEGORIES:2017,Concert,Music,Performing Arts
GEO:22.3239575;114.2037608
X-APPLE-STRUCTURED-LOCATION;VALUE=URI;X-ADDRESS=KITEC Music Zone@E-Max KITEC‎ 1 Trademart Drive Kowloon Bay Hong Kong;X-APPLE-RADIUS=500;X-TITLE=KITEC\,‎ 1 Trademart Drive:geo:114.2037608,22.3239575
END:VEVENT
BEGIN:VEVENT
DTSTART;TZID=Asia/Hong_Kong:20171105T193000
DTEND;TZID=Asia/Hong_Kong:20171105T193000
DTSTAMP:20260422T212108
CREATED:19171009T025544Z
LAST-MODIFIED:20171009T050707Z
UID:10003488-1509910200-1509910200@www.bcmagazine.net
SUMMARY:University of Hong Kong Law Alumni Choir
DESCRIPTION:University of Hong Kong Law Alumni Choir\nDate: 7:30pm\, 5 November\, 2017\nVenue: University of Hong Kong\nTickets: $380\, $280\, $180\, $120 from Cityline
URL:https://www.bcmagazine.net/event/university-of-hong-kong-law-alumni-choir-2017/
LOCATION:Grand Hall\, Lee Shau Kee Lecture Centre\, Centennial Campus\, The University of Hong Kong\, The University of Hong Kong\, Pokfulam\, Hong Kong
CATEGORIES:2017,Concert,Music,Performing Arts
GEO:22.2840507;114.1378391
X-APPLE-STRUCTURED-LOCATION;VALUE=URI;X-ADDRESS=Grand Hall Lee Shau Kee Lecture Centre Centennial Campus The University of Hong Kong The University of Hong Kong Pokfulam Hong Kong;X-APPLE-RADIUS=500;X-TITLE=The University of Hong Kong:geo:114.1378391,22.2840507
END:VEVENT
BEGIN:VEVENT
DTSTART;TZID=Asia/Hong_Kong:20171105T200000
DTEND;TZID=Asia/Hong_Kong:20171105T200000
DTSTAMP:20260422T212108
CREATED:19170608T084335Z
LAST-MODIFIED:20170608T093018Z
UID:10002775-1509912000-1509912000@www.bcmagazine.net
SUMMARY:Ed Sheeran
DESCRIPTION:Ed Sheeran\nDate: 8pm\, 4-5 November\, 2017\nVenue: AsiaWorld-Expo\, Hall 10\nTickets: $880 from HKTicketing
URL:https://www.bcmagazine.net/event/ed-sheeran-2017/2017-11-05/
LOCATION:AsiaWorld-Expo\, Hall 10\, Cheong Wing Road\, Chek Lap Kok\, Lantau\, Hong Kong
CATEGORIES:2017,Concert,Music,Performing Arts
GEO:22.3217383;113.9402012
X-APPLE-STRUCTURED-LOCATION;VALUE=URI;X-ADDRESS=AsiaWorld-Expo Hall 10 Cheong Wing Road Chek Lap Kok Lantau Hong Kong;X-APPLE-RADIUS=500;X-TITLE=Cheong Wing Road\, Chek Lap Kok:geo:113.9402012,22.3217383
END:VEVENT
BEGIN:VEVENT
DTSTART;TZID=Asia/Hong_Kong:20171105T201500
DTEND;TZID=Asia/Hong_Kong:20171105T201500
DTSTAMP:20260422T212108
CREATED:19170806T053034Z
LAST-MODIFIED:20170806T060933Z
UID:10003115-1509912900-1509912900@www.bcmagazine.net
SUMMARY:Grasshopper
DESCRIPTION:Grasshopper\nDate: 8:15pm\, 5-8 November\, 2017\nVenue: HK Coliseum\nTickets: $780\, $480\, $300 from Urbtix
URL:https://www.bcmagazine.net/event/grasshopper-05-11-2017/
LOCATION:HK Coliseum\, 9 Cheong Wan Road\, Hung Hom\, Hong Kong
CATEGORIES:2017,Concert,Music,Performing Arts
GEO:22.3014169;114.1820305
X-APPLE-STRUCTURED-LOCATION;VALUE=URI;X-ADDRESS=HK Coliseum 9 Cheong Wan Road Hung Hom Hong Kong;X-APPLE-RADIUS=500;X-TITLE=9 Cheong Wan Road:geo:114.1820305,22.3014169
END:VEVENT
BEGIN:VEVENT
DTSTART;TZID=Asia/Hong_Kong:20171106T200000
DTEND;TZID=Asia/Hong_Kong:20171106T200000
DTSTAMP:20260422T212108
CREATED:19170903T040056Z
LAST-MODIFIED:20170903T042352Z
UID:10003323-1509998400-1509998400@www.bcmagazine.net
SUMMARY:Lisa
DESCRIPTION:Lisa\nDate: 8pm\, 6 November\, 2017\nVenue: Tuen Mun Town Hall\, Auditorium\nTickets: $450\, $350\, $200 from Urbtix
URL:https://www.bcmagazine.net/event/lisa-06-11-2017/
LOCATION:Queen Elizabeth Stadium\, 18 Oi Kwan Road\, Wanchai\, Hong Kong
CATEGORIES:2017,Concert,Music,Performing Arts
GEO:22.2751271;114.1789682
X-APPLE-STRUCTURED-LOCATION;VALUE=URI;X-ADDRESS=Queen Elizabeth Stadium 18 Oi Kwan Road Wanchai Hong Kong;X-APPLE-RADIUS=500;X-TITLE=18 Oi Kwan Road:geo:114.1789682,22.2751271
END:VEVENT
BEGIN:VEVENT
DTSTART;TZID=Asia/Hong_Kong:20171106T201500
DTEND;TZID=Asia/Hong_Kong:20171106T201500
DTSTAMP:20260422T212108
CREATED:19170806T053034Z
LAST-MODIFIED:20170806T061017Z
UID:10003116-1509999300-1509999300@www.bcmagazine.net
SUMMARY:Grasshopper
DESCRIPTION:Grasshopper\nDate: 8:15pm\, 5-8 November\, 2017\nVenue: HK Coliseum\nTickets: $780\, $480\, $300 from Urbtix
URL:https://www.bcmagazine.net/event/grasshopper-06-11-2017/
LOCATION:HK Coliseum\, 9 Cheong Wan Road\, Hung Hom\, Hong Kong
CATEGORIES:2017,Concert,Music,Performing Arts
GEO:22.3014169;114.1820305
X-APPLE-STRUCTURED-LOCATION;VALUE=URI;X-ADDRESS=HK Coliseum 9 Cheong Wan Road Hung Hom Hong Kong;X-APPLE-RADIUS=500;X-TITLE=9 Cheong Wan Road:geo:114.1820305,22.3014169
END:VEVENT
BEGIN:VEVENT
DTSTART;TZID=Asia/Hong_Kong:20171107T200000
DTEND;TZID=Asia/Hong_Kong:20171107T200000
DTSTAMP:20260422T212108
CREATED:19171009T025544Z
LAST-MODIFIED:20171009T055425Z
UID:10003495-1510084800-1510084800@www.bcmagazine.net
SUMMARY:HKGNA Music Festival: Kumho Asiana Soloists
DESCRIPTION:HKGNA Music Festival: Kumho Asiana Soloists\nDate: 8pm\, 7 November\, 2017\nVenue: HKAPA\, Jockey Club Amphitheatre\nTickets: $300\, $200\, $80 from HKTicketing
URL:https://www.bcmagazine.net/event/hkgna-music-festival-kumho-asiana-soloists-2017/
LOCATION:HKAPA: Jockey Club Amphitheatre\, 1 Gloucester Road\, Wanchai\, Hong Kong
CATEGORIES:2017,Concert,Music,Performing Arts
GEO:22.2801854;114.1695054
X-APPLE-STRUCTURED-LOCATION;VALUE=URI;X-ADDRESS=HKAPA: Jockey Club Amphitheatre 1 Gloucester Road Wanchai Hong Kong;X-APPLE-RADIUS=500;X-TITLE=1 Gloucester Road:geo:114.1695054,22.2801854
END:VEVENT
BEGIN:VEVENT
DTSTART;TZID=Asia/Hong_Kong:20171107T201500
DTEND;TZID=Asia/Hong_Kong:20171107T201500
DTSTAMP:20260422T212108
CREATED:19170806T053034Z
LAST-MODIFIED:20170806T061037Z
UID:10003117-1510085700-1510085700@www.bcmagazine.net
SUMMARY:Grasshopper
DESCRIPTION:Grasshopper\nDate: 8:15pm\, 5-8 November\, 2017\nVenue: HK Coliseum\nTickets: $780\, $480\, $300 from Urbtix
URL:https://www.bcmagazine.net/event/grasshopper-07-11-2017/
LOCATION:HK Coliseum\, 9 Cheong Wan Road\, Hung Hom\, Hong Kong
CATEGORIES:2017,Concert,Music,Performing Arts
GEO:22.3014169;114.1820305
X-APPLE-STRUCTURED-LOCATION;VALUE=URI;X-ADDRESS=HK Coliseum 9 Cheong Wan Road Hung Hom Hong Kong;X-APPLE-RADIUS=500;X-TITLE=9 Cheong Wan Road:geo:114.1820305,22.3014169
END:VEVENT
BEGIN:VEVENT
DTSTART;TZID=Asia/Hong_Kong:20171108T201500
DTEND;TZID=Asia/Hong_Kong:20171108T201500
DTSTAMP:20260422T212108
CREATED:19170806T053034Z
LAST-MODIFIED:20170806T061110Z
UID:10003118-1510172100-1510172100@www.bcmagazine.net
SUMMARY:Grasshopper
DESCRIPTION:Grasshopper\nDate: 8:15pm\, 5-8 November\, 2017\nVenue: HK Coliseum\nTickets: $780\, $480\, $300 from Urbtix
URL:https://www.bcmagazine.net/event/grasshopper-08-11-2017/
LOCATION:HK Coliseum\, 9 Cheong Wan Road\, Hung Hom\, Hong Kong
CATEGORIES:2017,Concert,Music,Performing Arts
GEO:22.3014169;114.1820305
X-APPLE-STRUCTURED-LOCATION;VALUE=URI;X-ADDRESS=HK Coliseum 9 Cheong Wan Road Hung Hom Hong Kong;X-APPLE-RADIUS=500;X-TITLE=9 Cheong Wan Road:geo:114.1820305,22.3014169
END:VEVENT
BEGIN:VEVENT
DTSTART;TZID=Asia/Hong_Kong:20171109T193000
DTEND;TZID=Asia/Hong_Kong:20171109T193000
DTSTAMP:20260422T212108
CREATED:19171009T025544Z
LAST-MODIFIED:20171009T055429Z
UID:10003496-1510255800-1510255800@www.bcmagazine.net
SUMMARY:HKGNA Music Festival: Stars and Friends!
DESCRIPTION:HKGNA Music Festival: Stars and Friends!\nMichelle Kim\, Jing Wang\, Richard Bamping\nDate: 7:30pm\, 9 November\, 2017\nVenue: St John’s Cathedral\nTickets: Free
URL:https://www.bcmagazine.net/event/hkgna-music-festival-stars-and-friends-2017/
LOCATION:Saint John’s Cathedral\, Hong Kong
CATEGORIES:2017,Concert,Free,Music,Performing Arts
GEO:22.396428;114.109497
END:VEVENT
BEGIN:VEVENT
DTSTART;TZID=Asia/Hong_Kong:20171109T200000
DTEND;TZID=Asia/Hong_Kong:20171109T200000
DTSTAMP:20260422T212108
CREATED:19171009T025544Z
LAST-MODIFIED:20171009T062332Z
UID:10003505-1510257600-1510257600@www.bcmagazine.net
SUMMARY:Fama Mo Money World Tour (Mong Kok Station)
DESCRIPTION:Fama Mo Money World Tour (Mong Kok Station)\nDate: 8pm\, 9-14 November\, 2017\nVenue: MacPherson Stadium\nTickets: $580\, $480 from Cityline
URL:https://www.bcmagazine.net/event/fama-9-11-2017/
LOCATION:MacPherson Stadium\, 38 Nelson Street\, Mongkok\, Hong Kong
CATEGORIES:2017,Concert,Music,Performing Arts
GEO:22.3188457;114.1728403
X-APPLE-STRUCTURED-LOCATION;VALUE=URI;X-ADDRESS=MacPherson Stadium 38 Nelson Street Mongkok Hong Kong;X-APPLE-RADIUS=500;X-TITLE=38 Nelson Street:geo:114.1728403,22.3188457
END:VEVENT
BEGIN:VEVENT
DTSTART;TZID=Asia/Hong_Kong:20171110T200000
DTEND;TZID=Asia/Hong_Kong:20171110T200000
DTSTAMP:20260422T212108
CREATED:19171009T025544Z
LAST-MODIFIED:20171009T062349Z
UID:10003506-1510344000-1510344000@www.bcmagazine.net
SUMMARY:Fama Mo Money World Tour (Mong Kok Station)
DESCRIPTION:Fama Mo Money World Tour (Mong Kok Station)\nDate: 8pm\, 9-14 November\, 2017\nVenue: MacPherson Stadium\nTickets: $580\, $480 from Cityline
URL:https://www.bcmagazine.net/event/fama-10-11-2017/
LOCATION:MacPherson Stadium\, 38 Nelson Street\, Mongkok\, Hong Kong
CATEGORIES:2017,Concert,Music,Performing Arts
GEO:22.3188457;114.1728403
X-APPLE-STRUCTURED-LOCATION;VALUE=URI;X-ADDRESS=MacPherson Stadium 38 Nelson Street Mongkok Hong Kong;X-APPLE-RADIUS=500;X-TITLE=38 Nelson Street:geo:114.1728403,22.3188457
END:VEVENT
BEGIN:VEVENT
DTSTART;TZID=Asia/Hong_Kong:20171111T193000
DTEND;TZID=Asia/Hong_Kong:20171111T193000
DTSTAMP:20260422T212108
CREATED:20171010T032020Z
LAST-MODIFIED:20171010T033645Z
UID:10006445-1510428600-1510428600@www.bcmagazine.net
SUMMARY:Symphony Under the Stars
DESCRIPTION:Symphony Under the Stars\nHK Philharmonic Orchestra\nDate: 7:30pm\, 11 November\, 2017\nVenue: Central Harbourfront\nTickets: public registration www.hkphil.org
URL:https://www.bcmagazine.net/event/symphony-under-the-stars-2017/
LOCATION:Central Harbourfront\,  9 Lung Wo Road\, Central\, Hong Kong
CATEGORIES:2017,Concert,Free,Music,Performing Arts,Rugby,Sport
ATTACH;FMTTYPE=image/jpeg:https://www.bcmagazine.net/wp-content/uploads/2017/10/HK-Phil-symphony-under-the-stars-c-Cheung-Chi-Wai-HK-Phil.jpg
GEO:22.2826223;114.164346
X-APPLE-STRUCTURED-LOCATION;VALUE=URI;X-ADDRESS=Central Harbourfront  9 Lung Wo Road Central Hong Kong;X-APPLE-RADIUS=500;X-TITLE=9 Lung Wo Road:geo:114.164346,22.2826223
END:VEVENT
BEGIN:VEVENT
DTSTART;TZID=Asia/Hong_Kong:20171111T200000
DTEND;TZID=Asia/Hong_Kong:20171111T200000
DTSTAMP:20260422T212108
CREATED:19171009T025544Z
LAST-MODIFIED:20171009T062354Z
UID:10003507-1510430400-1510430400@www.bcmagazine.net
SUMMARY:Fama Mo Money World Tour (Mong Kok Station)
DESCRIPTION:Fama Mo Money World Tour (Mong Kok Station)\nDate: 8pm\, 9-14 November\, 2017\nVenue: MacPherson Stadium\nTickets: $580\, $480 from Cityline
URL:https://www.bcmagazine.net/event/fama-11-11-2017/
LOCATION:MacPherson Stadium\, 38 Nelson Street\, Mongkok\, Hong Kong
CATEGORIES:2017,Concert,Music,Performing Arts
GEO:22.3188457;114.1728403
X-APPLE-STRUCTURED-LOCATION;VALUE=URI;X-ADDRESS=MacPherson Stadium 38 Nelson Street Mongkok Hong Kong;X-APPLE-RADIUS=500;X-TITLE=38 Nelson Street:geo:114.1728403,22.3188457
END:VEVENT
BEGIN:VEVENT
DTSTART;TZID=Asia/Hong_Kong:20171112T200000
DTEND;TZID=Asia/Hong_Kong:20171112T200000
DTSTAMP:20260422T212108
CREATED:19171009T025544Z
LAST-MODIFIED:20171009T062405Z
UID:10003508-1510516800-1510516800@www.bcmagazine.net
SUMMARY:Fama Mo Money World Tour (Mong Kok Station)
DESCRIPTION:Fama Mo Money World Tour (Mong Kok Station)\nDate: 8pm\, 9-14 November\, 2017\nVenue: MacPherson Stadium\nTickets: $580\, $480 from Cityline
URL:https://www.bcmagazine.net/event/fama-12-11-2017/
LOCATION:MacPherson Stadium\, 38 Nelson Street\, Mongkok\, Hong Kong
CATEGORIES:2017,Concert,Music,Performing Arts
GEO:22.3188457;114.1728403
X-APPLE-STRUCTURED-LOCATION;VALUE=URI;X-ADDRESS=MacPherson Stadium 38 Nelson Street Mongkok Hong Kong;X-APPLE-RADIUS=500;X-TITLE=38 Nelson Street:geo:114.1728403,22.3188457
END:VEVENT
BEGIN:VEVENT
DTSTART;TZID=Asia/Hong_Kong:20171113T200000
DTEND;TZID=Asia/Hong_Kong:20171113T200000
DTSTAMP:20260422T212108
CREATED:19171009T025544Z
LAST-MODIFIED:20171009T062406Z
UID:10003509-1510603200-1510603200@www.bcmagazine.net
SUMMARY:Fama Mo Money World Tour (Mong Kok Station)
DESCRIPTION:Fama Mo Money World Tour (Mong Kok Station)\nDate: 8pm\, 9-14 November\, 2017\nVenue: MacPherson Stadium\nTickets: $580\, $480 from Cityline
URL:https://www.bcmagazine.net/event/fama-13-11-2017/
LOCATION:MacPherson Stadium\, 38 Nelson Street\, Mongkok\, Hong Kong
CATEGORIES:2017,Concert,Music,Performing Arts
GEO:22.3188457;114.1728403
X-APPLE-STRUCTURED-LOCATION;VALUE=URI;X-ADDRESS=MacPherson Stadium 38 Nelson Street Mongkok Hong Kong;X-APPLE-RADIUS=500;X-TITLE=38 Nelson Street:geo:114.1728403,22.3188457
END:VEVENT
BEGIN:VEVENT
DTSTART;TZID=Asia/Hong_Kong:20171114T200000
DTEND;TZID=Asia/Hong_Kong:20171114T200000
DTSTAMP:20260422T212108
CREATED:19171009T025544Z
LAST-MODIFIED:20171009T062339Z
UID:10003510-1510689600-1510689600@www.bcmagazine.net
SUMMARY:Fama Mo Money World Tour (Mong Kok Station)
DESCRIPTION:Fama Mo Money World Tour (Mong Kok Station)\nDate: 8pm\, 9-14 November\, 2017\nVenue: MacPherson Stadium\nTickets: $580\, $480 from Cityline
URL:https://www.bcmagazine.net/event/fama-14-11-2017/
LOCATION:MacPherson Stadium\, 38 Nelson Street\, Mongkok\, Hong Kong
CATEGORIES:2017,Concert,Music,Performing Arts
GEO:22.3188457;114.1728403
X-APPLE-STRUCTURED-LOCATION;VALUE=URI;X-ADDRESS=MacPherson Stadium 38 Nelson Street Mongkok Hong Kong;X-APPLE-RADIUS=500;X-TITLE=38 Nelson Street:geo:114.1728403,22.3188457
END:VEVENT
BEGIN:VEVENT
DTSTART;TZID=Asia/Hong_Kong:20171115T193000
DTEND;TZID=Asia/Hong_Kong:20171115T193000
DTSTAMP:20260422T212108
CREATED:19171107T104126Z
LAST-MODIFIED:20171107T104529Z
UID:10003579-1510774200-1510774200@www.bcmagazine.net
SUMMARY:Paul Reed Smith
DESCRIPTION:Paul Reed Smith\nDate: 7:30pm\, 15 November\, 2017\nVenue: Kitec\, Music Zone@E-Max\nTickets: $100
URL:https://www.bcmagazine.net/event/paul-reed-smith-2017/
LOCATION:KITEC\, Music Zone@E-Max\, KITEC\,‎ 1 Trademart Drive\, Kowloon Bay\, Hong Kong
CATEGORIES:2017,Concert,Music,Performing Arts
GEO:22.3239575;114.2037608
X-APPLE-STRUCTURED-LOCATION;VALUE=URI;X-ADDRESS=KITEC Music Zone@E-Max KITEC‎ 1 Trademart Drive Kowloon Bay Hong Kong;X-APPLE-RADIUS=500;X-TITLE=KITEC\,‎ 1 Trademart Drive:geo:114.2037608,22.3239575
END:VEVENT
BEGIN:VEVENT
DTSTART;TZID=Asia/Hong_Kong:20171115T200000
DTEND;TZID=Asia/Hong_Kong:20171115T200000
DTSTAMP:20260422T212108
CREATED:19171009T025544Z
LAST-MODIFIED:20171009T061155Z
UID:10003501-1510776000-1510776000@www.bcmagazine.net
SUMMARY:Naohito Fujiki
DESCRIPTION:Naohito Fujiki Live Tour ver11.1 ~ k.k.w.d.tour~Hong Kong\nDate: 8pm\, 15 November\, 2017\nVenue: MacPherson Stadium\nTickets: $1\,080\, $780\, $580 from Cityline
URL:https://www.bcmagazine.net/event/naohito-fujiki-2017/
LOCATION:MacPherson Stadium\, 38 Nelson Street\, Mongkok\, Hong Kong
CATEGORIES:2017,Concert,Music,Performing Arts
GEO:22.3188457;114.1728403
X-APPLE-STRUCTURED-LOCATION;VALUE=URI;X-ADDRESS=MacPherson Stadium 38 Nelson Street Mongkok Hong Kong;X-APPLE-RADIUS=500;X-TITLE=38 Nelson Street:geo:114.1728403,22.3188457
END:VEVENT
BEGIN:VEVENT
DTSTART;TZID=Asia/Hong_Kong:20171115T200000
DTEND;TZID=Asia/Hong_Kong:20171115T200000
DTSTAMP:20260422T212108
CREATED:19171009T025544Z
LAST-MODIFIED:20171009T055419Z
UID:10003494-1510776000-1510776000@www.bcmagazine.net
SUMMARY:HKGNA Music Festival: Yin Cheng-zong
DESCRIPTION:HKGNA Music Festival: Legends & Legacies\nYin Cheng-zong\, PolyU Orchestra\nDate: 8pm\, 15 November\, 2017\nVenue: The Hong Kong Polytechnic University\, Jockey Club Auditorium\nTickets: $300\, $200\, $80 from Cityline
URL:https://www.bcmagazine.net/event/hkgna-music-festival-yin-cheng-zong-2017/
LOCATION:Hong Kong Polytechnic University\, Jockey Club Auditorium\, Hong Kong
CATEGORIES:2017,Concert,Music,Performing Arts
GEO:22.396428;114.109497
END:VEVENT
BEGIN:VEVENT
DTSTART;TZID=Asia/Hong_Kong:20171115T201500
DTEND;TZID=Asia/Hong_Kong:20171115T201500
DTSTAMP:20260422T212108
CREATED:19171107T110009Z
LAST-MODIFIED:20171107T120330Z
UID:10003599-1510776900-1510776900@www.bcmagazine.net
SUMMARY:Karen Tong
DESCRIPTION:Karen Tong – 25th Anniversary Concert\nDate: 8:15pm\, 15 November\, 2017\nVenue: Kitec\, Star Hall\nTickets: $580\, $480\, $380
URL:https://www.bcmagazine.net/event/karen-tong-2017/
LOCATION:KITEC\, Star Hall\, KITEC\, 1 Trademart Drive\, Kowloon Bay\, Hong Kong
CATEGORIES:2017,Cantopop,Concert,Music,Performing Arts
GEO:22.3239575;114.2037608
X-APPLE-STRUCTURED-LOCATION;VALUE=URI;X-ADDRESS=KITEC Star Hall KITEC 1 Trademart Drive Kowloon Bay Hong Kong;X-APPLE-RADIUS=500;X-TITLE=KITEC\, 1 Trademart Drive:geo:114.2037608,22.3239575
END:VEVENT
END:VCALENDAR