BEGIN:VCALENDAR
VERSION:2.0
PRODID:-//bc magazine - ECPv6.15.20//NONSGML v1.0//EN
CALSCALE:GREGORIAN
METHOD:PUBLISH
X-WR-CALNAME:bc magazine
X-ORIGINAL-URL:https://www.bcmagazine.net
X-WR-CALDESC:Events for bc magazine
REFRESH-INTERVAL;VALUE=DURATION:PT1H
X-Robots-Tag:noindex
X-PUBLISHED-TTL:PT1H
BEGIN:VTIMEZONE
TZID:Asia/Hong_Kong
BEGIN:STANDARD
TZOFFSETFROM:+0800
TZOFFSETTO:+0800
TZNAME:HKT
DTSTART:20160101T000000
END:STANDARD
END:VTIMEZONE
BEGIN:VEVENT
DTSTART;TZID=Asia/Hong_Kong:20171202T201500
DTEND;TZID=Asia/Hong_Kong:20171202T201500
DTSTAMP:20260423T012958
CREATED:19171110T071351Z
LAST-MODIFIED:20171110T072008Z
UID:10003608-1512245700-1512245700@www.bcmagazine.net
SUMMARY:Jason Chan
DESCRIPTION:Jason Chan\nDate: 8:15pm\, 2-3 December\, 2017\nVenue: HK Coliseum\nTickets: $680\, $480\, $300 from Urbtix
URL:https://www.bcmagazine.net/event/jason-chan-02-12-2017/
LOCATION:HK Coliseum\, 9 Cheong Wan Road\, Hung Hom\, Hong Kong
CATEGORIES:2017,Cantopop,Concert,Music,Performing Arts
GEO:22.3014169;114.1820305
X-APPLE-STRUCTURED-LOCATION;VALUE=URI;X-ADDRESS=HK Coliseum 9 Cheong Wan Road Hung Hom Hong Kong;X-APPLE-RADIUS=500;X-TITLE=9 Cheong Wan Road:geo:114.1820305,22.3014169
END:VEVENT
BEGIN:VEVENT
DTSTART;TZID=Asia/Hong_Kong:20171203T201500
DTEND;TZID=Asia/Hong_Kong:20171203T201500
DTSTAMP:20260423T012958
CREATED:19171110T072107Z
LAST-MODIFIED:20171110T072152Z
UID:10003611-1512332100-1512332100@www.bcmagazine.net
SUMMARY:Jason Chan
DESCRIPTION:Jason Chan\nDate: 8:15pm\, 2-3 December\, 2017\nVenue: HK Coliseum\nTickets: $680\, $480\, $300 from Urbtix
URL:https://www.bcmagazine.net/event/jason-chan-03-12-2017/
LOCATION:HK Coliseum\, 9 Cheong Wan Road\, Hung Hom\, Hong Kong
CATEGORIES:2017,Cantopop,Concert,Music,Performing Arts
GEO:22.3014169;114.1820305
X-APPLE-STRUCTURED-LOCATION;VALUE=URI;X-ADDRESS=HK Coliseum 9 Cheong Wan Road Hung Hom Hong Kong;X-APPLE-RADIUS=500;X-TITLE=9 Cheong Wan Road:geo:114.1820305,22.3014169
END:VEVENT
BEGIN:VEVENT
DTSTART;TZID=Asia/Hong_Kong:20171204T200000
DTEND;TZID=Asia/Hong_Kong:20171204T200000
DTSTAMP:20260423T012958
CREATED:19171108T135102Z
LAST-MODIFIED:20171108T135649Z
UID:10003607-1512417600-1512417600@www.bcmagazine.net
SUMMARY:Hong Kong Bach Choir
DESCRIPTION:Canticle of the Sun\nHong Kong Bach Choir\nDate: 8pm\, 4 December\, 2017\nVenue: HK Cultural Centre\, Concert Hall\nTickets: $360\, $280\, $200 from Urbtix
URL:https://www.bcmagazine.net/event/canticle-of-the-sun-hong-kong-bach-choir-2017/
LOCATION:HK Cultural Centre\, Concert Hall\, 10 Salisbury Road\, Tsim Sha Tsui\, Hong Kong
CATEGORIES:2017,Concert,Music,Performing Arts
GEO:22.294318;114.171708
X-APPLE-STRUCTURED-LOCATION;VALUE=URI;X-ADDRESS=HK Cultural Centre Concert Hall 10 Salisbury Road Tsim Sha Tsui Hong Kong;X-APPLE-RADIUS=500;X-TITLE=10 Salisbury Road:geo:114.171708,22.294318
END:VEVENT
BEGIN:VEVENT
DTSTART;TZID=Asia/Hong_Kong:20171208T200000
DTEND;TZID=Asia/Hong_Kong:20171208T200000
DTSTAMP:20260423T012958
CREATED:19171010T092932Z
LAST-MODIFIED:20171010T110121Z
UID:10003559-1512763200-1512763200@www.bcmagazine.net
SUMMARY:Lu Siqing Plays The Butterfly Lovers
DESCRIPTION:Lu Siqing Plays The Butterfly Lovers\nHong Kong Chinese Orchestra\nDate: 8pm\, 8-9 December\, 2017\nVenue: HK Cultural Centre\, Concert\nTickets: $320\, $260\, $200\, $150 from Urbtix
URL:https://www.bcmagazine.net/event/lu-siqing-the-butterfly-lovers-hkco-08-12-2017/
LOCATION:HK Cultural Centre\, Concert Hall\, 10 Salisbury Road\, Tsim Sha Tsui\, Hong Kong
CATEGORIES:2017,Concert,Music,Performing Arts
GEO:22.294318;114.171708
X-APPLE-STRUCTURED-LOCATION;VALUE=URI;X-ADDRESS=HK Cultural Centre Concert Hall 10 Salisbury Road Tsim Sha Tsui Hong Kong;X-APPLE-RADIUS=500;X-TITLE=10 Salisbury Road:geo:114.171708,22.294318
END:VEVENT
BEGIN:VEVENT
DTSTART;TZID=Asia/Hong_Kong:20171209T130000
DTEND;TZID=Asia/Hong_Kong:20171209T130000
DTSTAMP:20260423T012958
CREATED:20171125T042231Z
LAST-MODIFIED:20171125T050033Z
UID:10006461-1512824400-1512824400@www.bcmagazine.net
SUMMARY:KCC Ladies Day
DESCRIPTION:KCC’s first ever ‘Ladies Day’ will be held on Saturday 9th December during the Hancock Shield match when Kowloon Cricket Club play Hong Kong Cricket Club. \nKCC Ladies Day\nDate: 1pm\, 9 December\, 2017\nVenue: Kowloon Cricket Club\nTickets: $200
URL:https://www.bcmagazine.net/event/sportkcc-ladies-day-2017/
LOCATION:Kowloon Cricket Club\, 10 Cox's Road\, Jordan\, Hong Kong
CATEGORIES:2017,Concert,Cricket,Music,Performing Arts,Sport
ATTACH;FMTTYPE=image/jpeg:https://www.bcmagazine.net/wp-content/uploads/2017/11/kcc-ladies-day-2017.jpg
GEO:22.3048927;114.1737401
X-APPLE-STRUCTURED-LOCATION;VALUE=URI;X-ADDRESS=Kowloon Cricket Club 10 Cox's Road Jordan Hong Kong;X-APPLE-RADIUS=500;X-TITLE=10 Cox's Road:geo:114.1737401,22.3048927
END:VEVENT
BEGIN:VEVENT
DTSTART;TZID=Asia/Hong_Kong:20171209T150000
DTEND;TZID=Asia/Hong_Kong:20171209T150000
DTSTAMP:20260423T012958
CREATED:19171118T032318Z
LAST-MODIFIED:20171118T064729Z
UID:10003624-1512831600-1512831600@www.bcmagazine.net
SUMMARY:Shin Hye Sung\, Lee Min Woo
DESCRIPTION:Lee Min Woo – M Style\nShin Hye Sung – Serenity\nDate: 3pm\, 5pm\, 9 December\, 2017\nVenue: AsiaWorld Expo\nTickets: $1\,680\, $1\,280\, $880 from HKTicketing
URL:https://www.bcmagazine.net/event/shin-hye-sung-lee-min-woo/
LOCATION:AsiaWorld-Expo\, Cheong Wing Road\, Chek Lap Kok\, Lantau\, Hong Kong
CATEGORIES:2017,Concert,Music,Performing Arts
GEO:22.3217383;113.9402012
X-APPLE-STRUCTURED-LOCATION;VALUE=URI;X-ADDRESS=AsiaWorld-Expo Cheong Wing Road Chek Lap Kok Lantau Hong Kong;X-APPLE-RADIUS=500;X-TITLE=Cheong Wing Road\, Chek Lap Kok:geo:113.9402012,22.3217383
END:VEVENT
BEGIN:VEVENT
DTSTART;TZID=Asia/Hong_Kong:20171209T200000
DTEND;TZID=Asia/Hong_Kong:20171209T200000
DTSTAMP:20260423T012958
CREATED:19171010T092932Z
LAST-MODIFIED:20171010T110112Z
UID:10003560-1512849600-1512849600@www.bcmagazine.net
SUMMARY:Lu Siqing plays The Butterfly Lovers
DESCRIPTION:Lu Siqing plays The Butterfly Lovers\nHong Kong Chinese Orchestra\nDate: 8pm\, 8-9 December\, 2017\nVenue: HK Cultural Centre\, Concert\nTickets: $320\, $260\, $200\, $150 from Urbtix
URL:https://www.bcmagazine.net/event/lu-siqing-the-butterfly-lovers-hkco-09-12-2017/
LOCATION:HK Cultural Centre\, Concert Hall\, 10 Salisbury Road\, Tsim Sha Tsui\, Hong Kong
CATEGORIES:2017,Concert,Music,Performing Arts
GEO:22.294318;114.171708
X-APPLE-STRUCTURED-LOCATION;VALUE=URI;X-ADDRESS=HK Cultural Centre Concert Hall 10 Salisbury Road Tsim Sha Tsui Hong Kong;X-APPLE-RADIUS=500;X-TITLE=10 Salisbury Road:geo:114.171708,22.294318
END:VEVENT
BEGIN:VEVENT
DTSTART;TZID=Asia/Hong_Kong:20171209T200000
DTEND;TZID=Asia/Hong_Kong:20171209T200000
DTSTAMP:20260423T012958
CREATED:20171111T122024Z
LAST-MODIFIED:20171111T152157Z
UID:10006456-1512849600-1512849600@www.bcmagazine.net
SUMMARY:Skaraoke and The Red Stripes
DESCRIPTION:Skaraoke will be flying into Hong Kong for an exclusive performance in celebration with The Red Stripes on the release of their debut album ‘In The Ska East’. \nSkaraoke and The Red Stripes\nDate: 8pm\, 9 December\, 2017\nVenue: Grappa’s Cellar\nTickets: Free
URL:https://www.bcmagazine.net/event/skaraoke-and-the-red-stripes/
LOCATION:Grappa’s Cellar\, 1 Connaught Place\, Central\, Hong Kong
CATEGORIES:2017,Concert,Music,Performing Arts
GEO:22.2830124;114.1591644
X-APPLE-STRUCTURED-LOCATION;VALUE=URI;X-ADDRESS=Grappa’s Cellar 1 Connaught Place Central Hong Kong;X-APPLE-RADIUS=500;X-TITLE=1 Connaught Place:geo:114.1591644,22.2830124
END:VEVENT
BEGIN:VEVENT
DTSTART;TZID=Asia/Hong_Kong:20171209T201500
DTEND;TZID=Asia/Hong_Kong:20171209T201500
DTSTAMP:20260423T012958
CREATED:19170603T051051Z
LAST-MODIFIED:20170603T051623Z
UID:10002773-1512850500-1512850500@www.bcmagazine.net
SUMMARY:Anzenchitai
DESCRIPTION:Anzenchitai 35th Anniversary Tour Live in HK 2017\nDate: 8:15pm\, 9 December\, 2017\nVenue: AsiaWorld Expo\nTickets: $1\,280\, $880\, $680 from HKTicketing
URL:https://www.bcmagazine.net/event/anzenchitai-2017/
LOCATION:AsiaWorld-Expo\, Cheong Wing Road\, Chek Lap Kok\, Lantau\, Hong Kong
CATEGORIES:2017,Concert,Music
GEO:22.3217383;113.9402012
X-APPLE-STRUCTURED-LOCATION;VALUE=URI;X-ADDRESS=AsiaWorld-Expo Cheong Wing Road Chek Lap Kok Lantau Hong Kong;X-APPLE-RADIUS=500;X-TITLE=Cheong Wing Road\, Chek Lap Kok:geo:113.9402012,22.3217383
END:VEVENT
BEGIN:VEVENT
DTSTART;TZID=Asia/Hong_Kong:20171210T160000
DTEND;TZID=Asia/Hong_Kong:20171210T160000
DTSTAMP:20260423T012958
CREATED:19171107T104126Z
LAST-MODIFIED:20171107T115223Z
UID:10003594-1512921600-1512921600@www.bcmagazine.net
SUMMARY:Hiromi & Edmar Castaneda
DESCRIPTION:Hiromi & Edmar Castaneda\nDate: 4pm\, 10 December\, 2017\nVenue: HKBU\, AC Hall\nTickets: $650\, $480\, $350 from Cityline
URL:https://www.bcmagazine.net/event/hiromi-edmar-castaneda/
LOCATION:HKBU Academic Community Hall\, 224 Waterloo Road\, Kowloon Tong\, Hong Kong
CATEGORIES:2017,Concert,Music,Performing Arts
GEO:22.340854;114.1799456
X-APPLE-STRUCTURED-LOCATION;VALUE=URI;X-ADDRESS=HKBU Academic Community Hall 224 Waterloo Road Kowloon Tong Hong Kong;X-APPLE-RADIUS=500;X-TITLE=224 Waterloo Road:geo:114.1799456,22.340854
END:VEVENT
BEGIN:VEVENT
DTSTART;TZID=Asia/Hong_Kong:20171210T201500
DTEND;TZID=Asia/Hong_Kong:20171210T201500
DTSTAMP:20260423T012958
CREATED:19171107T110009Z
LAST-MODIFIED:20171107T122044Z
UID:10003602-1512936900-1512936900@www.bcmagazine.net
SUMMARY:Listen to Deep
DESCRIPTION:Listen to Deep\nDate: 8:15pm\, 10 December\, 2017\nVenue: Kitec\, Star Hall\nTickets: $580\, $480\, $380
URL:https://www.bcmagazine.net/event/listen-to-deep-2017/
LOCATION:KITEC\, Star Hall\, KITEC\, 1 Trademart Drive\, Kowloon Bay\, Hong Kong
CATEGORIES:2017,Concert,Music,Performing Arts
GEO:22.3239575;114.2037608
X-APPLE-STRUCTURED-LOCATION;VALUE=URI;X-ADDRESS=KITEC Star Hall KITEC 1 Trademart Drive Kowloon Bay Hong Kong;X-APPLE-RADIUS=500;X-TITLE=KITEC\, 1 Trademart Drive:geo:114.2037608,22.3239575
END:VEVENT
BEGIN:VEVENT
DTSTART;TZID=Asia/Hong_Kong:20171210T203000
DTEND;TZID=Asia/Hong_Kong:20171210T203000
DTSTAMP:20260423T012958
CREATED:19171107T104126Z
LAST-MODIFIED:20171107T105354Z
UID:10003581-1512937800-1512937800@www.bcmagazine.net
SUMMARY:Quihong
DESCRIPTION:Quihong – Flower to the People\nDate: 8:30pm\, 10 December\, 2017\nVenue: MacPherson Stadium\nTickets: $350 from Cityline
URL:https://www.bcmagazine.net/event/quihong-flower-to-the-people-2017/
LOCATION:MacPherson Stadium\, 38 Nelson Street\, Mongkok\, Hong Kong
CATEGORIES:2017,Concert,Music,Performing Arts
GEO:22.3188457;114.1728403
X-APPLE-STRUCTURED-LOCATION;VALUE=URI;X-ADDRESS=MacPherson Stadium 38 Nelson Street Mongkok Hong Kong;X-APPLE-RADIUS=500;X-TITLE=38 Nelson Street:geo:114.1728403,22.3188457
END:VEVENT
BEGIN:VEVENT
DTSTART;TZID=Asia/Hong_Kong:20171212T200000
DTEND;TZID=Asia/Hong_Kong:20171212T200000
DTSTAMP:20260423T012958
CREATED:19171107T110009Z
LAST-MODIFIED:20171107T122253Z
UID:10003603-1513108800-1513108800@www.bcmagazine.net
SUMMARY:Janice Yan
DESCRIPTION:Janice Yan – Be Myself Live\nDate: 8pm\, 12 December\, 2017\nVenue: Kitec\, Star Hall\nTickets: $780\, $480\, $280 from HK Ticketing
URL:https://www.bcmagazine.net/event/janice-yan-2017/
LOCATION:KITEC\, Star Hall\, KITEC\, 1 Trademart Drive\, Kowloon Bay\, Hong Kong
CATEGORIES:2017,Cantopop,Concert,Music,Performing Arts
GEO:22.3239575;114.2037608
X-APPLE-STRUCTURED-LOCATION;VALUE=URI;X-ADDRESS=KITEC Star Hall KITEC 1 Trademart Drive Kowloon Bay Hong Kong;X-APPLE-RADIUS=500;X-TITLE=KITEC\, 1 Trademart Drive:geo:114.2037608,22.3239575
END:VEVENT
BEGIN:VEVENT
DTSTART;TZID=Asia/Hong_Kong:20171212T201500
DTEND;TZID=Asia/Hong_Kong:20171212T201500
DTSTAMP:20260423T012958
CREATED:19171107T104126Z
LAST-MODIFIED:20171107T112012Z
UID:10003583-1513109700-1513109700@www.bcmagazine.net
SUMMARY:Endy Chow
DESCRIPTION:Endy Chow – Galactica\nDate: 8:15pm\, 12 December\, 2017\nVenue: MacPherson Stadium\nTickets: $680\, $580 from Cityline
URL:https://www.bcmagazine.net/event/endy-chow-12-12-2017/
LOCATION:MacPherson Stadium\, 38 Nelson Street\, Mongkok\, Hong Kong
CATEGORIES:2017,Concert,Music,Performing Arts
GEO:22.3188457;114.1728403
X-APPLE-STRUCTURED-LOCATION;VALUE=URI;X-ADDRESS=MacPherson Stadium 38 Nelson Street Mongkok Hong Kong;X-APPLE-RADIUS=500;X-TITLE=38 Nelson Street:geo:114.1728403,22.3188457
END:VEVENT
BEGIN:VEVENT
DTSTART;TZID=Asia/Hong_Kong:20171213T200000
DTEND;TZID=Asia/Hong_Kong:20171213T200000
DTSTAMP:20260423T012958
CREATED:19170508T093526Z
LAST-MODIFIED:20170512T104805Z
UID:10001210-1513195200-1513195200@www.bcmagazine.net
SUMMARY:Shawn Mendes
DESCRIPTION:Shawn Mendes – Illuminate World Tour\nDate: 8pm\, 13 December\, 2017\nVenue: AsiaWorld Expo\, Hall 10\nTickets: $680 from HKTicketing
URL:https://www.bcmagazine.net/event/shawn-mendes-2017/
LOCATION:AsiaWorld-Expo\, Hall 10\, Cheong Wing Road\, Chek Lap Kok\, Lantau\, Hong Kong
CATEGORIES:2017,Concert,Music
GEO:22.3217383;113.9402012
X-APPLE-STRUCTURED-LOCATION;VALUE=URI;X-ADDRESS=AsiaWorld-Expo Hall 10 Cheong Wing Road Chek Lap Kok Lantau Hong Kong;X-APPLE-RADIUS=500;X-TITLE=Cheong Wing Road\, Chek Lap Kok:geo:113.9402012,22.3217383
END:VEVENT
BEGIN:VEVENT
DTSTART;TZID=Asia/Hong_Kong:20171213T201500
DTEND;TZID=Asia/Hong_Kong:20171213T201500
DTSTAMP:20260423T012958
CREATED:19171107T104126Z
LAST-MODIFIED:20171107T112201Z
UID:10003584-1513196100-1513196100@www.bcmagazine.net
SUMMARY:Endy Chow
DESCRIPTION:Endy Chow – Galactica\nDate: 8:15pm\, 13 December\, 2017\nVenue: MacPherson Stadium\nTickets: $680\, $580 from Cityline
URL:https://www.bcmagazine.net/event/endy-chow-13-12-2017/
LOCATION:MacPherson Stadium\, 38 Nelson Street\, Mongkok\, Hong Kong
CATEGORIES:2017,Cantopop,Concert,Music,Performing Arts
GEO:22.3188457;114.1728403
X-APPLE-STRUCTURED-LOCATION;VALUE=URI;X-ADDRESS=MacPherson Stadium 38 Nelson Street Mongkok Hong Kong;X-APPLE-RADIUS=500;X-TITLE=38 Nelson Street:geo:114.1728403,22.3188457
END:VEVENT
BEGIN:VEVENT
DTSTART;TZID=Asia/Hong_Kong:20171214T200000
DTEND;TZID=Asia/Hong_Kong:20171214T200000
DTSTAMP:20260423T012958
CREATED:19171107T104126Z
LAST-MODIFIED:20171107T114458Z
UID:10003591-1513281600-1513281600@www.bcmagazine.net
SUMMARY:It's OK - Life is Good!
DESCRIPTION:It’s OK – Life is Good! Charity Concert\nDate: 8pm\, 14 December\, 2017\nVenue: Kitec\, Music Zone@E-Max\nTickets: $480\, $330\, $180 from Cityline
URL:https://www.bcmagazine.net/event/its-ok-life-is-good-2017/
LOCATION:KITEC\, Music Zone@E-Max\, KITEC\,‎ 1 Trademart Drive\, Kowloon Bay\, Hong Kong
CATEGORIES:2017,Charity,Concert,Music,Performing Arts
GEO:22.3239575;114.2037608
X-APPLE-STRUCTURED-LOCATION;VALUE=URI;X-ADDRESS=KITEC Music Zone@E-Max KITEC‎ 1 Trademart Drive Kowloon Bay Hong Kong;X-APPLE-RADIUS=500;X-TITLE=KITEC\,‎ 1 Trademart Drive:geo:114.2037608,22.3239575
END:VEVENT
BEGIN:VEVENT
DTSTART;TZID=Asia/Hong_Kong:20171214T201500
DTEND;TZID=Asia/Hong_Kong:20171214T201500
DTSTAMP:20260423T012958
CREATED:19171107T104126Z
LAST-MODIFIED:20171107T112419Z
UID:10003585-1513282500-1513282500@www.bcmagazine.net
SUMMARY:Endy Chow
DESCRIPTION:Endy Chow – Galactica\nDate: 8:15pm\, 14 December\, 2017\nVenue: MacPherson Stadium\nTickets: $680\, $580 from Cityline
URL:https://www.bcmagazine.net/event/endy-chow-14-12-2017/
LOCATION:MacPherson Stadium\, 38 Nelson Street\, Mongkok\, Hong Kong
CATEGORIES:2017,Cantopop,Concert,Music,Performing Arts
GEO:22.3188457;114.1728403
X-APPLE-STRUCTURED-LOCATION;VALUE=URI;X-ADDRESS=MacPherson Stadium 38 Nelson Street Mongkok Hong Kong;X-APPLE-RADIUS=500;X-TITLE=38 Nelson Street:geo:114.1728403,22.3188457
END:VEVENT
BEGIN:VEVENT
DTSTART;VALUE=DATE:20171215
DTEND;VALUE=DATE:20171218
DTSTAMP:20260423T012958
CREATED:19171107T104126Z
LAST-MODIFIED:20171107T115609Z
UID:10003595-1513296000-1513555199@www.bcmagazine.net
SUMMARY:Time Out?! Time's Up
DESCRIPTION:Time Out?! Time’s Up\nFM Theatre Power\nDate: 15-17 December\, 2017\nVenue: West Kowloon Cultural District\nTickets: $500\, $350\, $300\, $280 from Cityline
URL:https://www.bcmagazine.net/event/time-out-times-up-fm-theatre-power-2017/
LOCATION:West Kowloon Culture District\, West Kowloon Waterfront Promenade\, Hong Kong
CATEGORIES:2017,Concert,Music,Performing Arts
GEO:22.302243;114.155596
X-APPLE-STRUCTURED-LOCATION;VALUE=URI;X-ADDRESS=West Kowloon Culture District West Kowloon Waterfront Promenade Hong Kong;X-APPLE-RADIUS=500;X-TITLE=West Kowloon Waterfront Promenade:geo:114.155596,22.302243
END:VEVENT
BEGIN:VEVENT
DTSTART;TZID=Asia/Hong_Kong:20171216T200000
DTEND;TZID=Asia/Hong_Kong:20171216T200000
DTSTAMP:20260423T012958
CREATED:19171009T025544Z
LAST-MODIFIED:20171009T065134Z
UID:10003502-1513454400-1513454400@www.bcmagazine.net
SUMMARY:Vikki Tong
DESCRIPTION:Vikki Tong\nDate: 8pm\, 16 December\, 2017\nVenue: Kitec\, Music Zone@E-Max\nTickets: $480\, $380\, $280 from Cityline
URL:https://www.bcmagazine.net/event/vikki-tong-2017/
LOCATION:KITEC\, Music Zone@E-Max\, KITEC\,‎ 1 Trademart Drive\, Kowloon Bay\, Hong Kong
CATEGORIES:2017,Concert,Music,Performing Arts
GEO:22.3239575;114.2037608
X-APPLE-STRUCTURED-LOCATION;VALUE=URI;X-ADDRESS=KITEC Music Zone@E-Max KITEC‎ 1 Trademart Drive Kowloon Bay Hong Kong;X-APPLE-RADIUS=500;X-TITLE=KITEC\,‎ 1 Trademart Drive:geo:114.2037608,22.3239575
END:VEVENT
BEGIN:VEVENT
DTSTART;TZID=Asia/Hong_Kong:20171216T200000
DTEND;TZID=Asia/Hong_Kong:20171216T200000
DTSTAMP:20260423T012958
CREATED:19171118T032318Z
LAST-MODIFIED:20171207T083743Z
UID:10003620-1513454400-1513454400@www.bcmagazine.net
SUMMARY:A Place to Bury Strangers
DESCRIPTION:A Place to Bury Strangers\nSupport: So It Goes\nDate: 8pm\, 16 December\, 2017\nVenue: MOM Livehouse\nTickets: $350\, $290 from Ticketflap
URL:https://www.bcmagazine.net/event/a-place-to-bury-strangers-2017/
LOCATION:MOM Livehouse\, B39 Seven Seas Shopping Centre\, 117-121 Kings Road\, North Point\, Hong Kong
CATEGORIES:2017,Concert,Music,Performing Arts
GEO:22.2884683;114.192803
X-APPLE-STRUCTURED-LOCATION;VALUE=URI;X-ADDRESS=MOM Livehouse B39 Seven Seas Shopping Centre 117-121 Kings Road North Point Hong Kong;X-APPLE-RADIUS=500;X-TITLE=B39 Seven Seas Shopping Centre\, 117-121 Kings Road:geo:114.192803,22.2884683
END:VEVENT
BEGIN:VEVENT
DTSTART;TZID=Asia/Hong_Kong:20171219T200000
DTEND;TZID=Asia/Hong_Kong:20171219T200000
DTSTAMP:20260423T012958
CREATED:19171118T032318Z
LAST-MODIFIED:20171118T052322Z
UID:10003622-1513713600-1513713600@www.bcmagazine.net
SUMMARY:Miss May I
DESCRIPTION:Miss May I – The Shadows Inside Asia Tour\nDate: 8pm\, 19 December\, 2017\nVenue: Hidden Agenda\nTickets: $390 from Ticketflap
URL:https://www.bcmagazine.net/event/miss-may-i-2017/
LOCATION:Hidden Agenda (Livehouse)\, 80 Hung To Road\, Kwun Tong\, Hong Kong
CATEGORIES:2017,Concert,Music,Performing Arts
GEO:22.308171;114.223939
X-APPLE-STRUCTURED-LOCATION;VALUE=URI;X-ADDRESS=Hidden Agenda (Livehouse) 80 Hung To Road Kwun Tong Hong Kong;X-APPLE-RADIUS=500;X-TITLE=80 Hung To Road:geo:114.223939,22.308171
END:VEVENT
BEGIN:VEVENT
DTSTART;TZID=Asia/Hong_Kong:20171220T200000
DTEND;TZID=Asia/Hong_Kong:20171220T200000
DTSTAMP:20260423T012958
CREATED:19171107T104126Z
LAST-MODIFIED:20171107T113142Z
UID:10003587-1513800000-1513800000@www.bcmagazine.net
SUMMARY:Candy Lo
DESCRIPTION:Candy Lo – Return\nDate: 8pm\, 20 December\, 2017\nVenue: MacPherson Stadium\nTickets: $680\, $380 from Cityline
URL:https://www.bcmagazine.net/event/candy-lo-20-12-2017/
LOCATION:MacPherson Stadium\, 38 Nelson Street\, Mongkok\, Hong Kong
CATEGORIES:2017,Cantopop,Concert,Music,Performing Arts
GEO:22.3188457;114.1728403
X-APPLE-STRUCTURED-LOCATION;VALUE=URI;X-ADDRESS=MacPherson Stadium 38 Nelson Street Mongkok Hong Kong;X-APPLE-RADIUS=500;X-TITLE=38 Nelson Street:geo:114.1728403,22.3188457
END:VEVENT
BEGIN:VEVENT
DTSTART;TZID=Asia/Hong_Kong:20171220T201500
DTEND;TZID=Asia/Hong_Kong:20171220T201500
DTSTAMP:20260423T012958
CREATED:19171107T110009Z
LAST-MODIFIED:20171107T122449Z
UID:10003604-1513800900-1513800900@www.bcmagazine.net
SUMMARY:ToNick
DESCRIPTION:ToNick\nDate: 8:15pm\, 20 December\, 2017\nVenue: Kitec\, Star Hall\nTickets: $380\, $330 from HK Ticketing
URL:https://www.bcmagazine.net/event/tonick-2017-2/
LOCATION:KITEC\, Star Hall\, KITEC\, 1 Trademart Drive\, Kowloon Bay\, Hong Kong
CATEGORIES:2017,Concert,Music,Performing Arts
GEO:22.3239575;114.2037608
X-APPLE-STRUCTURED-LOCATION;VALUE=URI;X-ADDRESS=KITEC Star Hall KITEC 1 Trademart Drive Kowloon Bay Hong Kong;X-APPLE-RADIUS=500;X-TITLE=KITEC\, 1 Trademart Drive:geo:114.2037608,22.3239575
END:VEVENT
BEGIN:VEVENT
DTSTART;TZID=Asia/Hong_Kong:20171221T200000
DTEND;TZID=Asia/Hong_Kong:20171221T200000
DTSTAMP:20260423T012958
CREATED:19171107T104126Z
LAST-MODIFIED:20171107T113243Z
UID:10003588-1513886400-1513886400@www.bcmagazine.net
SUMMARY:Candy Lo
DESCRIPTION:Candy Lo – Return\nDate: 8pm\, 21 December\, 2017\nVenue: MacPherson Stadium\nTickets: $680\, $380 from Cityline
URL:https://www.bcmagazine.net/event/candy-lo-21-12-2017/
LOCATION:MacPherson Stadium\, 38 Nelson Street\, Mongkok\, Hong Kong
CATEGORIES:2017,Cantopop,Concert,Music,Performing Arts
GEO:22.3188457;114.1728403
X-APPLE-STRUCTURED-LOCATION;VALUE=URI;X-ADDRESS=MacPherson Stadium 38 Nelson Street Mongkok Hong Kong;X-APPLE-RADIUS=500;X-TITLE=38 Nelson Street:geo:114.1728403,22.3188457
END:VEVENT
BEGIN:VEVENT
DTSTART;TZID=Asia/Hong_Kong:20171222T200000
DTEND;TZID=Asia/Hong_Kong:20171222T200000
DTSTAMP:20260423T012958
CREATED:19171203T064300Z
LAST-MODIFIED:20171203T072138Z
UID:10003640-1513972800-1513972800@www.bcmagazine.net
SUMMARY:Bolbbalgan4
DESCRIPTION:Bolbbalgan4\nDate: 8pm\, 22 December\, 2017\nVenue: MacPherson Stadium\nTickets: $980\, $680 from Cityline
URL:https://www.bcmagazine.net/event/bolbbalgan4-2017/
LOCATION:MacPherson Stadium\, 38 Nelson Street\, Mongkok\, Hong Kong
CATEGORIES:2017,Concert,Jazz,Music,Performing Arts
GEO:22.3188457;114.1728403
X-APPLE-STRUCTURED-LOCATION;VALUE=URI;X-ADDRESS=MacPherson Stadium 38 Nelson Street Mongkok Hong Kong;X-APPLE-RADIUS=500;X-TITLE=38 Nelson Street:geo:114.1728403,22.3188457
END:VEVENT
BEGIN:VEVENT
DTSTART;TZID=Asia/Hong_Kong:20171222T210000
DTEND;TZID=Asia/Hong_Kong:20171222T210000
DTSTAMP:20260423T012958
CREATED:19171203T064300Z
LAST-MODIFIED:20171203T070048Z
UID:10003638-1513976400-1513976400@www.bcmagazine.net
SUMMARY:Yellow!
DESCRIPTION:Yellow!\nDate: 9pm\, 22 December\, 2017\nVenue: Kitec\, Music Zone@E-Max\nTickets: $320 from Cityline
URL:https://www.bcmagazine.net/event/yellow-2017/
LOCATION:KITEC\, Music Zone@E-Max\, KITEC\,‎ 1 Trademart Drive\, Kowloon Bay\, Hong Kong
CATEGORIES:2017,Concert,Music,Performing Arts
GEO:22.3239575;114.2037608
X-APPLE-STRUCTURED-LOCATION;VALUE=URI;X-ADDRESS=KITEC Music Zone@E-Max KITEC‎ 1 Trademart Drive Kowloon Bay Hong Kong;X-APPLE-RADIUS=500;X-TITLE=KITEC\,‎ 1 Trademart Drive:geo:114.2037608,22.3239575
END:VEVENT
BEGIN:VEVENT
DTSTART;TZID=Asia/Hong_Kong:20171223T200000
DTEND;TZID=Asia/Hong_Kong:20171223T200000
DTSTAMP:20260423T012958
CREATED:19171009T025544Z
LAST-MODIFIED:20171009T052314Z
UID:10003490-1514059200-1514059200@www.bcmagazine.net
SUMMARY:My Little Airport
DESCRIPTION:Hold A Night For Me in Christmas\nMy Little Airport\nDate: 8pm 23 December\, 2017\nVenue: Kitec\, Music Zone@E-Max\nTickets: $400 from Cityline
URL:https://www.bcmagazine.net/event/my-little-airport-23-12-2017/
LOCATION:KITEC\, Music Zone@E-Max\, KITEC\,‎ 1 Trademart Drive\, Kowloon Bay\, Hong Kong
CATEGORIES:2017,Concert,Music,Performing Arts
GEO:22.3239575;114.2037608
X-APPLE-STRUCTURED-LOCATION;VALUE=URI;X-ADDRESS=KITEC Music Zone@E-Max KITEC‎ 1 Trademart Drive Kowloon Bay Hong Kong;X-APPLE-RADIUS=500;X-TITLE=KITEC\,‎ 1 Trademart Drive:geo:114.2037608,22.3239575
END:VEVENT
BEGIN:VEVENT
DTSTART;TZID=Asia/Hong_Kong:20171224T160000
DTEND;TZID=Asia/Hong_Kong:20171224T160000
DTSTAMP:20260423T012958
CREATED:19171009T025544Z
LAST-MODIFIED:20171009T052734Z
UID:10003486-1514131200-1514131200@www.bcmagazine.net
SUMMARY:My Little Airport
DESCRIPTION:Hold one more day for me in Christmas\nMy Little Airport\nDate: 3pm\, 8pm\, 24 December\, 2017\nVenue: Kitec\, Music Zone@E-Max\nTickets: $400 from Cityline
URL:https://www.bcmagazine.net/event/my-little-airport-24-12-2017/
LOCATION:KITEC\, Music Zone@E-Max\, KITEC\,‎ 1 Trademart Drive\, Kowloon Bay\, Hong Kong
CATEGORIES:2017,Concert,Music,Performing Arts
GEO:22.3239575;114.2037608
X-APPLE-STRUCTURED-LOCATION;VALUE=URI;X-ADDRESS=KITEC Music Zone@E-Max KITEC‎ 1 Trademart Drive Kowloon Bay Hong Kong;X-APPLE-RADIUS=500;X-TITLE=KITEC\,‎ 1 Trademart Drive:geo:114.2037608,22.3239575
END:VEVENT
BEGIN:VEVENT
DTSTART;TZID=Asia/Hong_Kong:20171225T200000
DTEND;TZID=Asia/Hong_Kong:20171225T200000
DTSTAMP:20260423T012958
CREATED:19171009T025544Z
LAST-MODIFIED:20171009T052453Z
UID:10003491-1514232000-1514232000@www.bcmagazine.net
SUMMARY:My Little Airport
DESCRIPTION:Hold A Night For Me in Christmas\nMy Little Airport\nDate: 8pm 25 December\, 2017\nVenue: Kitec\, Music Zone@E-Max\nTickets: $400 from Cityline
URL:https://www.bcmagazine.net/event/my-little-airport-25-12-2017/
LOCATION:KITEC\, Music Zone@E-Max\, KITEC\,‎ 1 Trademart Drive\, Kowloon Bay\, Hong Kong
CATEGORIES:2017,Concert,Music,Performing Arts
GEO:22.3239575;114.2037608
X-APPLE-STRUCTURED-LOCATION;VALUE=URI;X-ADDRESS=KITEC Music Zone@E-Max KITEC‎ 1 Trademart Drive Kowloon Bay Hong Kong;X-APPLE-RADIUS=500;X-TITLE=KITEC\,‎ 1 Trademart Drive:geo:114.2037608,22.3239575
END:VEVENT
END:VCALENDAR