BEGIN:VCALENDAR
VERSION:2.0
PRODID:-//bc magazine - ECPv6.15.20//NONSGML v1.0//EN
CALSCALE:GREGORIAN
METHOD:PUBLISH
X-WR-CALNAME:bc magazine
X-ORIGINAL-URL:https://www.bcmagazine.net
X-WR-CALDESC:Events for bc magazine
REFRESH-INTERVAL;VALUE=DURATION:PT1H
X-Robots-Tag:noindex
X-PUBLISHED-TTL:PT1H
BEGIN:VTIMEZONE
TZID:Asia/Hong_Kong
BEGIN:STANDARD
TZOFFSETFROM:+0800
TZOFFSETTO:+0800
TZNAME:HKT
DTSTART:20170101T000000
END:STANDARD
END:VTIMEZONE
BEGIN:VEVENT
DTSTART;TZID=Asia/Hong_Kong:20180302T201500
DTEND;TZID=Asia/Hong_Kong:20180302T201500
DTSTAMP:20260425T090546
CREATED:19180221T080817Z
LAST-MODIFIED:20180222T120857Z
UID:10003790-1520021700-1520021700@www.bcmagazine.net
SUMMARY:Shine
DESCRIPTION:Shine – Moments Live\nDate: 8:15pm\, 2-3 March\, 2018\nVenue: HK Coliseum\nTickets: $780\, $480\, $280 from Urbtix
URL:https://www.bcmagazine.net/event/shine-02-03-2018/
LOCATION:HK Coliseum\, 9 Cheong Wan Road\, Hung Hom\, Hong Kong
CATEGORIES:2018,Concert,Music,Performing Arts
GEO:22.3014169;114.1820305
X-APPLE-STRUCTURED-LOCATION;VALUE=URI;X-ADDRESS=HK Coliseum 9 Cheong Wan Road Hung Hom Hong Kong;X-APPLE-RADIUS=500;X-TITLE=9 Cheong Wan Road:geo:114.1820305,22.3014169
END:VEVENT
BEGIN:VEVENT
DTSTART;TZID=Asia/Hong_Kong:20180303T200000
DTEND;TZID=Asia/Hong_Kong:20180303T200000
DTSTAMP:20260425T090546
CREATED:19180303T082231Z
LAST-MODIFIED:20180303T105636Z
UID:10003884-1520107200-1520107200@www.bcmagazine.net
SUMMARY:Jessica
DESCRIPTION:Jessica – On Cloud Nine\n Date: 8pm\, 3 March\, 2018\nVenue: Studio City\nTickets: $2\,380\, $1\,680\, $1\,380\, $1\,080\, $780\, $580
URL:https://www.bcmagazine.net/event/jessica-macau-2018/
LOCATION:Studio City\, Estrada do Istmo\, Cotai\, Macau
CATEGORIES:2018,Concert,Macau,Music,Performing Arts
GEO:22.1397693;113.5632663
X-APPLE-STRUCTURED-LOCATION;VALUE=URI;X-ADDRESS=Studio City Estrada do Istmo Cotai Macau;X-APPLE-RADIUS=500;X-TITLE=Estrada do Istmo:geo:113.5632663,22.1397693
END:VEVENT
BEGIN:VEVENT
DTSTART;TZID=Asia/Hong_Kong:20180303T201500
DTEND;TZID=Asia/Hong_Kong:20180303T201500
DTSTAMP:20260425T090546
CREATED:19180210T064134Z
LAST-MODIFIED:20180210T064530Z
UID:10003782-1520108100-1520108100@www.bcmagazine.net
SUMMARY:A-Lin
DESCRIPTION:I’m A-Lin\nDate: 8:15pm\, 8 March\, 2018\nVenue: HKCEC\, Hall 5BC\nTickets: $980\, $780\, $580 from HKTicketing
URL:https://www.bcmagazine.net/event/a-lin-2018/
LOCATION:HK Convention and Exhibition Centre\, 1 Expo Drive\, Wanchai\, Hong Kong
CATEGORIES:2018,Concert,Music,Performing Arts
END:VEVENT
BEGIN:VEVENT
DTSTART;TZID=Asia/Hong_Kong:20180303T201500
DTEND;TZID=Asia/Hong_Kong:20180303T201500
DTSTAMP:20260425T090546
CREATED:19180221T080817Z
LAST-MODIFIED:20180222T120846Z
UID:10003791-1520108100-1520108100@www.bcmagazine.net
SUMMARY:Shine
DESCRIPTION:Shine – Moments Live\nDate: 8:15pm\, 2-3 March\, 2018\nVenue: HK Coliseum\nTickets: $780\, $480\, $280 from Urbtix
URL:https://www.bcmagazine.net/event/shine-03-03-2018/
LOCATION:HK Coliseum\, 9 Cheong Wan Road\, Hung Hom\, Hong Kong
CATEGORIES:2018,Concert,Music,Performing Arts
GEO:22.3014169;114.1820305
X-APPLE-STRUCTURED-LOCATION;VALUE=URI;X-ADDRESS=HK Coliseum 9 Cheong Wan Road Hung Hom Hong Kong;X-APPLE-RADIUS=500;X-TITLE=9 Cheong Wan Road:geo:114.1820305,22.3014169
END:VEVENT
BEGIN:VEVENT
DTSTART;TZID=Asia/Hong_Kong:20180304T200000
DTEND;TZID=Asia/Hong_Kong:20180304T200000
DTSTAMP:20260425T090546
CREATED:19171212T072433Z
LAST-MODIFIED:20171220T102153Z
UID:10003674-1520193600-1520193600@www.bcmagazine.net
SUMMARY:Junnosuke Taguchi
DESCRIPTION:Junnosuke Taguchi\nDate: 8pm\, 4 March\, 2018\nVenue: Music Zone@E-Max\nTickets: $690\, $490 from Cityline
URL:https://www.bcmagazine.net/event/junnosuke-taguchi-2018/
LOCATION:KITEC\, Music Zone@E-Max\, KITEC\,‎ 1 Trademart Drive\, Kowloon Bay\, Hong Kong
CATEGORIES:2018,Concert,Music,Performing Arts
GEO:22.3239575;114.2037608
X-APPLE-STRUCTURED-LOCATION;VALUE=URI;X-ADDRESS=KITEC Music Zone@E-Max KITEC‎ 1 Trademart Drive Kowloon Bay Hong Kong;X-APPLE-RADIUS=500;X-TITLE=KITEC\,‎ 1 Trademart Drive:geo:114.2037608,22.3239575
END:VEVENT
BEGIN:VEVENT
DTSTART;TZID=Asia/Hong_Kong:20180308T201500
DTEND;TZID=Asia/Hong_Kong:20180308T201500
DTSTAMP:20260425T090546
CREATED:19180221T080817Z
LAST-MODIFIED:20180222T122815Z
UID:10003792-1520540100-1520540100@www.bcmagazine.net
SUMMARY:Fook Luk Sau
DESCRIPTION:Fook Luk Sau – 10th Anniversary Tour\nDate: 8:15pm\, 8-9 March\, 2018\nVenue: HK Coliseum\nTickets: $680\, $480\, $280 from Urbtix
URL:https://www.bcmagazine.net/event/fook-luk-sau-08-03-2018/
LOCATION:HK Coliseum\, 9 Cheong Wan Road\, Hung Hom\, Hong Kong
CATEGORIES:2018,Concert,Music,Performing Arts
GEO:22.3014169;114.1820305
X-APPLE-STRUCTURED-LOCATION;VALUE=URI;X-ADDRESS=HK Coliseum 9 Cheong Wan Road Hung Hom Hong Kong;X-APPLE-RADIUS=500;X-TITLE=9 Cheong Wan Road:geo:114.1820305,22.3014169
END:VEVENT
BEGIN:VEVENT
DTSTART;TZID=Asia/Hong_Kong:20180309T201500
DTEND;TZID=Asia/Hong_Kong:20180309T201500
DTSTAMP:20260425T090546
CREATED:19180221T080817Z
LAST-MODIFIED:20180222T122825Z
UID:10003793-1520626500-1520626500@www.bcmagazine.net
SUMMARY:Fook Luk Sau
DESCRIPTION:Fook Luk Sau – 10th Anniversary Tour\nDate: 8:15pm\, 8-9 March\, 2018\nVenue: HK Coliseum\nTickets: $680\, $480\, $280 from Urbtix
URL:https://www.bcmagazine.net/event/fook-luk-sau-09-03-2018/
LOCATION:HK Coliseum\, 9 Cheong Wan Road\, Hung Hom\, Hong Kong
CATEGORIES:2018,Concert,Music,Performing Arts
GEO:22.3014169;114.1820305
X-APPLE-STRUCTURED-LOCATION;VALUE=URI;X-ADDRESS=HK Coliseum 9 Cheong Wan Road Hung Hom Hong Kong;X-APPLE-RADIUS=500;X-TITLE=9 Cheong Wan Road:geo:114.1820305,22.3014169
END:VEVENT
BEGIN:VEVENT
DTSTART;VALUE=DATE:20180310
DTEND;VALUE=DATE:20180312
DTSTAMP:20260425T090546
CREATED:19180208T065813Z
LAST-MODIFIED:20180228T071549Z
UID:10003763-1520640000-1520812799@www.bcmagazine.net
SUMMARY:Freespace Happening
DESCRIPTION:Freespace Happening\nChochukmo\, Andy is Typing…\, Milkmouth\, Blood Wine or Honey\, Project Ace\, Kaya Doran\, Choi Sai-ho\, Kenneth Tsang\, Jing Wong\, 88balaz\, Shotgun Politics\,Silhungmo\, Eat Sleep Recycle\, Jason Kui\nDate: 2pm\, 10-11 March\, 2018\nVenue: Nursery Park\, West Kowloon Cultural District\nTickets: Free
URL:https://www.bcmagazine.net/event/freespace-happening-10-11-march-2018/
LOCATION:West Kowloon Cultural District\, Nursery Park\, West Kowloon Cultural District\, West Kowloon\, Hong Kong
CATEGORIES:2018,Art Gallery,Concert,Exhibition,Free,Music,Performing Arts
GEO:22.2989668;114.1551898
X-APPLE-STRUCTURED-LOCATION;VALUE=URI;X-ADDRESS=West Kowloon Cultural District Nursery Park West Kowloon Cultural District West Kowloon Hong Kong;X-APPLE-RADIUS=500;X-TITLE=West Kowloon Cultural District:geo:114.1551898,22.2989668
END:VEVENT
BEGIN:VEVENT
DTSTART;TZID=Asia/Hong_Kong:20180310T150000
DTEND;TZID=Asia/Hong_Kong:20180310T150000
DTSTAMP:20260425T090546
CREATED:19180206T080745Z
LAST-MODIFIED:20180206T093523Z
UID:10003756-1520694000-1520694000@www.bcmagazine.net
SUMMARY:@Jam + Tale
DESCRIPTION:@Jam + Tale\nDate: 3pm\, 10-11 March\, 2018\nVenue: Kitec\, Music Zone@E-Max\nTickets: $880\, $580 from Cityline
URL:https://www.bcmagazine.net/event/jam-tale-10-03-2018/
LOCATION:KITEC\, Music Zone@E-Max\, KITEC\,‎ 1 Trademart Drive\, Kowloon Bay\, Hong Kong
CATEGORIES:2018,Concert,Music,Performing Arts
GEO:22.3239575;114.2037608
X-APPLE-STRUCTURED-LOCATION;VALUE=URI;X-ADDRESS=KITEC Music Zone@E-Max KITEC‎ 1 Trademart Drive Kowloon Bay Hong Kong;X-APPLE-RADIUS=500;X-TITLE=KITEC\,‎ 1 Trademart Drive:geo:114.2037608,22.3239575
END:VEVENT
BEGIN:VEVENT
DTSTART;TZID=Asia/Hong_Kong:20180310T170000
DTEND;TZID=Asia/Hong_Kong:20180310T170000
DTSTAMP:20260425T090546
CREATED:19180227T083135Z
LAST-MODIFIED:20180227T090046Z
UID:10003868-1520701200-1520701200@www.bcmagazine.net
SUMMARY:March INN Music Festival
DESCRIPTION:March INN Music Festival\nGDJYB 雞蛋蒸肉餅 (Math Folk)\, Site Access (Alternative Groove Funk)\, Dr. Eggs (Trunk Rock and Boom)\, Sensi Lion 狻猊 (Reggae)\, Weisan (Pop)\nThe Sulis Club 蘇利斯俱樂部 (Brit-Pop)\, Shelf-Index\nDate: 5pm\, 10 March\,  2018\nVenue: QUBE\, PMQ\nTickets: $200 (Advance)\, $250(Door) from Ticketflap
URL:https://www.bcmagazine.net/event/march-inn-music-festival-2018/
LOCATION:Qube\, PMQ\, Hong Kong
CATEGORIES:2018,Concert,Music,Performing Arts
GEO:22.2833841;114.1515737
X-APPLE-STRUCTURED-LOCATION;VALUE=URI;X-ADDRESS=Qube PMQ Hong Kong;X-APPLE-RADIUS=500;X-TITLE=PMQ:geo:114.1515737,22.2833841
END:VEVENT
BEGIN:VEVENT
DTSTART;TZID=Asia/Hong_Kong:20180310T190000
DTEND;TZID=Asia/Hong_Kong:20180310T190000
DTSTAMP:20260425T090546
CREATED:20171203T064300Z
LAST-MODIFIED:20171203T064300Z
UID:10006464-1520708400-1520708400@www.bcmagazine.net
SUMMARY:John Legend
DESCRIPTION:John Legend\nDate: 7pm\, 10 March\, 2018\nVenue: AsiaWorld Expo\nTickets: tbc
URL:https://www.bcmagazine.net/event/john-legend-2018/
LOCATION:AsiaWorld-Expo\, Cheong Wing Road\, Chek Lap Kok\, Lantau\, Hong Kong
CATEGORIES:2018,Concert,Music,Performing Arts
GEO:22.3217383;113.9402012
X-APPLE-STRUCTURED-LOCATION;VALUE=URI;X-ADDRESS=AsiaWorld-Expo Cheong Wing Road Chek Lap Kok Lantau Hong Kong;X-APPLE-RADIUS=500;X-TITLE=Cheong Wing Road\, Chek Lap Kok:geo:113.9402012,22.3217383
END:VEVENT
BEGIN:VEVENT
DTSTART;TZID=Asia/Hong_Kong:20180310T200000
DTEND;TZID=Asia/Hong_Kong:20180310T200000
DTSTAMP:20260425T090546
CREATED:19180206T080745Z
LAST-MODIFIED:20180206T094003Z
UID:10003755-1520712000-1520712000@www.bcmagazine.net
SUMMARY:HyunA
DESCRIPTION:HyunA – Lip & Hip\nDate: 8pm\, 10 March\, 2018\nVenue: MacPherson Stadium\nTickets: $1\,380\, $780 from Cityline
URL:https://www.bcmagazine.net/event/hyuna-2018/
LOCATION:MacPherson Stadium\, 38 Nelson Street\, Mongkok\, Hong Kong
CATEGORIES:2018,Concert,Music,Performing Arts
GEO:22.3188457;114.1728403
X-APPLE-STRUCTURED-LOCATION;VALUE=URI;X-ADDRESS=MacPherson Stadium 38 Nelson Street Mongkok Hong Kong;X-APPLE-RADIUS=500;X-TITLE=38 Nelson Street:geo:114.1728403,22.3188457
END:VEVENT
BEGIN:VEVENT
DTSTART;TZID=Asia/Hong_Kong:20180310T200000
DTEND;TZID=Asia/Hong_Kong:20180310T200000
DTSTAMP:20260425T090546
CREATED:19180303T082231Z
LAST-MODIFIED:20180303T111033Z
UID:10003885-1520712000-1520712000@www.bcmagazine.net
SUMMARY:Candy Lo
DESCRIPTION:Candy Lo\n Date: 8pm\, 10 March\, 2018\nVenue: Macau Convention Centre\nTickets: $630\, $500\, $380 from Macau Ticket
URL:https://www.bcmagazine.net/event/candy-lo-macau-2018/
LOCATION:Macau Convention Centre\, Macau
CATEGORIES:2018,Concert,Macau,Music,Performing Arts
GEO:22.198745;113.543873
END:VEVENT
BEGIN:VEVENT
DTSTART;TZID=Asia/Hong_Kong:20180310T210000
DTEND;TZID=Asia/Hong_Kong:20180310T210000
DTSTAMP:20260425T090546
CREATED:19180303T082231Z
LAST-MODIFIED:20180303T113852Z
UID:10003896-1520715600-1520715600@www.bcmagazine.net
SUMMARY:JP Simoes-Bloom
DESCRIPTION:JP Simoes-Bloom\nThe Script Road Concert\n Date: 9pm\, 10 March\, 2018\nVenue: Pacha Macau\nTickets: $120 from Macau Ticket
URL:https://www.bcmagazine.net/event/jp-simoes-bloom-macau-2018/
LOCATION:Pacha Macau
CATEGORIES:2018,Concert,Macau,Music,Performing Arts
END:VEVENT
BEGIN:VEVENT
DTSTART;TZID=Asia/Hong_Kong:20180311T150000
DTEND;TZID=Asia/Hong_Kong:20180311T150000
DTSTAMP:20260425T090546
CREATED:19180206T080745Z
LAST-MODIFIED:20180206T093829Z
UID:10003757-1520780400-1520780400@www.bcmagazine.net
SUMMARY:@Jam + Tale
DESCRIPTION:@Jam + Tale\nDate: 3pm\, 10-11 March\, 2018\nVenue: Kitec\, Music Zone@E-Max\nTickets: $880\, $580 from Cityline
URL:https://www.bcmagazine.net/event/jam-tale-11-03-2018/
LOCATION:KITEC\, Music Zone@E-Max\, KITEC\,‎ 1 Trademart Drive\, Kowloon Bay\, Hong Kong
CATEGORIES:2018,Concert,Music,Performing Arts
GEO:22.3239575;114.2037608
X-APPLE-STRUCTURED-LOCATION;VALUE=URI;X-ADDRESS=KITEC Music Zone@E-Max KITEC‎ 1 Trademart Drive Kowloon Bay Hong Kong;X-APPLE-RADIUS=500;X-TITLE=KITEC\,‎ 1 Trademart Drive:geo:114.2037608,22.3239575
END:VEVENT
BEGIN:VEVENT
DTSTART;TZID=Asia/Hong_Kong:20180315T201500
DTEND;TZID=Asia/Hong_Kong:20180315T201500
DTSTAMP:20260425T090546
CREATED:19180221T080817Z
LAST-MODIFIED:20180221T123122Z
UID:10003794-1521144900-1521144900@www.bcmagazine.net
SUMMARY:Jay Chou
DESCRIPTION:Jay Chou – The Invincible Concert Tour 2\nDate: 8:15pm\, 15-19\, 21-25 March\, 2018\nVenue: HK Coliseum\nTickets: $1\,180\, $780\, $480 from Urbtix
URL:https://www.bcmagazine.net/event/jay-chou-15-03-2018/
LOCATION:HK Coliseum\, 9 Cheong Wan Road\, Hung Hom\, Hong Kong
CATEGORIES:2018,Concert,Music,Performing Arts
ATTACH;FMTTYPE=image/jpeg:https://www.bcmagazine.net/wp-content/uploads/2018/02/Miserable-Faith-@-This-Town-Needs-2018.jpg
GEO:22.3014169;114.1820305
X-APPLE-STRUCTURED-LOCATION;VALUE=URI;X-ADDRESS=HK Coliseum 9 Cheong Wan Road Hung Hom Hong Kong;X-APPLE-RADIUS=500;X-TITLE=9 Cheong Wan Road:geo:114.1820305,22.3014169
END:VEVENT
BEGIN:VEVENT
DTSTART;TZID=Asia/Hong_Kong:20180316T183000
DTEND;TZID=Asia/Hong_Kong:20180316T183000
DTSTAMP:20260425T090546
CREATED:19180311T094055Z
LAST-MODIFIED:20180311T110117Z
UID:10003921-1521225000-1521225000@www.bcmagazine.net
SUMMARY:Silence is Mine
DESCRIPTION:Silence iz Mine\nDate: 6:30pm\, 16 March\, 2018\nVenue: Kitec\, Music Zone@E-Max\nTickets: $750\, $650\, $550\, $450
URL:https://www.bcmagazine.net/event/silence-iz-mine-2018/
LOCATION:KITEC\, Music Zone@E-Max\, KITEC\,‎ 1 Trademart Drive\, Kowloon Bay\, Hong Kong
CATEGORIES:2018,Concert,Music,Performing Arts
GEO:22.3239575;114.2037608
X-APPLE-STRUCTURED-LOCATION;VALUE=URI;X-ADDRESS=KITEC Music Zone@E-Max KITEC‎ 1 Trademart Drive Kowloon Bay Hong Kong;X-APPLE-RADIUS=500;X-TITLE=KITEC\,‎ 1 Trademart Drive:geo:114.2037608,22.3239575
END:VEVENT
BEGIN:VEVENT
DTSTART;TZID=Asia/Hong_Kong:20180316T193000
DTEND;TZID=Asia/Hong_Kong:20180316T193000
DTSTAMP:20260425T090546
CREATED:19180206T080745Z
LAST-MODIFIED:20180206T092850Z
UID:10003758-1521228600-1521228600@www.bcmagazine.net
SUMMARY:Far East Union Vol. 3
DESCRIPTION:Far East Union Vol. 3\nSupper Moment\, Monoeyes\, The Solutions\, Fire Ex.\nDate: 7:30pm\, 16 March\, 2018\nVenue: Kitec\, Music Zone@E-Max\nTickets: $450 from Cityline
URL:https://www.bcmagazine.net/event/far-east-union-vol-3-2018/
LOCATION:KITEC\, Music Zone@E-Max\, KITEC\,‎ 1 Trademart Drive\, Kowloon Bay\, Hong Kong
CATEGORIES:2018,Concert,Music,Performing Arts
GEO:22.3239575;114.2037608
X-APPLE-STRUCTURED-LOCATION;VALUE=URI;X-ADDRESS=KITEC Music Zone@E-Max KITEC‎ 1 Trademart Drive Kowloon Bay Hong Kong;X-APPLE-RADIUS=500;X-TITLE=KITEC\,‎ 1 Trademart Drive:geo:114.2037608,22.3239575
END:VEVENT
BEGIN:VEVENT
DTSTART;TZID=Asia/Hong_Kong:20180316T200000
DTEND;TZID=Asia/Hong_Kong:20180316T200000
DTSTAMP:20260425T090546
CREATED:19180206T080745Z
LAST-MODIFIED:20180206T092938Z
UID:10003754-1521230400-1521230400@www.bcmagazine.net
SUMMARY:Mastamic
DESCRIPTION:Mastamic – Mastapiece Tour\nDate: 8pm\, 16 March\, 2018\nVenue: MacPherson Stadium\nTickets: $380 from Cityline
URL:https://www.bcmagazine.net/event/mastamic-2018/
LOCATION:MacPherson Stadium\, 38 Nelson Street\, Mongkok\, Hong Kong
CATEGORIES:2018,Concert,Music,Performing Arts
GEO:22.3188457;114.1728403
X-APPLE-STRUCTURED-LOCATION;VALUE=URI;X-ADDRESS=MacPherson Stadium 38 Nelson Street Mongkok Hong Kong;X-APPLE-RADIUS=500;X-TITLE=38 Nelson Street:geo:114.1728403,22.3188457
END:VEVENT
BEGIN:VEVENT
DTSTART;TZID=Asia/Hong_Kong:20180316T200000
DTEND;TZID=Asia/Hong_Kong:20180316T200000
DTSTAMP:20260425T090546
CREATED:19180303T082231Z
LAST-MODIFIED:20180303T113350Z
UID:10003894-1521230400-1521230400@www.bcmagazine.net
SUMMARY:Sing a Song of Mine
DESCRIPTION:Sing a Song of Mine\n Date: 8pm\, 16-17 March\, 2018\nVenue: Macau Cultural Centre\, Small Auditorium\nTickets: $120 from Macau Ticket
URL:https://www.bcmagazine.net/event/sing-a-song-of-mine-macau-16-03-2018/
LOCATION:Macao Cultural Centre\, Small Auditorium\, Macau
CATEGORIES:2018,Concert,Macau,Music,Performing Arts
END:VEVENT
BEGIN:VEVENT
DTSTART;TZID=Asia/Hong_Kong:20180316T200000
DTEND;TZID=Asia/Hong_Kong:20180316T200000
DTSTAMP:20260425T090546
CREATED:20180221T080817Z
LAST-MODIFIED:20180221T120536Z
UID:10006480-1521230400-1521230400@www.bcmagazine.net
SUMMARY:Miserable Faith
DESCRIPTION:Miserable Faith\nDate: 8pm\, 16 March\, 2018\nVenue: This Town Needs\nTickets: $350\, $250 (Advance)
URL:https://www.bcmagazine.net/event/miserable-faith-2018/
LOCATION:This Town Needs (TTN)\, 1/F Ocean One\, 6 Shung Shun Street\, Yau Tong\, Hong Kong
CATEGORIES:2018,Concert,Music,Performing Arts
ATTACH;FMTTYPE=image/jpeg:https://www.bcmagazine.net/wp-content/uploads/2018/02/Miserable-Faith-@-This-Town-Needs-2018.jpg
GEO:22.292861;114.23782
X-APPLE-STRUCTURED-LOCATION;VALUE=URI;X-ADDRESS=This Town Needs (TTN) 1/F Ocean One 6 Shung Shun Street Yau Tong Hong Kong;X-APPLE-RADIUS=500;X-TITLE=1/F Ocean One\, 6 Shung Shun Street:geo:114.23782,22.292861
END:VEVENT
BEGIN:VEVENT
DTSTART;TZID=Asia/Hong_Kong:20180316T200000
DTEND;TZID=Asia/Hong_Kong:20180316T200000
DTSTAMP:20260425T090546
CREATED:20180302T112639Z
LAST-MODIFIED:20180302T120247Z
UID:10006481-1521230400-1521230400@www.bcmagazine.net
SUMMARY:Jazz Ladies
DESCRIPTION:Jazz Ladies\nDate: 8pm\, 16 March\, 2018\nVenue: Jao Tsung-I Academy Theatre\nTickets: $200 (Door)\, $160 (Advance)
URL:https://www.bcmagazine.net/event/jazz-ladies-16-03-2018/
LOCATION:Jao Tsung-I Academy Theatre\, 800 Castle Peak Road\, Kowloon\, Hong Kong
CATEGORIES:2018,Concert,Jazz,Music,Performing Arts
ATTACH;FMTTYPE=image/jpeg:https://www.bcmagazine.net/wp-content/uploads/2018/03/jazz-ladies-16-march-2018.jpg
GEO:22.338826;114.1423128
X-APPLE-STRUCTURED-LOCATION;VALUE=URI;X-ADDRESS=Jao Tsung-I Academy Theatre 800 Castle Peak Road Kowloon Hong Kong;X-APPLE-RADIUS=500;X-TITLE=800 Castle Peak Road:geo:114.1423128,22.338826
END:VEVENT
BEGIN:VEVENT
DTSTART;TZID=Asia/Hong_Kong:20180316T201500
DTEND;TZID=Asia/Hong_Kong:20180316T201500
DTSTAMP:20260425T090546
CREATED:19180221T080817Z
LAST-MODIFIED:20180222T115507Z
UID:10003795-1521231300-1521231300@www.bcmagazine.net
SUMMARY:Jay Chou
DESCRIPTION:Jay Chou – The Invincible Concert Tour 2\nDate: 8:15pm\, 15-19\, 21-25 March\, 2018\nVenue: HK Coliseum\nTickets: $1\,180\, $780\, $480 from Urbtix
URL:https://www.bcmagazine.net/event/jay-chou-16-03-2018/
LOCATION:HK Coliseum\, 9 Cheong Wan Road\, Hung Hom\, Hong Kong
CATEGORIES:2018,Concert,Music,Performing Arts
GEO:22.3014169;114.1820305
X-APPLE-STRUCTURED-LOCATION;VALUE=URI;X-ADDRESS=HK Coliseum 9 Cheong Wan Road Hung Hom Hong Kong;X-APPLE-RADIUS=500;X-TITLE=9 Cheong Wan Road:geo:114.1820305,22.3014169
END:VEVENT
BEGIN:VEVENT
DTSTART;TZID=Asia/Hong_Kong:20180317T200000
DTEND;TZID=Asia/Hong_Kong:20180317T200000
DTSTAMP:20260425T090546
CREATED:19180208T065813Z
LAST-MODIFIED:20180228T101101Z
UID:10003770-1521316800-1521316800@www.bcmagazine.net
SUMMARY:Mars en Folie
DESCRIPTION:Mars en Folie\nD-Track\, Fergessen\, Le Roi Angus\, Rive\nDate: 8pm\, 17 March\, 2018\nVenue: MOM Livehouse\nTickets: Free
URL:https://www.bcmagazine.net/event/mars-en-folie-2018/
LOCATION:MOM Livehouse\, B39 Seven Seas Shopping Centre\, 117-121 Kings Road\, North Point\, Hong Kong
CATEGORIES:2018,Concert,Free,Music,Performing Arts
GEO:22.2884683;114.192803
X-APPLE-STRUCTURED-LOCATION;VALUE=URI;X-ADDRESS=MOM Livehouse B39 Seven Seas Shopping Centre 117-121 Kings Road North Point Hong Kong;X-APPLE-RADIUS=500;X-TITLE=B39 Seven Seas Shopping Centre\, 117-121 Kings Road:geo:114.192803,22.2884683
END:VEVENT
BEGIN:VEVENT
DTSTART;TZID=Asia/Hong_Kong:20180317T200000
DTEND;TZID=Asia/Hong_Kong:20180317T200000
DTSTAMP:20260425T090546
CREATED:19180303T082231Z
LAST-MODIFIED:20180303T105351Z
UID:10003883-1521316800-1521316800@www.bcmagazine.net
SUMMARY:Kim Jong Kook
DESCRIPTION:Kim Jong Kook\n Date: 8pm\, 17 March\, 2018\nVenue: Studio City\nTickets: $1\,680\, $1\,280\, $980\, $680\, $380
URL:https://www.bcmagazine.net/event/kim-jong-kook-macau-2018/
LOCATION:Studio City\, Estrada do Istmo\, Cotai\, Macau
CATEGORIES:2018,Concert,Macau,Music,Performing Arts
GEO:22.1397693;113.5632663
X-APPLE-STRUCTURED-LOCATION;VALUE=URI;X-ADDRESS=Studio City Estrada do Istmo Cotai Macau;X-APPLE-RADIUS=500;X-TITLE=Estrada do Istmo:geo:113.5632663,22.1397693
END:VEVENT
BEGIN:VEVENT
DTSTART;TZID=Asia/Hong_Kong:20180317T200000
DTEND;TZID=Asia/Hong_Kong:20180317T200000
DTSTAMP:20260425T090546
CREATED:19180303T082231Z
LAST-MODIFIED:20180303T113542Z
UID:10003895-1521316800-1521316800@www.bcmagazine.net
SUMMARY:Sing a Song of Mine
DESCRIPTION:Sing a Song of Mine\n Date: 8pm\, 16-17 March\, 2018\nVenue: Macau Cultural Centre\, Small Auditorium\nTickets: $120 from Macau Ticket
URL:https://www.bcmagazine.net/event/sing-a-song-of-mine-macau-17-03-2018/
LOCATION:Macao Cultural Centre\, Small Auditorium\, Macau
CATEGORIES:2018,Concert,Macau,Music,Performing Arts
END:VEVENT
BEGIN:VEVENT
DTSTART;TZID=Asia/Hong_Kong:20180317T201500
DTEND;TZID=Asia/Hong_Kong:20180317T201500
DTSTAMP:20260425T090546
CREATED:19180221T080817Z
LAST-MODIFIED:20180222T120027Z
UID:10003796-1521317700-1521317700@www.bcmagazine.net
SUMMARY:Jay Chou
DESCRIPTION:Jay Chou – The Invincible Concert Tour 2\nDate: 8:15pm\, 15-19\, 21-25 March\, 2018\nVenue: HK Coliseum\nTickets: $1\,180\, $780\, $480 from Urbtix
URL:https://www.bcmagazine.net/event/jay-chou-17-03-2018/
LOCATION:HK Coliseum\, 9 Cheong Wan Road\, Hung Hom\, Hong Kong
CATEGORIES:2018,Concert,Music,Performing Arts
GEO:22.3014169;114.1820305
X-APPLE-STRUCTURED-LOCATION;VALUE=URI;X-ADDRESS=HK Coliseum 9 Cheong Wan Road Hung Hom Hong Kong;X-APPLE-RADIUS=500;X-TITLE=9 Cheong Wan Road:geo:114.1820305,22.3014169
END:VEVENT
BEGIN:VEVENT
DTSTART;TZID=Asia/Hong_Kong:20180318T190000
DTEND;TZID=Asia/Hong_Kong:20180318T190000
DTSTAMP:20260425T090546
CREATED:19180208T065813Z
LAST-MODIFIED:20180228T095956Z
UID:10003768-1521399600-1521399600@www.bcmagazine.net
SUMMARY:Synergy
DESCRIPTION:Synergy – Laika Album Release Show\nSupport: eli\, BlackWine\n Date: 7pm\, 18 March\, 2018\nVenue: This Town Needs (TTN)\nTickets: $250 (with CD)\, $180 from https://etickets.hk/project/synergy/laika
URL:https://www.bcmagazine.net/event/synergy-laika-2018/
LOCATION:This Town Needs (TTN)\, 1/F Ocean One\, 6 Shung Shun Street\, Yau Tong\, Hong Kong
CATEGORIES:2018,Concert,Music,Performing Arts
GEO:22.292861;114.23782
X-APPLE-STRUCTURED-LOCATION;VALUE=URI;X-ADDRESS=This Town Needs (TTN) 1/F Ocean One 6 Shung Shun Street Yau Tong Hong Kong;X-APPLE-RADIUS=500;X-TITLE=1/F Ocean One\, 6 Shung Shun Street:geo:114.23782,22.292861
END:VEVENT
BEGIN:VEVENT
DTSTART;TZID=Asia/Hong_Kong:20180318T200000
DTEND;TZID=Asia/Hong_Kong:20180318T200000
DTSTAMP:20260425T090546
CREATED:19180303T082231Z
LAST-MODIFIED:20180303T114201Z
UID:10003897-1521403200-1521403200@www.bcmagazine.net
SUMMARY:Zhou Yunpeng
DESCRIPTION:Zhou Yunpeng – Poetic China\nThe Script Road Concert\n Date: 8pm\, 18 March\, 2018\nVenue: Dom Pedro V Theatre\nTickets: $120 from Macau Ticket
URL:https://www.bcmagazine.net/event/zhou-yunpeng-poetic-china-macau-2018/
LOCATION:Dom Pedro V Theatre\, Largo de Santo Agostinho\, Macau
CATEGORIES:2018,Concert,Macau,Music,Performing Arts
GEO:22.1922848;113.5380585
X-APPLE-STRUCTURED-LOCATION;VALUE=URI;X-ADDRESS=Dom Pedro V Theatre Largo de Santo Agostinho Macau;X-APPLE-RADIUS=500;X-TITLE=Largo de Santo Agostinho:geo:113.5380585,22.1922848
END:VEVENT
BEGIN:VEVENT
DTSTART;TZID=Asia/Hong_Kong:20180318T201500
DTEND;TZID=Asia/Hong_Kong:20180318T201500
DTSTAMP:20260425T090546
CREATED:19180221T080817Z
LAST-MODIFIED:20180221T123617Z
UID:10003797-1521404100-1521404100@www.bcmagazine.net
SUMMARY:Jay Chou
DESCRIPTION:Jay Chou – The Invincible Concert Tour 2\nDate: 8:15pm\, 15-19\, 21-25 March\, 2018\nVenue: HK Coliseum\nTickets: $1\,180\, $780\, $480 from Urbtix
URL:https://www.bcmagazine.net/event/jay-chou-18-03-2018/
LOCATION:HK Coliseum\, 9 Cheong Wan Road\, Hung Hom\, Hong Kong
CATEGORIES:2018,Concert,Music,Performing Arts
ATTACH;FMTTYPE=image/jpeg:https://www.bcmagazine.net/wp-content/uploads/2018/02/Miserable-Faith-@-This-Town-Needs-2018.jpg
GEO:22.3014169;114.1820305
X-APPLE-STRUCTURED-LOCATION;VALUE=URI;X-ADDRESS=HK Coliseum 9 Cheong Wan Road Hung Hom Hong Kong;X-APPLE-RADIUS=500;X-TITLE=9 Cheong Wan Road:geo:114.1820305,22.3014169
END:VEVENT
END:VCALENDAR