BEGIN:VCALENDAR
VERSION:2.0
PRODID:-//bc magazine - ECPv6.15.20//NONSGML v1.0//EN
CALSCALE:GREGORIAN
METHOD:PUBLISH
X-WR-CALNAME:bc magazine
X-ORIGINAL-URL:https://www.bcmagazine.net
X-WR-CALDESC:Events for bc magazine
REFRESH-INTERVAL;VALUE=DURATION:PT1H
X-Robots-Tag:noindex
X-PUBLISHED-TTL:PT1H
BEGIN:VTIMEZONE
TZID:Asia/Hong_Kong
BEGIN:STANDARD
TZOFFSETFROM:+0800
TZOFFSETTO:+0800
TZNAME:HKT
DTSTART:20170101T000000
END:STANDARD
END:VTIMEZONE
BEGIN:VEVENT
DTSTART;TZID=Asia/Hong_Kong:20180501T200000
DTEND;TZID=Asia/Hong_Kong:20180501T200000
DTSTAMP:20260424T181426
CREATED:19180220T111909Z
LAST-MODIFIED:20180220T112713Z
UID:10003786-1525204800-1525204800@www.bcmagazine.net
SUMMARY:Dua Lipa
DESCRIPTION:Dua Lipa\nDate: 8pm\, 1 May\, 2018\nVenue: MacPherson Stadium\nTickets: $698\, $598\, $498 from Cityline
URL:https://www.bcmagazine.net/event/dua-lipa-2018/
LOCATION:MacPherson Stadium\, 38 Nelson Street\, Mongkok\, Hong Kong
CATEGORIES:2018,Concert,Music,Performing Arts
GEO:22.3188457;114.1728403
X-APPLE-STRUCTURED-LOCATION;VALUE=URI;X-ADDRESS=MacPherson Stadium 38 Nelson Street Mongkok Hong Kong;X-APPLE-RADIUS=500;X-TITLE=38 Nelson Street:geo:114.1728403,22.3188457
END:VEVENT
BEGIN:VEVENT
DTSTART;TZID=Asia/Hong_Kong:20180502T194500
DTEND;TZID=Asia/Hong_Kong:20180502T194500
DTSTAMP:20260424T181426
CREATED:19180222T090237Z
LAST-MODIFIED:20180222T104724Z
UID:10003840-1525290300-1525290300@www.bcmagazine.net
SUMMARY:Wong Ho
DESCRIPTION:Sound Temptation……Wong Ho\nDate: 7:45pm\, 2 May\, 2018\nVenue: HK Cultural Centre\, Studio Theatre\nTickets: $260\, $180\, $120 from Urbtix
URL:https://www.bcmagazine.net/event/wong-ho/
LOCATION:HK Cultural Centre\, Studio Theatre\, 10 Salisbury Road\, Tsim Sha Tsui\, Hong Kong
CATEGORIES:2018,Concert,Music,Performing Arts
END:VEVENT
BEGIN:VEVENT
DTSTART;TZID=Asia/Hong_Kong:20180502T200000
DTEND;TZID=Asia/Hong_Kong:20180502T200000
DTSTAMP:20260424T181426
CREATED:19180227T114925Z
LAST-MODIFIED:20180404T153122Z
UID:10003871-1525291200-1525291200@www.bcmagazine.net
SUMMARY:At The Gates
DESCRIPTION:At The Gates\nDate: 8pm\, 2 May\, 2018\nVenue: This Town Needs\nTickets: $480\, $380 (Advance) from Ticketflap
URL:https://www.bcmagazine.net/event/at-the-gates-2018/
LOCATION:This Town Needs (TTN)\, 1/F Ocean One\, 6 Shung Shun Street\, Yau Tong\, Hong Kong
CATEGORIES:2018,Concert,Music,Performing Arts
GEO:22.292861;114.23782
X-APPLE-STRUCTURED-LOCATION;VALUE=URI;X-ADDRESS=This Town Needs (TTN) 1/F Ocean One 6 Shung Shun Street Yau Tong Hong Kong;X-APPLE-RADIUS=500;X-TITLE=1/F Ocean One\, 6 Shung Shun Street:geo:114.23782,22.292861
END:VEVENT
BEGIN:VEVENT
DTSTART;TZID=Asia/Hong_Kong:20180502T210000
DTEND;TZID=Asia/Hong_Kong:20180502T210000
DTSTAMP:20260424T181426
CREATED:19180310T104830Z
LAST-MODIFIED:20180310T120827Z
UID:10003904-1525294800-1525294800@www.bcmagazine.net
SUMMARY:Disclosure
DESCRIPTION:Disclosure\nDate: 9pm\, 2 May\, 2018\nVenue: MacPherson Stadium\nTickets: tbc
URL:https://www.bcmagazine.net/event/disclosure-2018/
LOCATION:MacPherson Stadium\, 38 Nelson Street\, Mongkok\, Hong Kong
CATEGORIES:2018,Concert,DJ,Music,Performing Arts
GEO:22.3188457;114.1728403
X-APPLE-STRUCTURED-LOCATION;VALUE=URI;X-ADDRESS=MacPherson Stadium 38 Nelson Street Mongkok Hong Kong;X-APPLE-RADIUS=500;X-TITLE=38 Nelson Street:geo:114.1728403,22.3188457
END:VEVENT
BEGIN:VEVENT
DTSTART;TZID=Asia/Hong_Kong:20180504T191500
DTEND;TZID=Asia/Hong_Kong:20180504T191500
DTSTAMP:20260424T181426
CREATED:19180505T081708Z
LAST-MODIFIED:20180505T084106Z
UID:10003983-1525461300-1525461300@www.bcmagazine.net
SUMMARY:Mayday
DESCRIPTION:Mayday Life Tour 2018\nDate: 7:15pm\, 4-6\, 11-13 May\, 2018\nVenue: HK Disneyland\nTickets: $1\,180\, $880\, $680\, $480 from Cityline
URL:https://www.bcmagazine.net/event/mayday-04-05-2018/
LOCATION:Disneyland Hong Kong\, Lantau\, Hong Kong
CATEGORIES:2018,Concert,Music,Performing Arts
GEO:22.2664984;113.941751
END:VEVENT
BEGIN:VEVENT
DTSTART;TZID=Asia/Hong_Kong:20180504T200000
DTEND;TZID=Asia/Hong_Kong:20180504T200000
DTSTAMP:20260424T181426
CREATED:19180405T103647Z
LAST-MODIFIED:20180417T173331Z
UID:10003932-1525464000-1525464000@www.bcmagazine.net
SUMMARY:Chad Valley
DESCRIPTION:Chad Valley Asia Tour – Live In Hong Kong\nSupport: DP\, Tedman Lee\nDate: 8pm\, 4 May\, 2018\nVenue: TTN – This Town Needs\nTickets: $330 (Advance)\, $430 (Door)
URL:https://www.bcmagazine.net/event/chad-valley-2018/
LOCATION:This Town Needs (TTN)\, 1/F Ocean One\, 6 Shung Shun Street\, Yau Tong\, Hong Kong
CATEGORIES:2018,Concert,Music,Performing Arts
ATTACH;FMTTYPE=image/jpeg:https://www.bcmagazine.net/wp-content/uploads/2018/04/Chad-Valley-TTN-2018.jpg
GEO:22.292861;114.23782
X-APPLE-STRUCTURED-LOCATION;VALUE=URI;X-ADDRESS=This Town Needs (TTN) 1/F Ocean One 6 Shung Shun Street Yau Tong Hong Kong;X-APPLE-RADIUS=500;X-TITLE=1/F Ocean One\, 6 Shung Shun Street:geo:114.23782,22.292861
END:VEVENT
BEGIN:VEVENT
DTSTART;TZID=Asia/Hong_Kong:20180504T201500
DTEND;TZID=Asia/Hong_Kong:20180504T201500
DTSTAMP:20260424T181426
CREATED:19180305T092856Z
LAST-MODIFIED:20180305T113058Z
UID:10003898-1525464900-1525464900@www.bcmagazine.net
SUMMARY:Gi Gi
DESCRIPTION:Gi Gi\nDate: 8:15pm\, 4-5 May\, 2018\nVenue: HK Coliseum\nTickets: $780\, $480\, $280 from Urbtix
URL:https://www.bcmagazine.net/event/gi-gi-04-05-2018/
LOCATION:HK Coliseum\, 9 Cheong Wan Road\, Hung Hom\, Hong Kong
CATEGORIES:2018,Cantopop,Concert,Music,Performing Arts
GEO:22.3014169;114.1820305
X-APPLE-STRUCTURED-LOCATION;VALUE=URI;X-ADDRESS=HK Coliseum 9 Cheong Wan Road Hung Hom Hong Kong;X-APPLE-RADIUS=500;X-TITLE=9 Cheong Wan Road:geo:114.1820305,22.3014169
END:VEVENT
BEGIN:VEVENT
DTSTART;TZID=Asia/Hong_Kong:20180505T183000
DTEND;TZID=Asia/Hong_Kong:20180505T183000
DTSTAMP:20260424T181426
CREATED:20180316T083443Z
LAST-MODIFIED:20180316T083714Z
UID:10006484-1525545000-1525545000@www.bcmagazine.net
SUMMARY:Elvis Presley Fan Club 50th Anniversary Party
DESCRIPTION:The International Elvis Presley Fan Club\, founded on the 1 May 1968\, celebrates it’s Golden Jubilee with a party at the Panda Hotel. \nElvis Presley Fan Club 50th Anniversary Party\nDate: 6:30pm\, 5 May\, 2018\nVenue: Panda Hotel\nTickets: $680
URL:https://www.bcmagazine.net/event/elvis-presley-fan-club-50th-anniversary-party/
LOCATION:Panda Hotel\, 3 Tsuen Wah Street\, Tsuen Wan\, Hong Kong
CATEGORIES:2018,Concert,Music,Nightlife,Performing Arts
ATTACH;FMTTYPE=image/jpeg:https://www.bcmagazine.net/wp-content/uploads/2018/03/Elvis-50th-Anniversary-Poster.jpg
GEO:22.3688543;114.1206598
X-APPLE-STRUCTURED-LOCATION;VALUE=URI;X-ADDRESS=Panda Hotel 3 Tsuen Wah Street Tsuen Wan Hong Kong;X-APPLE-RADIUS=500;X-TITLE=3 Tsuen Wah Street:geo:114.1206598,22.3688543
END:VEVENT
BEGIN:VEVENT
DTSTART;TZID=Asia/Hong_Kong:20180505T191500
DTEND;TZID=Asia/Hong_Kong:20180505T191500
DTSTAMP:20260424T181426
CREATED:19180505T081708Z
LAST-MODIFIED:20180505T084352Z
UID:10003984-1525547700-1525547700@www.bcmagazine.net
SUMMARY:Mayday
DESCRIPTION:Mayday Life Tour 2018\nDate: 7:15pm\, 4-6\, 11-13 May\, 2018\nVenue: HK Disneyland\nTickets: $1\,180\, $880\, $680\, $480 from Cityline
URL:https://www.bcmagazine.net/event/mayday-05-05-2018/
LOCATION:Disneyland Hong Kong\, Lantau\, Hong Kong
CATEGORIES:2018,Concert,Music,Performing Arts
GEO:22.2664984;113.941751
END:VEVENT
BEGIN:VEVENT
DTSTART;TZID=Asia/Hong_Kong:20180505T193000
DTEND;TZID=Asia/Hong_Kong:20180505T193000
DTSTAMP:20260424T181426
CREATED:19180311T094055Z
LAST-MODIFIED:20180311T095057Z
UID:10003910-1525548600-1525548600@www.bcmagazine.net
SUMMARY:GARNiDELiA
DESCRIPTION:GARNiDELiA stellacage Tour 2018 ~G.R.N.D\nDate: 7:30pm\, 5 May\, 2018\nVenue: Kitec\, Music Zone@E-Max\nTickets: $780\, $580 from Cityline
URL:https://www.bcmagazine.net/event/garnidelia-2018/
LOCATION:KITEC\, Music Zone@E-Max\, KITEC\,‎ 1 Trademart Drive\, Kowloon Bay\, Hong Kong
CATEGORIES:2018,Concert,Music,Performing Arts
GEO:22.3239575;114.2037608
X-APPLE-STRUCTURED-LOCATION;VALUE=URI;X-ADDRESS=KITEC Music Zone@E-Max KITEC‎ 1 Trademart Drive Kowloon Bay Hong Kong;X-APPLE-RADIUS=500;X-TITLE=KITEC\,‎ 1 Trademart Drive:geo:114.2037608,22.3239575
END:VEVENT
BEGIN:VEVENT
DTSTART;TZID=Asia/Hong_Kong:20180505T200000
DTEND;TZID=Asia/Hong_Kong:20180505T200000
DTSTAMP:20260424T181426
CREATED:19180302T095639Z
LAST-MODIFIED:20180302T100120Z
UID:10003873-1525550400-1525550400@www.bcmagazine.net
SUMMARY:Jake Bugg
DESCRIPTION:Jake Bugg -Solo Acoustic Tour\nDate: 8pm\, 5 May\, 2018\nVenue: 1563 at the East\nTickets: $440
URL:https://www.bcmagazine.net/event/jake-bugg-2018/
LOCATION:1563 at The East\, 6/F Hopewell Centre\, 183 Queen's Road East\, Wanchai\, Hong Kong
CATEGORIES:2018,Concert,Music,Performing Arts
GEO:22.396428;114.109497
X-APPLE-STRUCTURED-LOCATION;VALUE=URI;X-ADDRESS=1563 at The East 6/F Hopewell Centre 183 Queen's Road East Wanchai Hong Kong;X-APPLE-RADIUS=500;X-TITLE=6/F Hopewell Centre\, 183 Queen's Road East:geo:114.109497,22.396428
END:VEVENT
BEGIN:VEVENT
DTSTART;TZID=Asia/Hong_Kong:20180505T200000
DTEND;TZID=Asia/Hong_Kong:20180505T200000
DTSTAMP:20260424T181426
CREATED:20170615T064338Z
LAST-MODIFIED:20170616T064746Z
UID:10006401-1525550400-1525550400@www.bcmagazine.net
SUMMARY:Harry Styles
DESCRIPTION:Harry Styles\nSupport: Warpaint\nDate: 8pm\, 5 May\, 2018\nVenue: HKCEC\, Hall 5BC\nTickets: $688\, $488 from HKTicketing
URL:https://www.bcmagazine.net/event/harry-styles-2018/
LOCATION:HK Convention and Exhibition Centre\, 1 Expo Drive\, Wanchai\, Hong Kong
CATEGORIES:2018,Concert,Music
END:VEVENT
BEGIN:VEVENT
DTSTART;TZID=Asia/Hong_Kong:20180505T201500
DTEND;TZID=Asia/Hong_Kong:20180505T201500
DTSTAMP:20260424T181426
CREATED:19180305T092856Z
LAST-MODIFIED:20180305T113412Z
UID:10003899-1525551300-1525551300@www.bcmagazine.net
SUMMARY:Gi Gi
DESCRIPTION:Gi Gi\nDate: 8:15pm\, 4-5 May\, 2018\nVenue: HK Coliseum\nTickets: $780\, $480\, $280 from Urbtix
URL:https://www.bcmagazine.net/event/gi-gi-05-05-2018/
LOCATION:HK Coliseum\, 9 Cheong Wan Road\, Hung Hom\, Hong Kong
CATEGORIES:2018,Cantopop,Concert,Music,Performing Arts
GEO:22.3014169;114.1820305
X-APPLE-STRUCTURED-LOCATION;VALUE=URI;X-ADDRESS=HK Coliseum 9 Cheong Wan Road Hung Hom Hong Kong;X-APPLE-RADIUS=500;X-TITLE=9 Cheong Wan Road:geo:114.1820305,22.3014169
END:VEVENT
BEGIN:VEVENT
DTSTART;TZID=Asia/Hong_Kong:20180506T150000
DTEND;TZID=Asia/Hong_Kong:20180506T150000
DTSTAMP:20260424T181426
CREATED:19180505T081708Z
LAST-MODIFIED:20180505T082618Z
UID:10003980-1525618800-1525618800@www.bcmagazine.net
SUMMARY:G Karina
DESCRIPTION:G Karina – Photo Book Release\nDate: 3pm\, May\, 2018\nVenue: Kitec\, Music Zone@E-Max\nTickets: $480 from Cityline
URL:https://www.bcmagazine.net/event/g-karina-2018/
LOCATION:KITEC\, Music Zone@E-Max\, KITEC\,‎ 1 Trademart Drive\, Kowloon Bay\, Hong Kong
CATEGORIES:2018,Concert,Music,Performing Arts
GEO:22.3239575;114.2037608
X-APPLE-STRUCTURED-LOCATION;VALUE=URI;X-ADDRESS=KITEC Music Zone@E-Max KITEC‎ 1 Trademart Drive Kowloon Bay Hong Kong;X-APPLE-RADIUS=500;X-TITLE=KITEC\,‎ 1 Trademart Drive:geo:114.2037608,22.3239575
END:VEVENT
BEGIN:VEVENT
DTSTART;TZID=Asia/Hong_Kong:20180506T190000
DTEND;TZID=Asia/Hong_Kong:20180506T190000
DTSTAMP:20260424T181426
CREATED:19180408T053805Z
LAST-MODIFIED:20180423T120354Z
UID:10003937-1525633200-1525633200@www.bcmagazine.net
SUMMARY:Ear Cinema
DESCRIPTION:Ear Cinema\nDate: 7pm\, 6 May\, 2018\nVenue: TTN\nTickets: $180\, $150
URL:https://www.bcmagazine.net/event/ear-cinema-2018/
LOCATION:This Town Needs (TTN)\, 1/F Ocean One\, 6 Shung Shun Street\, Yau Tong\, Hong Kong
CATEGORIES:2018,Concert,Music,Performing Arts
GEO:22.292861;114.23782
X-APPLE-STRUCTURED-LOCATION;VALUE=URI;X-ADDRESS=This Town Needs (TTN) 1/F Ocean One 6 Shung Shun Street Yau Tong Hong Kong;X-APPLE-RADIUS=500;X-TITLE=1/F Ocean One\, 6 Shung Shun Street:geo:114.23782,22.292861
END:VEVENT
BEGIN:VEVENT
DTSTART;TZID=Asia/Hong_Kong:20180506T191500
DTEND;TZID=Asia/Hong_Kong:20180506T191500
DTSTAMP:20260424T181426
CREATED:19180505T081708Z
LAST-MODIFIED:20180505T084344Z
UID:10003985-1525634100-1525634100@www.bcmagazine.net
SUMMARY:Mayday
DESCRIPTION:Mayday Life Tour 2018\nDate: 7:15pm\, 4-6\, 11-13 May\, 2018\nVenue: HK Disneyland\nTickets: $1\,180\, $880\, $680\, $480 from Cityline
URL:https://www.bcmagazine.net/event/mayday-06-05-2018/
LOCATION:Disneyland Hong Kong\, Lantau\, Hong Kong
CATEGORIES:2018,Concert,Music,Performing Arts
GEO:22.2664984;113.941751
END:VEVENT
BEGIN:VEVENT
DTSTART;TZID=Asia/Hong_Kong:20180506T193000
DTEND;TZID=Asia/Hong_Kong:20180506T193000
DTSTAMP:20260424T181426
CREATED:19180412T073450Z
LAST-MODIFIED:20180412T080527Z
UID:10003944-1525635000-1525635000@www.bcmagazine.net
SUMMARY:Music Boysenberry Charity Concert
DESCRIPTION:Music Boysenberry Charity Concert\nDate: 7:30pm\, 6 May\, 2018\nVenue: HK Poly U\, Jockey Club Auditorium\nTickets: $380\, $280\, $180 from Cityline
URL:https://www.bcmagazine.net/event/music-boysenberry-charity-concert-2018/
LOCATION:Hong Kong Polytechnic University\, Jockey Club Auditorium\, Hong Kong
CATEGORIES:2018,Concert,Music,Performing Arts
GEO:22.396428;114.109497
END:VEVENT
BEGIN:VEVENT
DTSTART;TZID=Asia/Hong_Kong:20180506T200000
DTEND;TZID=Asia/Hong_Kong:20180506T200000
DTSTAMP:20260424T181426
CREATED:20180427T132956Z
LAST-MODIFIED:20180430T133651Z
UID:10006493-1525636800-1525636800@www.bcmagazine.net
SUMMARY:Rhodes
DESCRIPTION:Rhodes\nSupport: Sophy\nDate: 8pm\, 6 May\, 2018\nVenue: MOM Livehouse\nTickets: $320 (Door)\, $280 (Advance)
URL:https://www.bcmagazine.net/event/rhodes-2018/
LOCATION:MOM Livehouse\, B39 Seven Seas Shopping Centre\, 117-121 Kings Road\, North Point\, Hong Kong
CATEGORIES:2018,Concert,Music,Performing Arts
ATTACH;FMTTYPE=image/jpeg:https://www.bcmagazine.net/wp-content/uploads/2018/04/Rhodes-2018-Tour.jpg
GEO:22.2884683;114.192803
X-APPLE-STRUCTURED-LOCATION;VALUE=URI;X-ADDRESS=MOM Livehouse B39 Seven Seas Shopping Centre 117-121 Kings Road North Point Hong Kong;X-APPLE-RADIUS=500;X-TITLE=B39 Seven Seas Shopping Centre\, 117-121 Kings Road:geo:114.192803,22.2884683
END:VEVENT
BEGIN:VEVENT
DTSTART;TZID=Asia/Hong_Kong:20180507T200000
DTEND;TZID=Asia/Hong_Kong:20180507T200000
DTSTAMP:20260424T181426
CREATED:19180412T073450Z
LAST-MODIFIED:20180412T080203Z
UID:10003943-1525723200-1525723200@www.bcmagazine.net
SUMMARY:Mike Stern + Dave Weckl
DESCRIPTION:Mike Stern + Dave Weckl\n Date: 8pm\, 7 May\, 2018\nVenue: HK Poly U\, Jockey Club Auditorium\nTickets: $580\, $450\, $350\, $250 from Cityline
URL:https://www.bcmagazine.net/event/mike-stern-dave-weckl-2018/
LOCATION:Hong Kong Polytechnic University\, Jockey Club Auditorium\, Hong Kong
CATEGORIES:2018,Concert,Music,Performing Arts
GEO:22.396428;114.109497
END:VEVENT
BEGIN:VEVENT
DTSTART;TZID=Asia/Hong_Kong:20180508T190000
DTEND;TZID=Asia/Hong_Kong:20180508T190000
DTSTAMP:20260424T181426
CREATED:19180227T114925Z
LAST-MODIFIED:20180404T152837Z
UID:10003870-1525806000-1525806000@www.bcmagazine.net
SUMMARY:Death Angel
DESCRIPTION:Death Angel – The Evil Divide Across Hong Kong\nDeath Angel\, Tainted Dickman\nDate: 7pm\, 8 May\, 2018\nVenue: TTN\nTickets: $480\, $380 (Advance) from Ticketflap
URL:https://www.bcmagazine.net/event/death-angel-2018/
LOCATION:This Town Needs (TTN)\, 1/F Ocean One\, 6 Shung Shun Street\, Yau Tong\, Hong Kong
CATEGORIES:2018,Concert,Music,Performing Arts
GEO:22.292861;114.23782
X-APPLE-STRUCTURED-LOCATION;VALUE=URI;X-ADDRESS=This Town Needs (TTN) 1/F Ocean One 6 Shung Shun Street Yau Tong Hong Kong;X-APPLE-RADIUS=500;X-TITLE=1/F Ocean One\, 6 Shung Shun Street:geo:114.23782,22.292861
END:VEVENT
BEGIN:VEVENT
DTSTART;TZID=Asia/Hong_Kong:20180509T203000
DTEND;TZID=Asia/Hong_Kong:20180509T203000
DTSTAMP:20260424T181426
CREATED:20180405T103647Z
LAST-MODIFIED:20180417T172750Z
UID:10006488-1525897800-1525897800@www.bcmagazine.net
SUMMARY:Moonchild
DESCRIPTION:Moonchild Asia Tour – Live In Hong Kong\nDate: 8:30pm\, 9 May\, 2018\nVenue: TTN – This Town Needs\nTickets: $260 (Advance)\, $320 (Door)
URL:https://www.bcmagazine.net/event/moonchild-2018/
LOCATION:This Town Needs (TTN)\, 1/F Ocean One\, 6 Shung Shun Street\, Yau Tong\, Hong Kong
CATEGORIES:2018,Concert,Jazz,Music,Performing Arts
ATTACH;FMTTYPE=image/jpeg:https://www.bcmagazine.net/wp-content/uploads/2018/04/moonchild-2018-TTN.jpg
GEO:22.292861;114.23782
X-APPLE-STRUCTURED-LOCATION;VALUE=URI;X-ADDRESS=This Town Needs (TTN) 1/F Ocean One 6 Shung Shun Street Yau Tong Hong Kong;X-APPLE-RADIUS=500;X-TITLE=1/F Ocean One\, 6 Shung Shun Street:geo:114.23782,22.292861
END:VEVENT
BEGIN:VEVENT
DTSTART;TZID=Asia/Hong_Kong:20180510T193000
DTEND;TZID=Asia/Hong_Kong:20180510T193000
DTSTAMP:20260424T181426
CREATED:19180412T073450Z
LAST-MODIFIED:20180412T074521Z
UID:10003938-1525980600-1525980600@www.bcmagazine.net
SUMMARY:Stellar Trio of Luxembourg
DESCRIPTION:Stellar Trio of Luxembourg\nLe French May\nDate: 7:30pm\, 11-12 May\, 2018\nVenue: Tom Lee Music Academy Hall\nTickets: $380\, $280\, $180 from Cityline
URL:https://www.bcmagazine.net/event/stellar-trio-of-luxembourg-10-05-2018/
LOCATION:Tom Lee Music Academy Hall\, Unit 2-20\, Level 12\, Megabox\, 38 Wang Chiu Road\, Kowloon\, Hong Kong
CATEGORIES:2018,Concert,Music,Performing Arts
GEO:22.3195631;114.2082493
X-APPLE-STRUCTURED-LOCATION;VALUE=URI;X-ADDRESS=Tom Lee Music Academy Hall Unit 2-20 Level 12 Megabox 38 Wang Chiu Road Kowloon Hong Kong;X-APPLE-RADIUS=500;X-TITLE=Unit 2-20\, Level 12\, Megabox\, 38 Wang Chiu Road:geo:114.2082493,22.3195631
END:VEVENT
BEGIN:VEVENT
DTSTART;TZID=Asia/Hong_Kong:20180511T191500
DTEND;TZID=Asia/Hong_Kong:20180511T191500
DTSTAMP:20260424T181426
CREATED:19180505T081708Z
LAST-MODIFIED:20180505T084329Z
UID:10003989-1526066100-1526066100@www.bcmagazine.net
SUMMARY:Mayday
DESCRIPTION:Mayday Life Tour 2018\nDate: 7:15pm\, 4-6\, 11-13 May\, 2018\nVenue: HK Disneyland\nTickets: $1\,180\, $880\, $680\, $480 from Cityline
URL:https://www.bcmagazine.net/event/mayday-11-05-2018/
LOCATION:Disneyland Hong Kong\, Lantau\, Hong Kong
CATEGORIES:2018,Concert,Music,Performing Arts
GEO:22.2664984;113.941751
END:VEVENT
BEGIN:VEVENT
DTSTART;TZID=Asia/Hong_Kong:20180511T193000
DTEND;TZID=Asia/Hong_Kong:20180511T193000
DTSTAMP:20260424T181426
CREATED:19180412T073450Z
LAST-MODIFIED:20180412T074709Z
UID:10003939-1526067000-1526067000@www.bcmagazine.net
SUMMARY:Stellar Trio of Luxembourg
DESCRIPTION:Stellar Trio of Luxembourg\nLe French May\nDate: 7:30pm\, 11-12 May\, 2018\nVenue: Tom Lee Music Academy Hall\nTickets: $380\, $280\, $180 from Cityline
URL:https://www.bcmagazine.net/event/stellar-trio-of-luxembourg-11-05-2018/
LOCATION:Tom Lee Music Academy Hall\, Unit 2-20\, Level 12\, Megabox\, 38 Wang Chiu Road\, Kowloon\, Hong Kong
CATEGORIES:2018,Concert,Music,Performing Arts
GEO:22.3195631;114.2082493
X-APPLE-STRUCTURED-LOCATION;VALUE=URI;X-ADDRESS=Tom Lee Music Academy Hall Unit 2-20 Level 12 Megabox 38 Wang Chiu Road Kowloon Hong Kong;X-APPLE-RADIUS=500;X-TITLE=Unit 2-20\, Level 12\, Megabox\, 38 Wang Chiu Road:geo:114.2082493,22.3195631
END:VEVENT
BEGIN:VEVENT
DTSTART;TZID=Asia/Hong_Kong:20180512T191500
DTEND;TZID=Asia/Hong_Kong:20180512T191500
DTSTAMP:20260424T181426
CREATED:19180505T081708Z
LAST-MODIFIED:20180505T084322Z
UID:10003994-1526152500-1526152500@www.bcmagazine.net
SUMMARY:Mayday
DESCRIPTION:Mayday Life Tour 2018\nDate: 7:15pm\, 4-6\, 11-13 May\, 2018\nVenue: HK Disneyland\nTickets: $1\,180\, $880\, $680\, $480 from Cityline
URL:https://www.bcmagazine.net/event/mayday-12-05-2018/
LOCATION:Disneyland Hong Kong\, Lantau\, Hong Kong
CATEGORIES:2018,Concert,Music,Performing Arts
GEO:22.2664984;113.941751
END:VEVENT
BEGIN:VEVENT
DTSTART;TZID=Asia/Hong_Kong:20180512T200000
DTEND;TZID=Asia/Hong_Kong:20180512T200000
DTSTAMP:20260424T181426
CREATED:20171013T084056Z
LAST-MODIFIED:20171019T113918Z
UID:10006450-1526155200-1526155200@www.bcmagazine.net
SUMMARY:Bruno Mars
DESCRIPTION:Bruno Mars 24K Magic World\nDate: 8pm\, 12 May\, 2018\nVenue: AsiaWorld-Expo\, Arena\nTickets: $788 from HKTicketing (from 19 Oct)
URL:https://www.bcmagazine.net/event/bruno-mars-12-05-2018/
LOCATION:AsiaWorld-Expo\, Arena\, Cheong Wing Road\, Chek Lap Kok\, Lantau\, Hong Kong
CATEGORIES:2018,Concert,Music,Performing Arts
GEO:22.3217383;113.9402012
X-APPLE-STRUCTURED-LOCATION;VALUE=URI;X-ADDRESS=AsiaWorld-Expo Arena Cheong Wing Road Chek Lap Kok Lantau Hong Kong;X-APPLE-RADIUS=500;X-TITLE=Cheong Wing Road\, Chek Lap Kok:geo:113.9402012,22.3217383
END:VEVENT
BEGIN:VEVENT
DTSTART;TZID=Asia/Hong_Kong:20180513T191500
DTEND;TZID=Asia/Hong_Kong:20180513T191500
DTSTAMP:20260424T181426
CREATED:19180505T081708Z
LAST-MODIFIED:20180505T084317Z
UID:10003997-1526238900-1526238900@www.bcmagazine.net
SUMMARY:Mayday
DESCRIPTION:Mayday Life Tour 2018\nDate: 7:15pm\, 4-6\, 11-13 May\, 2018\nVenue: HK Disneyland\nTickets: $1\,180\, $880\, $680\, $480 from Cityline
URL:https://www.bcmagazine.net/event/mayday-13-05-2018/
LOCATION:Disneyland Hong Kong\, Lantau\, Hong Kong
CATEGORIES:2018,Concert,Music,Performing Arts
GEO:22.2664984;113.941751
END:VEVENT
BEGIN:VEVENT
DTSTART;TZID=Asia/Hong_Kong:20180513T200000
DTEND;TZID=Asia/Hong_Kong:20180513T200000
DTSTAMP:20260424T181426
CREATED:20171013T084056Z
LAST-MODIFIED:20171019T113936Z
UID:10006451-1526241600-1526241600@www.bcmagazine.net
SUMMARY:Bruno Mars
DESCRIPTION:Bruno Mars 24K Magic World\nDate: 8pm\, 13 May\, 2018\nVenue: AsiaWorld-Expo\, Arena\nTickets: $788 from HKTicketing (from 19 Oct)
URL:https://www.bcmagazine.net/event/bruno-mars-13-05-2018/
LOCATION:AsiaWorld-Expo\, Arena\, Cheong Wing Road\, Chek Lap Kok\, Lantau\, Hong Kong
CATEGORIES:2018,Concert,Music,Performing Arts
GEO:22.3217383;113.9402012
X-APPLE-STRUCTURED-LOCATION;VALUE=URI;X-ADDRESS=AsiaWorld-Expo Arena Cheong Wing Road Chek Lap Kok Lantau Hong Kong;X-APPLE-RADIUS=500;X-TITLE=Cheong Wing Road\, Chek Lap Kok:geo:113.9402012,22.3217383
END:VEVENT
BEGIN:VEVENT
DTSTART;TZID=Asia/Hong_Kong:20180513T213000
DTEND;TZID=Asia/Hong_Kong:20180513T213000
DTSTAMP:20260424T181426
CREATED:19180427T132956Z
LAST-MODIFIED:20180430T134734Z
UID:10003976-1526247000-1526247000@www.bcmagazine.net
SUMMARY:The Birth
DESCRIPTION:The Birth\nKongo\, Chris Brien\, Noriko Watanabe\, Chris Polanco\nDate: 9:30pm\, 13 May\, 2018\nVenue: MOM Livehouse\nTickets: $280 (Door)\, $240\, $160(Advance)
URL:https://www.bcmagazine.net/event/the-birth-2018/
LOCATION:MOM Livehouse\, B39 Seven Seas Shopping Centre\, 117-121 Kings Road\, North Point\, Hong Kong
CATEGORIES:2018,Concert,Music,Performing Arts
ATTACH;FMTTYPE=image/jpeg:https://www.bcmagazine.net/wp-content/uploads/2018/04/the-birth-2018-small.jpg
GEO:22.2884683;114.192803
X-APPLE-STRUCTURED-LOCATION;VALUE=URI;X-ADDRESS=MOM Livehouse B39 Seven Seas Shopping Centre 117-121 Kings Road North Point Hong Kong;X-APPLE-RADIUS=500;X-TITLE=B39 Seven Seas Shopping Centre\, 117-121 Kings Road:geo:114.192803,22.2884683
END:VEVENT
BEGIN:VEVENT
DTSTART;TZID=Asia/Hong_Kong:20180515T190000
DTEND;TZID=Asia/Hong_Kong:20180515T190000
DTSTAMP:20260424T181426
CREATED:20180417T143647Z
LAST-MODIFIED:20180417T171531Z
UID:10006490-1526410800-1526410800@www.bcmagazine.net
SUMMARY:The Cribs
DESCRIPTION:The Cribs Asia Tour – Live In Hong Kong\nSupport: Thud\nDate: 7pm\, 15 May\, 2018\nVenue: TTN – This Town Needs\nTickets: $320 (Advance)\, $420 (Door)
URL:https://www.bcmagazine.net/event/the-cribs-2018/
LOCATION:This Town Needs (TTN)\, 1/F Ocean One\, 6 Shung Shun Street\, Yau Tong\, Hong Kong
CATEGORIES:2018,Concert,Music,Performing Arts
ATTACH;FMTTYPE=image/jpeg:https://www.bcmagazine.net/wp-content/uploads/1917/07/The-Cribs-2018-TTN.jpg
GEO:22.292861;114.23782
X-APPLE-STRUCTURED-LOCATION;VALUE=URI;X-ADDRESS=This Town Needs (TTN) 1/F Ocean One 6 Shung Shun Street Yau Tong Hong Kong;X-APPLE-RADIUS=500;X-TITLE=1/F Ocean One\, 6 Shung Shun Street:geo:114.23782,22.292861
END:VEVENT
END:VCALENDAR