BEGIN:VCALENDAR
VERSION:2.0
PRODID:-//bc magazine - ECPv6.15.20//NONSGML v1.0//EN
CALSCALE:GREGORIAN
METHOD:PUBLISH
X-WR-CALNAME:bc magazine
X-ORIGINAL-URL:https://www.bcmagazine.net
X-WR-CALDESC:Events for bc magazine
REFRESH-INTERVAL;VALUE=DURATION:PT1H
X-Robots-Tag:noindex
X-PUBLISHED-TTL:PT1H
BEGIN:VTIMEZONE
TZID:Asia/Hong_Kong
BEGIN:STANDARD
TZOFFSETFROM:+0800
TZOFFSETTO:+0800
TZNAME:HKT
DTSTART:20170101T000000
END:STANDARD
END:VTIMEZONE
BEGIN:VEVENT
DTSTART;TZID=Asia/Hong_Kong:20181001T180000
DTEND;TZID=Asia/Hong_Kong:20181001T180000
DTSTAMP:20260426T084123
CREATED:19180802T094055Z
LAST-MODIFIED:20190924T041153Z
UID:10004360-1538416800-1538416800@www.bcmagazine.net
SUMMARY:Stranded Whale
DESCRIPTION:Stranded Whale – The Revival Live\nDate: 6pm\, 1 October\, 2018\nVenue: Jao Tsung-I Academy\, Theatre\nTickets: $250\, $220
URL:https://www.bcmagazine.net/event/stranded-whale-01-10-2018/
LOCATION:Jao Tsung-I Academy Theatre\, 800 Castle Peak Road\, Kowloon\, Hong Kong
CATEGORIES:2018,Concert,Free,Music,Performing Arts
ATTACH;FMTTYPE=image/jpeg:https://www.bcmagazine.net/wp-content/uploads/1918/08/Stranded-whale-revival-live.jpg
GEO:22.338826;114.1423128
X-APPLE-STRUCTURED-LOCATION;VALUE=URI;X-ADDRESS=Jao Tsung-I Academy Theatre 800 Castle Peak Road Kowloon Hong Kong;X-APPLE-RADIUS=500;X-TITLE=800 Castle Peak Road:geo:114.1423128,22.338826
END:VEVENT
BEGIN:VEVENT
DTSTART;TZID=Asia/Hong_Kong:20181001T193000
DTEND;TZID=Asia/Hong_Kong:20181001T193000
DTSTAMP:20260426T084123
CREATED:19180528T020834Z
LAST-MODIFIED:20180728T174650Z
UID:10004160-1538422200-1538422200@www.bcmagazine.net
SUMMARY:"Annie" The Musical
DESCRIPTION:“Annie” The Musical\nHong Kong Chorus Society\nDate: 7:30pm\, 1 October\, 2018\nVenue: HK Cultural Centre\, Concert Hall\nTickets: $460\, $380\, $280\, $200 from Urbtix
URL:https://www.bcmagazine.net/event/annie-the-musical-hk-chorus-society-01-10-2018/
LOCATION:HK Cultural Centre\, Concert Hall\, 10 Salisbury Road\, Tsim Sha Tsui\, Hong Kong
CATEGORIES:2018,Concert,Music,Musical,Performing Arts
GEO:22.294318;114.171708
X-APPLE-STRUCTURED-LOCATION;VALUE=URI;X-ADDRESS=HK Cultural Centre Concert Hall 10 Salisbury Road Tsim Sha Tsui Hong Kong;X-APPLE-RADIUS=500;X-TITLE=10 Salisbury Road:geo:114.171708,22.294318
END:VEVENT
BEGIN:VEVENT
DTSTART;TZID=Asia/Hong_Kong:20181001T200000
DTEND;TZID=Asia/Hong_Kong:20181001T200000
DTSTAMP:20260426T084123
CREATED:19180608T094055Z
LAST-MODIFIED:20180728T033258Z
UID:10004208-1538424000-1538424000@www.bcmagazine.net
SUMMARY:My Little Airport
DESCRIPTION:My Little Airport Live 2018 – You Said We’d Meet Again\nDate: 8pm\, 30 September – 6 October\, 2018\nVenue: Kitec\, Music Zone@E-Max\nTickets: $480 from Cityline
URL:https://www.bcmagazine.net/event/my-little-airport-01-10-2018/
LOCATION:KITEC\, Music Zone@E-Max\, KITEC\,‎ 1 Trademart Drive\, Kowloon Bay\, Hong Kong
CATEGORIES:2018,Concert,Music,Performing Arts
GEO:22.3239575;114.2037608
X-APPLE-STRUCTURED-LOCATION;VALUE=URI;X-ADDRESS=KITEC Music Zone@E-Max KITEC‎ 1 Trademart Drive Kowloon Bay Hong Kong;X-APPLE-RADIUS=500;X-TITLE=KITEC\,‎ 1 Trademart Drive:geo:114.2037608,22.3239575
END:VEVENT
BEGIN:VEVENT
DTSTART;TZID=Asia/Hong_Kong:20181002T200000
DTEND;TZID=Asia/Hong_Kong:20181002T200000
DTSTAMP:20260426T084123
CREATED:19180608T094055Z
LAST-MODIFIED:20180728T033529Z
UID:10004211-1538510400-1538510400@www.bcmagazine.net
SUMMARY:My Little Airport
DESCRIPTION:My Little Airport Live 2018 – You Said We’d Meet Again\nDate: 8pm\, 30 September – 6 October\, 2018\nVenue: Kitec\, Music Zone@E-Max\nTickets: $480 from Cityline
URL:https://www.bcmagazine.net/event/my-little-airport-02-10-2018/
LOCATION:KITEC\, Music Zone@E-Max\, KITEC\,‎ 1 Trademart Drive\, Kowloon Bay\, Hong Kong
CATEGORIES:2018,Concert,Music,Performing Arts
GEO:22.3239575;114.2037608
X-APPLE-STRUCTURED-LOCATION;VALUE=URI;X-ADDRESS=KITEC Music Zone@E-Max KITEC‎ 1 Trademart Drive Kowloon Bay Hong Kong;X-APPLE-RADIUS=500;X-TITLE=KITEC\,‎ 1 Trademart Drive:geo:114.2037608,22.3239575
END:VEVENT
BEGIN:VEVENT
DTSTART;TZID=Asia/Hong_Kong:20181003T200000
DTEND;TZID=Asia/Hong_Kong:20181003T200000
DTSTAMP:20260426T084123
CREATED:19180608T094055Z
LAST-MODIFIED:20180728T033521Z
UID:10004212-1538596800-1538596800@www.bcmagazine.net
SUMMARY:My Little Airport
DESCRIPTION:My Little Airport Live 2018 – You Said We’d Meet Again\nDate: 8pm\, 30 September – 6 October\, 2018\nVenue: Kitec\, Music Zone@E-Max\nTickets: $480 from Cityline
URL:https://www.bcmagazine.net/event/my-little-airport-03-10-2018/
LOCATION:KITEC\, Music Zone@E-Max\, KITEC\,‎ 1 Trademart Drive\, Kowloon Bay\, Hong Kong
CATEGORIES:2018,Concert,Music,Performing Arts
GEO:22.3239575;114.2037608
X-APPLE-STRUCTURED-LOCATION;VALUE=URI;X-ADDRESS=KITEC Music Zone@E-Max KITEC‎ 1 Trademart Drive Kowloon Bay Hong Kong;X-APPLE-RADIUS=500;X-TITLE=KITEC\,‎ 1 Trademart Drive:geo:114.2037608,22.3239575
END:VEVENT
BEGIN:VEVENT
DTSTART;TZID=Asia/Hong_Kong:20181004T200000
DTEND;TZID=Asia/Hong_Kong:20181004T200000
DTSTAMP:20260426T084123
CREATED:19180608T094055Z
LAST-MODIFIED:20180728T033515Z
UID:10004213-1538683200-1538683200@www.bcmagazine.net
SUMMARY:My Little Airport
DESCRIPTION:My Little Airport Live 2018 – You Said We’d Meet Again\nDate: 8pm\, 30 September – 6 October\, 2018\nVenue: Kitec\, Music Zone@E-Max\nTickets: $480 from Cityline
URL:https://www.bcmagazine.net/event/my-little-airport-04-10-2018/
LOCATION:KITEC\, Music Zone@E-Max\, KITEC\,‎ 1 Trademart Drive\, Kowloon Bay\, Hong Kong
CATEGORIES:2018,Concert,Music,Performing Arts
GEO:22.3239575;114.2037608
X-APPLE-STRUCTURED-LOCATION;VALUE=URI;X-ADDRESS=KITEC Music Zone@E-Max KITEC‎ 1 Trademart Drive Kowloon Bay Hong Kong;X-APPLE-RADIUS=500;X-TITLE=KITEC\,‎ 1 Trademart Drive:geo:114.2037608,22.3239575
END:VEVENT
BEGIN:VEVENT
DTSTART;TZID=Asia/Hong_Kong:20181005T200000
DTEND;TZID=Asia/Hong_Kong:20181005T200000
DTSTAMP:20260426T084123
CREATED:19180608T094055Z
LAST-MODIFIED:20180728T033509Z
UID:10004214-1538769600-1538769600@www.bcmagazine.net
SUMMARY:My Little Airport
DESCRIPTION:My Little Airport Live 2018 – You Said We’d Meet Again\nDate: 8pm\, 30 September – 6 October\, 2018\nVenue: Kitec\, Music Zone@E-Max\nTickets: $480 from Cityline
URL:https://www.bcmagazine.net/event/my-little-airport-05-10-2018/
LOCATION:KITEC\, Music Zone@E-Max\, KITEC\,‎ 1 Trademart Drive\, Kowloon Bay\, Hong Kong
CATEGORIES:2018,Concert,Music,Performing Arts
GEO:22.3239575;114.2037608
X-APPLE-STRUCTURED-LOCATION;VALUE=URI;X-ADDRESS=KITEC Music Zone@E-Max KITEC‎ 1 Trademart Drive Kowloon Bay Hong Kong;X-APPLE-RADIUS=500;X-TITLE=KITEC\,‎ 1 Trademart Drive:geo:114.2037608,22.3239575
END:VEVENT
BEGIN:VEVENT
DTSTART;TZID=Asia/Hong_Kong:20181005T200000
DTEND;TZID=Asia/Hong_Kong:20181005T200000
DTSTAMP:20260426T084123
CREATED:19180805T120338Z
LAST-MODIFIED:20180805T132921Z
UID:10004419-1538769600-1538769600@www.bcmagazine.net
SUMMARY:Spreading Chinese Music on China Soil and Beyond
DESCRIPTION:Spreading Chinese Music on China Soil and Beyond\nHK Chinese Orchestra\nDate: 8pm\, 5-6 October\, 2018\nVenue: HK Cultural Centre\, Concert Hall\nTickets: $420\, $320\, $250\, $200 from Urbtix
URL:https://www.bcmagazine.net/event/hkco-spreading-chinese-music-05-10-2018/
LOCATION:HK Cultural Centre\, Concert Hall\, 10 Salisbury Road\, Tsim Sha Tsui\, Hong Kong
CATEGORIES:2018,Concert,Music,Performing Arts
GEO:22.294318;114.171708
X-APPLE-STRUCTURED-LOCATION;VALUE=URI;X-ADDRESS=HK Cultural Centre Concert Hall 10 Salisbury Road Tsim Sha Tsui Hong Kong;X-APPLE-RADIUS=500;X-TITLE=10 Salisbury Road:geo:114.171708,22.294318
END:VEVENT
BEGIN:VEVENT
DTSTART;TZID=Asia/Hong_Kong:20181006T170000
DTEND;TZID=Asia/Hong_Kong:20181006T170000
DTSTAMP:20260426T084123
CREATED:19180720T083647Z
LAST-MODIFIED:20180903T025910Z
UID:10004345-1538845200-1538845200@www.bcmagazine.net
SUMMARY:Jazz On The Beach
DESCRIPTION:Jazz On The Beach\nDate: 5pm\, 6 October\, 2018\nVenue: Treasure Island\, Pui O Beach\, Lantau\nTickets: $200 from Ticketflap
URL:https://www.bcmagazine.net/event/jazz-on-the-beach-2018/
LOCATION:Treasure Island\, Pui O Beach\, Pui O\, Lantau\, Hong Kong
CATEGORIES:2018,Concert,Jazz,Music,Performing Arts
ATTACH;FMTTYPE=image/jpeg:https://www.bcmagazine.net/wp-content/uploads/1918/07/jazz-on-beach-2018.jpg
GEO:22.396428;114.109497
X-APPLE-STRUCTURED-LOCATION;VALUE=URI;X-ADDRESS=Treasure Island Pui O Beach Pui O Lantau Hong Kong;X-APPLE-RADIUS=500;X-TITLE=Pui O Beach\, Pui O:geo:114.109497,22.396428
END:VEVENT
BEGIN:VEVENT
DTSTART;TZID=Asia/Hong_Kong:20181006T200000
DTEND;TZID=Asia/Hong_Kong:20181006T200000
DTSTAMP:20260426T084123
CREATED:19180608T094055Z
LAST-MODIFIED:20180728T033505Z
UID:10004215-1538856000-1538856000@www.bcmagazine.net
SUMMARY:My Little Airport
DESCRIPTION:My Little Airport Live 2018 – You Said We’d Meet Again\nDate: 8pm\, 30 September – 6 October\, 2018\nVenue: Kitec\, Music Zone@E-Max\nTickets: $480 from Cityline
URL:https://www.bcmagazine.net/event/my-little-airport-06-10-2018/
LOCATION:KITEC\, Music Zone@E-Max\, KITEC\,‎ 1 Trademart Drive\, Kowloon Bay\, Hong Kong
CATEGORIES:2018,Concert,Music,Performing Arts
GEO:22.3239575;114.2037608
X-APPLE-STRUCTURED-LOCATION;VALUE=URI;X-ADDRESS=KITEC Music Zone@E-Max KITEC‎ 1 Trademart Drive Kowloon Bay Hong Kong;X-APPLE-RADIUS=500;X-TITLE=KITEC\,‎ 1 Trademart Drive:geo:114.2037608,22.3239575
END:VEVENT
BEGIN:VEVENT
DTSTART;TZID=Asia/Hong_Kong:20181006T200000
DTEND;TZID=Asia/Hong_Kong:20181006T200000
DTSTAMP:20260426T084123
CREATED:19180716T124702Z
LAST-MODIFIED:20180807T005348Z
UID:10004312-1538856000-1538856000@www.bcmagazine.net
SUMMARY:Jazz Up Kowloon
DESCRIPTION:Jazz Up Kowloon – Jazz Roaster\nDate: 8pm\, 6 October\, 2018\nVenue: Jao Tsung-I Academy\nTickets: $240\, $200
URL:https://www.bcmagazine.net/event/jazz-up-kowloon-06-10-2018/
LOCATION:Jao Tsung-I Academy Theatre\, 800 Castle Peak Road\, Kowloon\, Hong Kong
CATEGORIES:2018,Concert,Jazz,Music,Performing Arts
ATTACH;FMTTYPE=image/jpeg:https://www.bcmagazine.net/wp-content/uploads/1918/07/jazz-up-kowloon-oct-2018.jpeg
GEO:22.338826;114.1423128
X-APPLE-STRUCTURED-LOCATION;VALUE=URI;X-ADDRESS=Jao Tsung-I Academy Theatre 800 Castle Peak Road Kowloon Hong Kong;X-APPLE-RADIUS=500;X-TITLE=800 Castle Peak Road:geo:114.1423128,22.338826
END:VEVENT
BEGIN:VEVENT
DTSTART;TZID=Asia/Hong_Kong:20181006T200000
DTEND;TZID=Asia/Hong_Kong:20181006T200000
DTSTAMP:20260426T084123
CREATED:19180805T120338Z
LAST-MODIFIED:20180805T132913Z
UID:10004420-1538856000-1538856000@www.bcmagazine.net
SUMMARY:Spreading Chinese Music on China Soil and Beyond
DESCRIPTION:Spreading Chinese Music on China Soil and Beyond\nHK Chinese Orchestra\nDate: 8pm\, 5-6 October\, 2018\nVenue: HK Cultural Centre\, Concert Hall\nTickets: $420\, $320\, $250\, $200 from Urbtix
URL:https://www.bcmagazine.net/event/hkco-spreading-chinese-music-06-10-2018/
LOCATION:HK Cultural Centre\, Concert Hall\, 10 Salisbury Road\, Tsim Sha Tsui\, Hong Kong
CATEGORIES:2018,Concert,Music,Performing Arts
GEO:22.294318;114.171708
X-APPLE-STRUCTURED-LOCATION;VALUE=URI;X-ADDRESS=HK Cultural Centre Concert Hall 10 Salisbury Road Tsim Sha Tsui Hong Kong;X-APPLE-RADIUS=500;X-TITLE=10 Salisbury Road:geo:114.171708,22.294318
END:VEVENT
BEGIN:VEVENT
DTSTART;TZID=Asia/Hong_Kong:20181006T200000
DTEND;TZID=Asia/Hong_Kong:20181006T200000
DTSTAMP:20260426T084123
CREATED:19180903T083647Z
LAST-MODIFIED:20180908T064559Z
UID:10004431-1538856000-1538856000@www.bcmagazine.net
SUMMARY:Tahiti 80
DESCRIPTION:Tahiti 80\nDate: 8pm\, 6 October\, 2018\nVenue: MOM Livehouse\nTickets: $380\, $320 (Advance) from Ticketflap
URL:https://www.bcmagazine.net/event/tahiti-80-2018/
LOCATION:MOM Livehouse\, B39 Seven Seas Shopping Centre\, 117-121 Kings Road\, North Point\, Hong Kong
CATEGORIES:2018,Concert,Music,Performing Arts
ATTACH;FMTTYPE=image/jpeg:https://www.bcmagazine.net/wp-content/uploads/2018/09/Tahiti-80-2018.jpg
GEO:22.2884683;114.192803
X-APPLE-STRUCTURED-LOCATION;VALUE=URI;X-ADDRESS=MOM Livehouse B39 Seven Seas Shopping Centre 117-121 Kings Road North Point Hong Kong;X-APPLE-RADIUS=500;X-TITLE=B39 Seven Seas Shopping Centre\, 117-121 Kings Road:geo:114.192803,22.2884683
END:VEVENT
BEGIN:VEVENT
DTSTART;TZID=Asia/Hong_Kong:20181006T200000
DTEND;TZID=Asia/Hong_Kong:20181006T200000
DTSTAMP:20260426T084123
CREATED:19181002T010042Z
LAST-MODIFIED:20181004T091151Z
UID:10004463-1538856000-1538856000@www.bcmagazine.net
SUMMARY:EEG All Stars Macau
DESCRIPTION:EEG All Stars Macau\nJoey Yung\, Hacken Lee\, Leo Ku\, Hins Cheung\, Vincy Chan\, Angela Hui\, Ken Hung\, Sherman Chung\, Deep Ng and Adason Lo\nDate: 8pm\, 6 October\, 2018\nVenues: Cotai Arena\nTickets: $1\,880\, $1\,480\, $880\, $580\, $380 from CotaiTicketing
URL:https://www.bcmagazine.net/event/eeg-all-stars-macau-2018/
LOCATION:Cotai Arena\, Venetian Macao\, Macau
CATEGORIES:2018,Concert,Macau,Music,Performing Arts
ATTACH;FMTTYPE=image/jpeg:https://www.bcmagazine.net/wp-content/uploads/1918/10/EEG-all-stars-macau-2018.jpg
END:VEVENT
BEGIN:VEVENT
DTSTART;TZID=Asia/Hong_Kong:20181007T200000
DTEND;TZID=Asia/Hong_Kong:20181007T200000
DTSTAMP:20260426T084123
CREATED:19180608T094055Z
LAST-MODIFIED:20180724T012216Z
UID:10004190-1538942400-1538942400@www.bcmagazine.net
SUMMARY:Sayuri
DESCRIPTION:Sayuri\nDate: 8pm\, 7 October\, 2018\nVenue: Kitec\, Music Zone@E-Max\nTickets: $890\, $790\, $590 from Cityline
URL:https://www.bcmagazine.net/event/sayuri-2018/
LOCATION:KITEC\, Music Zone@E-Max\, KITEC\,‎ 1 Trademart Drive\, Kowloon Bay\, Hong Kong
CATEGORIES:2018,Concert,Music,Performing Arts
GEO:22.3239575;114.2037608
X-APPLE-STRUCTURED-LOCATION;VALUE=URI;X-ADDRESS=KITEC Music Zone@E-Max KITEC‎ 1 Trademart Drive Kowloon Bay Hong Kong;X-APPLE-RADIUS=500;X-TITLE=KITEC\,‎ 1 Trademart Drive:geo:114.2037608,22.3239575
END:VEVENT
BEGIN:VEVENT
DTSTART;TZID=Asia/Hong_Kong:20181010T193000
DTEND;TZID=Asia/Hong_Kong:20181010T193000
DTSTAMP:20260426T084123
CREATED:19170811T054537Z
LAST-MODIFIED:20180824T145905Z
UID:10003251-1539199800-1539199800@www.bcmagazine.net
SUMMARY:Snail Mail & eevee
DESCRIPTION:Snail Mail & eevee\nDate: 7:30pm\, 10 October\, 2018\nVenue: TTN\nTickets: $340\, $280 (advance)
URL:https://www.bcmagazine.net/event/snail-mail-eevee-2018/
LOCATION:This Town Needs (TTN)\, 1/F Ocean One\, 6 Shung Shun Street\, Yau Tong\, Hong Kong
CATEGORIES:2018,Concert,DJ,Music,Performing Arts
ATTACH;FMTTYPE=image/jpeg:https://www.bcmagazine.net/wp-content/uploads/1917/08/Snail-Mail-eevee-2018.jpg
GEO:22.292861;114.23782
X-APPLE-STRUCTURED-LOCATION;VALUE=URI;X-ADDRESS=This Town Needs (TTN) 1/F Ocean One 6 Shung Shun Street Yau Tong Hong Kong;X-APPLE-RADIUS=500;X-TITLE=1/F Ocean One\, 6 Shung Shun Street:geo:114.23782,22.292861
END:VEVENT
BEGIN:VEVENT
DTSTART;TZID=Asia/Hong_Kong:20181011T200000
DTEND;TZID=Asia/Hong_Kong:20181011T200000
DTSTAMP:20260426T084123
CREATED:19180620T094055Z
LAST-MODIFIED:20180723T031053Z
UID:10004246-1539288000-1539288000@www.bcmagazine.net
SUMMARY:Listen Up Live
DESCRIPTION:Listen Up Live – Duran\, Phekoo\, Space\nSupport: Nana Hatori\, Cassette\nDate: 8pm\, 11 October\, 2018\nVenue: The Fringe Club\, Fringe Dairy\nTickets: $200 from Ticketflap
URL:https://www.bcmagazine.net/event/listen-up-live-2018/
LOCATION:Fringe Club\, Fringe Dairy\, Central\, Hong Kong
CATEGORIES:2018,Concert,Music,Performing Arts
ATTACH;FMTTYPE=image/jpeg:https://www.bcmagazine.net/wp-content/uploads/1918/06/listen-up-2018.jpeg
END:VEVENT
BEGIN:VEVENT
DTSTART;TZID=Asia/Hong_Kong:20181012T193000
DTEND;TZID=Asia/Hong_Kong:20181012T200000
DTSTAMP:20260426T084123
CREATED:19180620T094055Z
LAST-MODIFIED:20180723T055601Z
UID:10004249-1539372600-1539374400@www.bcmagazine.net
SUMMARY:Wednesday Campanella
DESCRIPTION:Wednesday Campanella\nDate: 7:30pm\, 12 October\, 2018\nVenue: Kitec\, Music Zone@E-Max\nTickets: $590\, $490 from Ticketflap
URL:https://www.bcmagazine.net/event/wednesday-campanella-2018/
LOCATION:KITEC\, Music Zone@E-Max\, KITEC\,‎ 1 Trademart Drive\, Kowloon Bay\, Hong Kong
CATEGORIES:2018,Concert,Music,Performing Arts
GEO:22.3239575;114.2037608
X-APPLE-STRUCTURED-LOCATION;VALUE=URI;X-ADDRESS=KITEC Music Zone@E-Max KITEC‎ 1 Trademart Drive Kowloon Bay Hong Kong;X-APPLE-RADIUS=500;X-TITLE=KITEC\,‎ 1 Trademart Drive:geo:114.2037608,22.3239575
END:VEVENT
BEGIN:VEVENT
DTSTART;TZID=Asia/Hong_Kong:20181012T200000
DTEND;TZID=Asia/Hong_Kong:20181012T200000
DTSTAMP:20260426T084123
CREATED:19180903T083647Z
LAST-MODIFIED:20180905T003505Z
UID:10004429-1539374400-1539374400@www.bcmagazine.net
SUMMARY:Yellow Claw
DESCRIPTION:Yellow Claw\nDate: 8pm\, 12 October\, 2018\nVenue: Club Cubic\nTickets: $580\, $480 (Advance)
URL:https://www.bcmagazine.net/event/yellow-claw-macau-2018/
LOCATION:Club Cubic\, Macau
CATEGORIES:2018,Concert,DJ,Macau,Music,Performing Arts
END:VEVENT
BEGIN:VEVENT
DTSTART;VALUE=DATE:20181013
DTEND;VALUE=DATE:20181015
DTSTAMP:20260426T084123
CREATED:19180805T120338Z
LAST-MODIFIED:20180805T131618Z
UID:10004418-1539388800-1539561599@www.bcmagazine.net
SUMMARY:16th Hong Kong Synergy 24 Drum Competition
DESCRIPTION:16th Hong Kong Synergy 24 Drum Competition\nHK Chinese Orchestra\, Hong Kong Drum Festival\nDate: 13-14 October\, 2018\nVenue: HK Cultural Centre\, Piazza\nTickets: Free
URL:https://www.bcmagazine.net/event/hkco-hk-synergy-24-drum-2018/
LOCATION:HK Cultural Centre\, Piazza\, 10 Salisbury Road\, Tsim Sha Tsui\, Hong Kong
CATEGORIES:2018,Concert,Free,Music,Performing Arts
END:VEVENT
BEGIN:VEVENT
DTSTART;TZID=Asia/Hong_Kong:20181013T180000
DTEND;TZID=Asia/Hong_Kong:20181013T180000
DTSTAMP:20260426T084123
CREATED:20180902T083647Z
LAST-MODIFIED:20180903T025851Z
UID:10006526-1539453600-1539453600@www.bcmagazine.net
SUMMARY:Navratri Utsav
DESCRIPTION:Navratri Utsav\nDate: 6pm\, 13 October\, 2018\nVenue: Southorn Stadium\nTickets: $200 from Ticketflap
URL:https://www.bcmagazine.net/event/navratri-utsav-2018/
LOCATION:Southorn Stadium\, 111 Johnston Road\, Wanchai\, Hong Kong
CATEGORIES:2018,Concert,Jazz,Music,Performing Arts
ATTACH;FMTTYPE=image/jpeg:https://www.bcmagazine.net/wp-content/uploads/1918/07/Navratri-Utsav-2018.jpg
GEO:22.2767697;114.1730209
X-APPLE-STRUCTURED-LOCATION;VALUE=URI;X-ADDRESS=Southorn Stadium 111 Johnston Road Wanchai Hong Kong;X-APPLE-RADIUS=500;X-TITLE=111 Johnston Road:geo:114.1730209,22.2767697
END:VEVENT
BEGIN:VEVENT
DTSTART;TZID=Asia/Hong_Kong:20181013T190000
DTEND;TZID=Asia/Hong_Kong:20181013T190000
DTSTAMP:20260426T084123
CREATED:19170811T054537Z
LAST-MODIFIED:20180824T145144Z
UID:10003250-1539457200-1539457200@www.bcmagazine.net
SUMMARY:Jyocho
DESCRIPTION:Jyocho – A Parallel Universe\nSupport: GDJYB\nDate: 8pm\, 13 October\, 2018\nVenue: TTN\nTickets: $380\, $280 (advance)
URL:https://www.bcmagazine.net/event/jyocho-2018/
LOCATION:This Town Needs (TTN)\, 1/F Ocean One\, 6 Shung Shun Street\, Yau Tong\, Hong Kong
CATEGORIES:2018,Concert,DJ,Music,Performing Arts
ATTACH;FMTTYPE=image/jpeg:https://www.bcmagazine.net/wp-content/uploads/1917/08/jyocho-2018.jpg
GEO:22.292861;114.23782
X-APPLE-STRUCTURED-LOCATION;VALUE=URI;X-ADDRESS=This Town Needs (TTN) 1/F Ocean One 6 Shung Shun Street Yau Tong Hong Kong;X-APPLE-RADIUS=500;X-TITLE=1/F Ocean One\, 6 Shung Shun Street:geo:114.23782,22.292861
END:VEVENT
BEGIN:VEVENT
DTSTART;TZID=Asia/Hong_Kong:20181013T193000
DTEND;TZID=Asia/Hong_Kong:20181013T193000
DTSTAMP:20260426T084123
CREATED:19180716T124702Z
LAST-MODIFIED:20180806T181132Z
UID:10004308-1539459000-1539459000@www.bcmagazine.net
SUMMARY:Tumourboy
DESCRIPTION:Tumourboy\nDate: 7:30pm\, 13 October\, 2018\nVenue: Jao Tsung-I Academy\nTickets: $350\, $280
URL:https://www.bcmagazine.net/event/tumourboy-2018/
LOCATION:Jao Tsung-I Academy Theatre\, 800 Castle Peak Road\, Kowloon\, Hong Kong
CATEGORIES:2018,Concert,Music,Performing Arts
ATTACH;FMTTYPE=image/jpeg:https://www.bcmagazine.net/wp-content/uploads/1918/07/Tumourboy.jpg
GEO:22.338826;114.1423128
X-APPLE-STRUCTURED-LOCATION;VALUE=URI;X-ADDRESS=Jao Tsung-I Academy Theatre 800 Castle Peak Road Kowloon Hong Kong;X-APPLE-RADIUS=500;X-TITLE=800 Castle Peak Road:geo:114.1423128,22.338826
END:VEVENT
BEGIN:VEVENT
DTSTART;TZID=Asia/Hong_Kong:20181013T200000
DTEND;TZID=Asia/Hong_Kong:20181013T200000
DTSTAMP:20260426T084123
CREATED:19181002T010042Z
LAST-MODIFIED:20181003T070305Z
UID:10004434-1539460800-1539460800@www.bcmagazine.net
SUMMARY:Hinry Lau
DESCRIPTION:Hinry Lau\nDate: 8pm\, 13 October\, 2018\nVenues: Kitec\, Music Zone@E-Max\nTickets: $320
URL:https://www.bcmagazine.net/event/hinry-lau-2018/
LOCATION:KITEC\, Music Zone@E-Max\, KITEC\,‎ 1 Trademart Drive\, Kowloon Bay\, Hong Kong
CATEGORIES:2018,Concert,Music,Performing Arts
ATTACH;FMTTYPE=image/jpeg:https://www.bcmagazine.net/wp-content/uploads/2018/10/Hinry-Lau-2018.jpg
GEO:22.3239575;114.2037608
X-APPLE-STRUCTURED-LOCATION;VALUE=URI;X-ADDRESS=KITEC Music Zone@E-Max KITEC‎ 1 Trademart Drive Kowloon Bay Hong Kong;X-APPLE-RADIUS=500;X-TITLE=KITEC\,‎ 1 Trademart Drive:geo:114.2037608,22.3239575
END:VEVENT
BEGIN:VEVENT
DTSTART;TZID=Asia/Hong_Kong:20181013T200000
DTEND;TZID=Asia/Hong_Kong:20181013T200000
DTSTAMP:20260426T084123
CREATED:19181002T010042Z
LAST-MODIFIED:20181004T085630Z
UID:10004457-1539460800-1539460800@www.bcmagazine.net
SUMMARY:Twins
DESCRIPTION:Twins – Live Around the World Macao Finale\nDate: 8pm\, 13 October\, 2018\nVenues: Cotai Arena\nTickets: $1\,380\, $880\, $680\, $480\, $280 from CotaiTicketing
URL:https://www.bcmagazine.net/event/twins-macau-2018/
LOCATION:Cotai Arena\, Venetian Macao\, Macau
CATEGORIES:2018,Concert,Macau,Music,Performing Arts
ATTACH;FMTTYPE=image/jpeg:https://www.bcmagazine.net/wp-content/uploads/1918/10/twins683x165-macau2018.jpg
END:VEVENT
BEGIN:VEVENT
DTSTART;VALUE=DATE:20181014
DTEND;VALUE=DATE:20181015
DTSTAMP:20260426T084123
CREATED:19180208T065813Z
LAST-MODIFIED:20180824T014511Z
UID:10003772-1539475200-1539561599@www.bcmagazine.net
SUMMARY:Freespace Happening
DESCRIPTION:Freespace Happening\nDate: 2pm\, 14 October\, 2018\nVenue: Nursery Park\, West Kowloon Cultural District\nTickets: Free
URL:https://www.bcmagazine.net/event/freespace-happening-14-10-2018/
LOCATION:West Kowloon Cultural District\, Nursery Park\, West Kowloon Cultural District\, West Kowloon\, Hong Kong
CATEGORIES:2018,Art Gallery,Concert,Exhibition,Free,Music,Performing Arts
GEO:22.2989668;114.1551898
X-APPLE-STRUCTURED-LOCATION;VALUE=URI;X-ADDRESS=West Kowloon Cultural District Nursery Park West Kowloon Cultural District West Kowloon Hong Kong;X-APPLE-RADIUS=500;X-TITLE=West Kowloon Cultural District:geo:114.1551898,22.2989668
END:VEVENT
BEGIN:VEVENT
DTSTART;TZID=Asia/Hong_Kong:20181014T200000
DTEND;TZID=Asia/Hong_Kong:20181014T200000
DTSTAMP:20260426T084123
CREATED:19180802T094055Z
LAST-MODIFIED:20191219T032853Z
UID:10004382-1539547200-1539547200@www.bcmagazine.net
SUMMARY:Bruno Major
DESCRIPTION:Bruno Major\nDate: 8pm\, 14 October\, 2018\nVenue: MOM Livehouse\nTickets: $220 from Ticketflap
URL:https://www.bcmagazine.net/event/bruno-major-2018-2/
LOCATION:MOM Livehouse\, B39 Seven Seas Shopping Centre\, 117-121 Kings Road\, North Point\, Hong Kong
CATEGORIES:2018,Concert,Music,Performing Arts
ATTACH;FMTTYPE=image/jpeg:https://www.bcmagazine.net/wp-content/uploads/1918/08/bruno-hk-2018.jpg
GEO:22.2884683;114.192803
X-APPLE-STRUCTURED-LOCATION;VALUE=URI;X-ADDRESS=MOM Livehouse B39 Seven Seas Shopping Centre 117-121 Kings Road North Point Hong Kong;X-APPLE-RADIUS=500;X-TITLE=B39 Seven Seas Shopping Centre\, 117-121 Kings Road:geo:114.192803,22.2884683
END:VEVENT
BEGIN:VEVENT
DTSTART;VALUE=DATE:20181015
DTEND;VALUE=DATE:20181026
DTSTAMP:20260426T084123
CREATED:19181002T080042Z
LAST-MODIFIED:20181002T160529Z
UID:10004479-1539561600-1540511999@www.bcmagazine.net
SUMMARY:Joy of Music Festival 2018
DESCRIPTION:Joy of Music Festival 2018\nDate: 15-25 October\, 2018\nVenues: HK City Hall\, Concert Hall\nTickets: $100 Urbtix
URL:https://www.bcmagazine.net/event/joy-of-music-festival-2018/
LOCATION:HK City Hall\, 5 Edinburgh Place\, Central\, Hong Kong
CATEGORIES:2018,Concert,Music,Performing Arts
ATTACH;FMTTYPE=image/jpeg:https://www.bcmagazine.net/wp-content/uploads/2018/10/Joy-of-Music-Festival-2018.jpg
GEO:22.2822646;114.1615275
X-APPLE-STRUCTURED-LOCATION;VALUE=URI;X-ADDRESS=HK City Hall 5 Edinburgh Place Central Hong Kong;X-APPLE-RADIUS=500;X-TITLE=5 Edinburgh Place:geo:114.1615275,22.2822646
END:VEVENT
BEGIN:VEVENT
DTSTART;TZID=Asia/Hong_Kong:20181016T200000
DTEND;TZID=Asia/Hong_Kong:20181016T200000
DTSTAMP:20260426T084123
CREATED:20180903T083647Z
LAST-MODIFIED:20190924T041151Z
UID:10006528-1539720000-1539720000@www.bcmagazine.net
SUMMARY:De De Mouse
DESCRIPTION:De De Mouse\nDate: 8pm\, 16 October\, 2018\nVenue: MOM Livehouse\nTickets: $320\, $250 (Advance) from Ticketflap
URL:https://www.bcmagazine.net/event/de-de-mouse-2018/
LOCATION:MOM Livehouse\, B39 Seven Seas Shopping Centre\, 117-121 Kings Road\, North Point\, Hong Kong
CATEGORIES:2018,Concert,Music,Performing Arts
ATTACH;FMTTYPE=image/jpeg:https://www.bcmagazine.net/wp-content/uploads/1918/09/de-de-mouse-HK-2018.jpg
GEO:22.2884683;114.192803
X-APPLE-STRUCTURED-LOCATION;VALUE=URI;X-ADDRESS=MOM Livehouse B39 Seven Seas Shopping Centre 117-121 Kings Road North Point Hong Kong;X-APPLE-RADIUS=500;X-TITLE=B39 Seven Seas Shopping Centre\, 117-121 Kings Road:geo:114.192803,22.2884683
END:VEVENT
BEGIN:VEVENT
DTSTART;TZID=Asia/Hong_Kong:20181016T201500
DTEND;TZID=Asia/Hong_Kong:20181016T201500
DTSTAMP:20260426T084123
CREATED:19181002T010042Z
LAST-MODIFIED:20181003T102441Z
UID:10004437-1539720900-1539720900@www.bcmagazine.net
SUMMARY:Boyz
DESCRIPTION:Boyz The Unboxing Live\nDate: 8:15pm\, 16 October\, 2018\nVenues: Kitec\, Star Hall\nTickets: $580\, $480\, $380 from HKTicketing
URL:https://www.bcmagazine.net/event/boyz-2018/
LOCATION:KITEC\, Star Hall\, KITEC\, 1 Trademart Drive\, Kowloon Bay\, Hong Kong
CATEGORIES:2018,Concert,Music,Performing Arts
ATTACH;FMTTYPE=image/jpeg:https://www.bcmagazine.net/wp-content/uploads/1918/10/boyz-2018.jpg
GEO:22.3239575;114.2037608
X-APPLE-STRUCTURED-LOCATION;VALUE=URI;X-ADDRESS=KITEC Star Hall KITEC 1 Trademart Drive Kowloon Bay Hong Kong;X-APPLE-RADIUS=500;X-TITLE=KITEC\, 1 Trademart Drive:geo:114.2037608,22.3239575
END:VEVENT
END:VCALENDAR