BEGIN:VCALENDAR
VERSION:2.0
PRODID:-//bc magazine - ECPv6.15.20//NONSGML v1.0//EN
CALSCALE:GREGORIAN
METHOD:PUBLISH
X-WR-CALNAME:bc magazine
X-ORIGINAL-URL:https://www.bcmagazine.net
X-WR-CALDESC:Events for bc magazine
REFRESH-INTERVAL;VALUE=DURATION:PT1H
X-Robots-Tag:noindex
X-PUBLISHED-TTL:PT1H
BEGIN:VTIMEZONE
TZID:Asia/Hong_Kong
BEGIN:STANDARD
TZOFFSETFROM:+0800
TZOFFSETTO:+0800
TZNAME:HKT
DTSTART:20200101T000000
END:STANDARD
END:VTIMEZONE
BEGIN:VEVENT
DTSTART;TZID=Asia/Hong_Kong:20211006T194500
DTEND;TZID=Asia/Hong_Kong:20211006T194500
DTSTAMP:20260425T074822
CREATED:19170810T093057Z
LAST-MODIFIED:20211006T082342Z
UID:10003227-1633549500-1633549500@www.bcmagazine.net
SUMMARY:Opera Hong Kong - Madama Butterfly
DESCRIPTION:Madama Butterfly\nOpera Hong Kong\, Slovene National Theatre Maribor\nDate: 6-10 October\, 2021\nVenue: HK Cultural Centre\, Grand Theatre\nTickets: $1\,080\, $920\, $720\, $620\, $420\, $180 from Urbtix\nMore info:\nIn Italian with Chinese and English surtitles\n6-9 October – 7:45pm\n10 October – 3pm
URL:https://www.bcmagazine.net/event/opera-hong-kong-madama-butterfly/2021-10-06/
LOCATION:HK Cultural Centre\, Grand Theatre\,\, 10 Salisbury Road\, Tsim Sha Tsui\, Hong Kong
CATEGORIES:2021,Concert,Music,Opera,Performing Arts
ATTACH;FMTTYPE=image/png:https://www.bcmagazine.net/wp-content/uploads/1917/08/Madama-Butterfly-2021.png
GEO:22.294318;114.171708
X-APPLE-STRUCTURED-LOCATION;VALUE=URI;X-ADDRESS=HK Cultural Centre Grand Theatre 10 Salisbury Road Tsim Sha Tsui Hong Kong;X-APPLE-RADIUS=500;X-TITLE=10 Salisbury Road:geo:114.171708,22.294318
END:VEVENT
BEGIN:VEVENT
DTSTART;TZID=Asia/Hong_Kong:20211007T194500
DTEND;TZID=Asia/Hong_Kong:20211007T194500
DTSTAMP:20260425T074822
CREATED:19170810T093057Z
LAST-MODIFIED:20211006T082342Z
UID:10003228-1633635900-1633635900@www.bcmagazine.net
SUMMARY:Opera Hong Kong - Madama Butterfly
DESCRIPTION:Madama Butterfly\nOpera Hong Kong\, Slovene National Theatre Maribor\nDate: 6-10 October\, 2021\nVenue: HK Cultural Centre\, Grand Theatre\nTickets: $1\,080\, $920\, $720\, $620\, $420\, $180 from Urbtix\nMore info:\nIn Italian with Chinese and English surtitles\n6-9 October – 7:45pm\n10 October – 3pm
URL:https://www.bcmagazine.net/event/opera-hong-kong-madama-butterfly/2021-10-07/
LOCATION:HK Cultural Centre\, Grand Theatre\,\, 10 Salisbury Road\, Tsim Sha Tsui\, Hong Kong
CATEGORIES:2021,Concert,Music,Opera,Performing Arts
ATTACH;FMTTYPE=image/png:https://www.bcmagazine.net/wp-content/uploads/1917/08/Madama-Butterfly-2021.png
GEO:22.294318;114.171708
X-APPLE-STRUCTURED-LOCATION;VALUE=URI;X-ADDRESS=HK Cultural Centre Grand Theatre 10 Salisbury Road Tsim Sha Tsui Hong Kong;X-APPLE-RADIUS=500;X-TITLE=10 Salisbury Road:geo:114.171708,22.294318
END:VEVENT
BEGIN:VEVENT
DTSTART;TZID=Asia/Hong_Kong:20211008T194500
DTEND;TZID=Asia/Hong_Kong:20211008T194500
DTSTAMP:20260425T074822
CREATED:19170810T093057Z
LAST-MODIFIED:20211006T082342Z
UID:10003229-1633722300-1633722300@www.bcmagazine.net
SUMMARY:Opera Hong Kong - Madama Butterfly
DESCRIPTION:Madama Butterfly\nOpera Hong Kong\, Slovene National Theatre Maribor\nDate: 6-10 October\, 2021\nVenue: HK Cultural Centre\, Grand Theatre\nTickets: $1\,080\, $920\, $720\, $620\, $420\, $180 from Urbtix\nMore info:\nIn Italian with Chinese and English surtitles\n6-9 October – 7:45pm\n10 October – 3pm
URL:https://www.bcmagazine.net/event/opera-hong-kong-madama-butterfly/2021-10-08/
LOCATION:HK Cultural Centre\, Grand Theatre\,\, 10 Salisbury Road\, Tsim Sha Tsui\, Hong Kong
CATEGORIES:2021,Concert,Music,Opera,Performing Arts
ATTACH;FMTTYPE=image/png:https://www.bcmagazine.net/wp-content/uploads/1917/08/Madama-Butterfly-2021.png
GEO:22.294318;114.171708
X-APPLE-STRUCTURED-LOCATION;VALUE=URI;X-ADDRESS=HK Cultural Centre Grand Theatre 10 Salisbury Road Tsim Sha Tsui Hong Kong;X-APPLE-RADIUS=500;X-TITLE=10 Salisbury Road:geo:114.171708,22.294318
END:VEVENT
BEGIN:VEVENT
DTSTART;TZID=Asia/Hong_Kong:20211009T194500
DTEND;TZID=Asia/Hong_Kong:20211009T194500
DTSTAMP:20260425T074822
CREATED:19170810T093057Z
LAST-MODIFIED:20211006T082342Z
UID:10003230-1633808700-1633808700@www.bcmagazine.net
SUMMARY:Opera Hong Kong - Madama Butterfly
DESCRIPTION:Madama Butterfly\nOpera Hong Kong\, Slovene National Theatre Maribor\nDate: 6-10 October\, 2021\nVenue: HK Cultural Centre\, Grand Theatre\nTickets: $1\,080\, $920\, $720\, $620\, $420\, $180 from Urbtix\nMore info:\nIn Italian with Chinese and English surtitles\n6-9 October – 7:45pm\n10 October – 3pm
URL:https://www.bcmagazine.net/event/opera-hong-kong-madama-butterfly/2021-10-09/
LOCATION:HK Cultural Centre\, Grand Theatre\,\, 10 Salisbury Road\, Tsim Sha Tsui\, Hong Kong
CATEGORIES:2021,Concert,Music,Opera,Performing Arts
ATTACH;FMTTYPE=image/png:https://www.bcmagazine.net/wp-content/uploads/1917/08/Madama-Butterfly-2021.png
GEO:22.294318;114.171708
X-APPLE-STRUCTURED-LOCATION;VALUE=URI;X-ADDRESS=HK Cultural Centre Grand Theatre 10 Salisbury Road Tsim Sha Tsui Hong Kong;X-APPLE-RADIUS=500;X-TITLE=10 Salisbury Road:geo:114.171708,22.294318
END:VEVENT
BEGIN:VEVENT
DTSTART;TZID=Asia/Hong_Kong:20211009T210000
DTEND;TZID=Asia/Hong_Kong:20211009T220000
DTSTAMP:20260425T074822
CREATED:20211002T034537Z
LAST-MODIFIED:20211005T040059Z
UID:10006681-1633813200-1633816800@www.bcmagazine.net
SUMMARY:The Lemon Ones\, The Sleeves\, Meatgasm\, Ozmium
DESCRIPTION:The Lemon Ones\, The Sleeves\, Meatgasm\, Ozmium\nDate: 9pm\, 9 October\, 2021\nVenue: Rula Live\nTickets: Free
URL:https://www.bcmagazine.net/event/the-lemon-ones-the-sleeves-meatgasm-ozmium-9-oct/
LOCATION:Rula Live\, 58-62 D'Aguilar Street\, Central
CATEGORIES:2021,Concert,Free,Music,Nightlife,Performing Arts
ATTACH;FMTTYPE=image/jpeg:https://www.bcmagazine.net/wp-content/uploads/2021/09/hk-rock-club-tour-2021.jpg
END:VEVENT
BEGIN:VEVENT
DTSTART;TZID=Asia/Hong_Kong:20211010T150000
DTEND;TZID=Asia/Hong_Kong:20211010T150000
DTSTAMP:20260425T074822
CREATED:19170810T093057Z
LAST-MODIFIED:20211006T082342Z
UID:10003231-1633878000-1633878000@www.bcmagazine.net
SUMMARY:Opera Hong Kong - Madama Butterfly
DESCRIPTION:Madama Butterfly\nOpera Hong Kong\, Slovene National Theatre Maribor\nDate: 6-10 October\, 2021\nVenue: HK Cultural Centre\, Grand Theatre\nTickets: $1\,080\, $920\, $720\, $620\, $420\, $180 from Urbtix\nMore info:\nIn Italian with Chinese and English surtitles\n6-9 October – 7:45pm\n10 October – 3pm
URL:https://www.bcmagazine.net/event/opera-hong-kong-madama-butterfly/2021-10-10/
LOCATION:HK Cultural Centre\, Grand Theatre\,\, 10 Salisbury Road\, Tsim Sha Tsui\, Hong Kong
CATEGORIES:2021,Concert,Music,Opera,Performing Arts
ATTACH;FMTTYPE=image/png:https://www.bcmagazine.net/wp-content/uploads/1917/08/Madama-Butterfly-2021.png
GEO:22.294318;114.171708
X-APPLE-STRUCTURED-LOCATION;VALUE=URI;X-ADDRESS=HK Cultural Centre Grand Theatre 10 Salisbury Road Tsim Sha Tsui Hong Kong;X-APPLE-RADIUS=500;X-TITLE=10 Salisbury Road:geo:114.171708,22.294318
END:VEVENT
BEGIN:VEVENT
DTSTART;TZID=Asia/Hong_Kong:20211010T220000
DTEND;TZID=Asia/Hong_Kong:20211010T220000
DTSTAMP:20260425T074822
CREATED:20210930T034537Z
LAST-MODIFIED:20211005T035550Z
UID:10006680-1633903200-1633903200@www.bcmagazine.net
SUMMARY:The Red Stripes
DESCRIPTION:The Red Stripes\nDate: 10pm\, 10 October\, 2021\nVenue: Rula Live\nTickets: Free
URL:https://www.bcmagazine.net/event/the-red-stripes-10-oct-2021/
LOCATION:Rula Live\, 58-62 D'Aguilar Street\, Central
CATEGORIES:2021,Concert,Free,Music,Nightlife,Performing Arts
ATTACH;FMTTYPE=image/jpeg:https://www.bcmagazine.net/wp-content/uploads/2018/10/red-stripes-10-october-2021.jpg
END:VEVENT
BEGIN:VEVENT
DTSTART;TZID=Asia/Hong_Kong:20211020T203000
DTEND;TZID=Asia/Hong_Kong:20211020T203000
DTSTAMP:20260425T074822
CREATED:19210907T100800Z
LAST-MODIFIED:20210910T043008Z
UID:10005227-1634761800-1634761800@www.bcmagazine.net
SUMMARY:Olivier Cong
DESCRIPTION:I Am Afraid Of\nOlivier Cong\nDate: 8:30pm\, 20-21 October\, 2021\nVenue: West Kowloon Cultural District Art Park\, Freespace\, The Box\nTickets: $420
URL:https://www.bcmagazine.net/event/olivier-cong/2021-10-20/
LOCATION:West Kowloon Cultural District\, Freespace\, The Box\, West Kowloon\, Hong Kong
CATEGORIES:2021,Concert,Dance,Music,Performing Arts,Theatre
ATTACH;FMTTYPE=image/png:https://www.bcmagazine.net/wp-content/uploads/1921/09/I-am-afraid-of-olivier-cong.png
END:VEVENT
BEGIN:VEVENT
DTSTART;TZID=Asia/Hong_Kong:20211021T203000
DTEND;TZID=Asia/Hong_Kong:20211021T203000
DTSTAMP:20260425T074822
CREATED:19210907T100800Z
LAST-MODIFIED:20210910T043008Z
UID:10005228-1634848200-1634848200@www.bcmagazine.net
SUMMARY:Olivier Cong
DESCRIPTION:I Am Afraid Of\nOlivier Cong\nDate: 8:30pm\, 20-21 October\, 2021\nVenue: West Kowloon Cultural District Art Park\, Freespace\, The Box\nTickets: $420
URL:https://www.bcmagazine.net/event/olivier-cong/2021-10-21/
LOCATION:West Kowloon Cultural District\, Freespace\, The Box\, West Kowloon\, Hong Kong
CATEGORIES:2021,Concert,Dance,Music,Performing Arts,Theatre
ATTACH;FMTTYPE=image/png:https://www.bcmagazine.net/wp-content/uploads/1921/09/I-am-afraid-of-olivier-cong.png
END:VEVENT
BEGIN:VEVENT
DTSTART;TZID=Asia/Hong_Kong:20211023T210000
DTEND;TZID=Asia/Hong_Kong:20211023T220000
DTSTAMP:20260425T074822
CREATED:19211002T034537Z
LAST-MODIFIED:20211005T040301Z
UID:10005295-1635022800-1635026400@www.bcmagazine.net
SUMMARY:The Lemon Ones\, The Sleeves\, Meatgasm\, Ozmium
DESCRIPTION:The Lemon Ones\, The Sleeves\, Meatgasm\, Ozmium\nDate: 9pm\, 23 October\, 2021\nVenue: The Aftermath\nTickets: Free
URL:https://www.bcmagazine.net/event/the-lemon-ones-the-sleeves-meatgasm-ozmium-23-oct/
LOCATION:The Aftermath\, 57 Wyndham Street\, Central\, Hong Kong
CATEGORIES:2021,Concert,Free,Music,Nightlife,Performing Arts
ATTACH;FMTTYPE=image/jpeg:https://www.bcmagazine.net/wp-content/uploads/2021/09/hk-rock-club-tour-2021.jpg
END:VEVENT
BEGIN:VEVENT
DTSTART;TZID=Asia/Hong_Kong:20211031T190000
DTEND;TZID=Asia/Hong_Kong:20211031T190000
DTSTAMP:20260425T074822
CREATED:20210913T011954Z
LAST-MODIFIED:20210915T074158Z
UID:10006677-1635706800-1635706800@www.bcmagazine.net
SUMMARY:Metal Masquerade
DESCRIPTION:Metal Masquerade\nThe Ancient Mental\, Cadaver\, Cryogenic Defilement\, Protoss神族\, Shepherds The Weak\nDate: 7pm\, 31 October\, 2021\nVenue: KITEC\, Music Zone@E-Max\nTickets: $380\, $350 (advance) from TickCats
URL:https://www.bcmagazine.net/event/metal-masquerade/
LOCATION:KITEC\, Music Zone@E-Max\, KITEC\,‎ 1 Trademart Drive\, Kowloon Bay\, Hong Kong
CATEGORIES:2021,Concert,Music,Performing Arts
ATTACH;FMTTYPE=image/jpeg:https://www.bcmagazine.net/wp-content/uploads/2018/06/metal-masquerade-2021.jpg
GEO:22.3239575;114.2037608
X-APPLE-STRUCTURED-LOCATION;VALUE=URI;X-ADDRESS=KITEC Music Zone@E-Max KITEC‎ 1 Trademart Drive Kowloon Bay Hong Kong;X-APPLE-RADIUS=500;X-TITLE=KITEC\,‎ 1 Trademart Drive:geo:114.2037608,22.3239575
END:VEVENT
END:VCALENDAR