BEGIN:VCALENDAR
VERSION:2.0
PRODID:-//bc magazine - ECPv6.15.20//NONSGML v1.0//EN
CALSCALE:GREGORIAN
METHOD:PUBLISH
X-WR-CALNAME:bc magazine
X-ORIGINAL-URL:https://www.bcmagazine.net
X-WR-CALDESC:Events for bc magazine
REFRESH-INTERVAL;VALUE=DURATION:PT1H
X-Robots-Tag:noindex
X-PUBLISHED-TTL:PT1H
BEGIN:VTIMEZONE
TZID:Asia/Hong_Kong
BEGIN:STANDARD
TZOFFSETFROM:+0800
TZOFFSETTO:+0800
TZNAME:HKT
DTSTART:20160101T000000
END:STANDARD
END:VTIMEZONE
BEGIN:VEVENT
DTSTART;TZID=Asia/Hong_Kong:20171002T193000
DTEND;TZID=Asia/Hong_Kong:20171002T193000
DTSTAMP:20260426T112033
CREATED:19170910T090347Z
LAST-MODIFIED:20170910T090543Z
UID:10003462-1506972600-1506972600@www.bcmagazine.net
SUMMARY:Mika Type
DESCRIPTION:Mika Type\nDate: 7:30pm\, 2 October\, 2017\nVenue: Kitec\, Music Zone@E-Max\nTickets: $580\, $380 from Cityline
URL:https://www.bcmagazine.net/event/mika-type-2017/
LOCATION:KITEC\, Music Zone@E-Max\, KITEC\,‎ 1 Trademart Drive\, Kowloon Bay\, Hong Kong
CATEGORIES:2017,Concert,Music,Performing Arts
GEO:22.3239575;114.2037608
X-APPLE-STRUCTURED-LOCATION;VALUE=URI;X-ADDRESS=KITEC Music Zone@E-Max KITEC‎ 1 Trademart Drive Kowloon Bay Hong Kong;X-APPLE-RADIUS=500;X-TITLE=KITEC\,‎ 1 Trademart Drive:geo:114.2037608,22.3239575
END:VEVENT
BEGIN:VEVENT
DTSTART;TZID=Asia/Hong_Kong:20171002T200000
DTEND;TZID=Asia/Hong_Kong:20171002T200000
DTSTAMP:20260426T112033
CREATED:19170709T062208Z
LAST-MODIFIED:20170709T070838Z
UID:10003027-1506974400-1506974400@www.bcmagazine.net
SUMMARY:Hong Kong Erhu Arts Centre
DESCRIPTION:Hong Kong Erhu Arts Centre\nDate: 8pm 2 October\, 2017\nVenue: HK Cultural Centre\, Studio Theatre\nTickets: $200 from Urbtix
URL:https://www.bcmagazine.net/event/hong-kong-erhu-arts-centre-2017/
LOCATION:HK Cultural Centre\, Studio Theatre\, 10 Salisbury Road\, Tsim Sha Tsui\, Hong Kong
CATEGORIES:2017,Concert,Music,Performing Arts
END:VEVENT
BEGIN:VEVENT
DTSTART;TZID=Asia/Hong_Kong:20171002T200000
DTEND;TZID=Asia/Hong_Kong:20171002T200000
DTSTAMP:20260426T112033
CREATED:19170807T083751Z
LAST-MODIFIED:20170807T084125Z
UID:10003119-1506974400-1506974400@www.bcmagazine.net
SUMMARY:Mamamoo
DESCRIPTION:Mamamoo –  1st Party in Hong Kong\nDate: 8pm\, 2 October\, 2017\nVenue: Kitec\, Rotunda 3\nTickets: $1\,280\, $880 from HKTicketing
URL:https://www.bcmagazine.net/event/mamamoo-2017/
LOCATION:KITEC\, Rotunda 3\, 1 Trademart Drive\, Kowloon Bay\, Hong Kong
CATEGORIES:2017,Concert,Music
GEO:22.3239575;114.2037608
X-APPLE-STRUCTURED-LOCATION;VALUE=URI;X-ADDRESS=KITEC Rotunda 3 1 Trademart Drive Kowloon Bay Hong Kong;X-APPLE-RADIUS=500;X-TITLE=1 Trademart Drive:geo:114.2037608,22.3239575
END:VEVENT
BEGIN:VEVENT
DTSTART;TZID=Asia/Hong_Kong:20171003T200000
DTEND;TZID=Asia/Hong_Kong:20171003T200000
DTSTAMP:20260426T112033
CREATED:19170826T101430Z
LAST-MODIFIED:20170826T102322Z
UID:10003267-1507060800-1507060800@www.bcmagazine.net
SUMMARY:Wanna One
DESCRIPTION:Wanna One\nDate: 8pm\, 3 October\, 2017\nVenue: AsiaWorld Expo\, Hall 10\nTickets: $1\,480\, $980\, $680 from HKTicketing
URL:https://www.bcmagazine.net/event/wanna-one-2017/
LOCATION:AsiaWorld-Expo\, Hall 10\, Cheong Wing Road\, Chek Lap Kok\, Lantau\, Hong Kong
CATEGORIES:2017,Concert,Music,Performing Arts
GEO:22.3217383;113.9402012
X-APPLE-STRUCTURED-LOCATION;VALUE=URI;X-ADDRESS=AsiaWorld-Expo Hall 10 Cheong Wing Road Chek Lap Kok Lantau Hong Kong;X-APPLE-RADIUS=500;X-TITLE=Cheong Wing Road\, Chek Lap Kok:geo:113.9402012,22.3217383
END:VEVENT
BEGIN:VEVENT
DTSTART;TZID=Asia/Hong_Kong:20171005T200000
DTEND;TZID=Asia/Hong_Kong:20171005T200000
DTSTAMP:20260426T112033
CREATED:19170903T040056Z
LAST-MODIFIED:20170903T042107Z
UID:10003309-1507233600-1507233600@www.bcmagazine.net
SUMMARY:Lisa
DESCRIPTION:Lisa\nDate: 8pm\, 5 October\, 2017\nVenue: Queen Elizabeth Stadium\nTickets: $580\, $480\, $280 from Urbtix
URL:https://www.bcmagazine.net/event/lisa-05-10-2017/
LOCATION:Queen Elizabeth Stadium\, 18 Oi Kwan Road\, Wanchai\, Hong Kong
CATEGORIES:2017,Concert,Music,Performing Arts
GEO:22.2751271;114.1789682
X-APPLE-STRUCTURED-LOCATION;VALUE=URI;X-ADDRESS=Queen Elizabeth Stadium 18 Oi Kwan Road Wanchai Hong Kong;X-APPLE-RADIUS=500;X-TITLE=18 Oi Kwan Road:geo:114.1789682,22.2751271
END:VEVENT
BEGIN:VEVENT
DTSTART;TZID=Asia/Hong_Kong:20171007T200000
DTEND;TZID=Asia/Hong_Kong:20171007T200000
DTSTAMP:20260426T112033
CREATED:19170806T053034Z
LAST-MODIFIED:20170806T060251Z
UID:10003111-1507406400-1507406400@www.bcmagazine.net
SUMMARY:Amei
DESCRIPTION:Amei – Utopia 2.0\nDate: 8:15pm\, 7-8 October\, 2017\nVenue: HK Coliseum\nTickets: $980\, $580\, $380 from Urbtix
URL:https://www.bcmagazine.net/event/amei-07-10-2017/
LOCATION:HK Coliseum\, 9 Cheong Wan Road\, Hung Hom\, Hong Kong
CATEGORIES:2017,Concert,Music,Performing Arts
GEO:22.3014169;114.1820305
X-APPLE-STRUCTURED-LOCATION;VALUE=URI;X-ADDRESS=HK Coliseum 9 Cheong Wan Road Hung Hom Hong Kong;X-APPLE-RADIUS=500;X-TITLE=9 Cheong Wan Road:geo:114.1820305,22.3014169
END:VEVENT
BEGIN:VEVENT
DTSTART;TZID=Asia/Hong_Kong:20171007T203000
DTEND;TZID=Asia/Hong_Kong:20171007T203000
DTSTAMP:20260426T112033
CREATED:20170915T095624Z
LAST-MODIFIED:20170915T095624Z
UID:10006442-1507408200-1507408200@www.bcmagazine.net
SUMMARY:5 Dollar Tux
DESCRIPTION:5 Dollar Tux\nDate: 8:30pm\, 7 October\, 2017\nVenue: MOM Livehouse\nTickets: $200
URL:https://www.bcmagazine.net/event/5-dollar-tux-2017/
LOCATION:MOM Livehouse\, B39 Seven Seas Shopping Centre\, 117-121 Kings Road\, North Point\, Hong Kong
CATEGORIES:2017,Concert,Music,Performing Arts
GEO:22.2884683;114.192803
X-APPLE-STRUCTURED-LOCATION;VALUE=URI;X-ADDRESS=MOM Livehouse B39 Seven Seas Shopping Centre 117-121 Kings Road North Point Hong Kong;X-APPLE-RADIUS=500;X-TITLE=B39 Seven Seas Shopping Centre\, 117-121 Kings Road:geo:114.192803,22.2884683
END:VEVENT
BEGIN:VEVENT
DTSTART;TZID=Asia/Hong_Kong:20171008T200000
DTEND;TZID=Asia/Hong_Kong:20171008T200000
DTSTAMP:20260426T112033
CREATED:19170702T035650Z
LAST-MODIFIED:20170702T042836Z
UID:10002924-1507492800-1507492800@www.bcmagazine.net
SUMMARY:Versailles
DESCRIPTION:Versailles – 10th Anniversary Tour\nDate: 8pm\, 15 October\, 2017\nVenue: Kitec\, Music Zone@E-Max\nTickets: $790\, $690\, $490 from Cityline
URL:https://www.bcmagazine.net/event/versailles-2017/
LOCATION:KITEC\, Music Zone@E-Max\, KITEC\,‎ 1 Trademart Drive\, Kowloon Bay\, Hong Kong
CATEGORIES:2017,Concert,Music,Performing Arts
GEO:22.3239575;114.2037608
X-APPLE-STRUCTURED-LOCATION;VALUE=URI;X-ADDRESS=KITEC Music Zone@E-Max KITEC‎ 1 Trademart Drive Kowloon Bay Hong Kong;X-APPLE-RADIUS=500;X-TITLE=KITEC\,‎ 1 Trademart Drive:geo:114.2037608,22.3239575
END:VEVENT
BEGIN:VEVENT
DTSTART;TZID=Asia/Hong_Kong:20171008T200000
DTEND;TZID=Asia/Hong_Kong:20171008T200000
DTSTAMP:20260426T112033
CREATED:19170806T053034Z
LAST-MODIFIED:20170806T060401Z
UID:10003112-1507492800-1507492800@www.bcmagazine.net
SUMMARY:Amei
DESCRIPTION:Amei – Utopia 2.0\nDate: 8:15pm\, 7-8 October\, 2017\nVenue: HK Coliseum\nTickets: $980\, $580\, $380 from Urbtix
URL:https://www.bcmagazine.net/event/amei-08-10-2017/
LOCATION:HK Coliseum\, 9 Cheong Wan Road\, Hung Hom\, Hong Kong
CATEGORIES:2017,Concert,Music,Performing Arts
GEO:22.3014169;114.1820305
X-APPLE-STRUCTURED-LOCATION;VALUE=URI;X-ADDRESS=HK Coliseum 9 Cheong Wan Road Hung Hom Hong Kong;X-APPLE-RADIUS=500;X-TITLE=9 Cheong Wan Road:geo:114.1820305,22.3014169
END:VEVENT
END:VCALENDAR