BEGIN:VCALENDAR
VERSION:2.0
PRODID:-//bc magazine - ECPv6.15.20//NONSGML v1.0//EN
CALSCALE:GREGORIAN
METHOD:PUBLISH
X-WR-CALNAME:bc magazine
X-ORIGINAL-URL:https://www.bcmagazine.net
X-WR-CALDESC:Events for bc magazine
REFRESH-INTERVAL;VALUE=DURATION:PT1H
X-Robots-Tag:noindex
X-PUBLISHED-TTL:PT1H
BEGIN:VTIMEZONE
TZID:Asia/Hong_Kong
BEGIN:STANDARD
TZOFFSETFROM:+0800
TZOFFSETTO:+0800
TZNAME:HKT
DTSTART:20220101T000000
END:STANDARD
END:VTIMEZONE
BEGIN:VEVENT
DTSTART;TZID=Asia/Hong_Kong:20231114T200000
DTEND;TZID=Asia/Hong_Kong:20231114T200000
DTSTAMP:20260426T111112
CREATED:20231020T085402Z
LAST-MODIFIED:20231102T073750Z
UID:10008380-1699992000-1699992000@www.bcmagazine.net
SUMMARY:Se So Neon
DESCRIPTION:Se So Neon – Live in Hong Kong\nDate: 8pm\, 14 November\, 2023\nVenue: Kitec\, Music Zone @E-Max\nTickets: $490
URL:https://www.bcmagazine.net/event/se-so-neon-2023/
LOCATION:KITEC\, Music Zone@E-Max\, KITEC\,‎ 1 Trademart Drive\, Kowloon Bay\, Hong Kong
CATEGORIES:2023,Concert,Music,Nightlife,Performing Arts
ATTACH;FMTTYPE=image/webp:https://www.bcmagazine.net/wp-content/uploads/2022/10/se-so-neon-concert-1600x900-1.webp
GEO:22.3239575;114.2037608
X-APPLE-STRUCTURED-LOCATION;VALUE=URI;X-ADDRESS=KITEC Music Zone@E-Max KITEC‎ 1 Trademart Drive Kowloon Bay Hong Kong;X-APPLE-RADIUS=500;X-TITLE=KITEC\,‎ 1 Trademart Drive:geo:114.2037608,22.3239575
END:VEVENT
END:VCALENDAR