BEGIN:VCALENDAR
VERSION:2.0
PRODID:-//bc magazine - ECPv6.15.20//NONSGML v1.0//EN
CALSCALE:GREGORIAN
METHOD:PUBLISH
X-WR-CALNAME:bc magazine
X-ORIGINAL-URL:https://www.bcmagazine.net
X-WR-CALDESC:Events for bc magazine
REFRESH-INTERVAL;VALUE=DURATION:PT1H
X-Robots-Tag:noindex
X-PUBLISHED-TTL:PT1H
BEGIN:VTIMEZONE
TZID:Asia/Hong_Kong
BEGIN:STANDARD
TZOFFSETFROM:+0800
TZOFFSETTO:+0800
TZNAME:HKT
DTSTART:20250101T000000
END:STANDARD
END:VTIMEZONE
BEGIN:VEVENT
DTSTART;TZID=Asia/Hong_Kong:20260416T193000
DTEND;TZID=Asia/Hong_Kong:20260416T193000
DTSTAMP:20260425T074039
CREATED:20260309T104206Z
LAST-MODIFIED:20260309T112024Z
UID:10013096-1776367800-1776367800@www.bcmagazine.net
SUMMARY:The Bollands
DESCRIPTION:The Bollands\nSupport: Fish Godmother\, The Young Bucks\nDate: 7:30pm\, 16 April 2026\nVenue:  The Aftermath\nTickets: tbc
URL:https://www.bcmagazine.net/event/the-bollands-hk-2026/
LOCATION:The Aftermath\, 57 Wyndham Street\, Central\, Hong Kong
CATEGORIES:2026,Concert,Music
ATTACH;FMTTYPE=image/jpeg:https://www.bcmagazine.net/wp-content/uploads/2016/05/The-Bollands-HK-2026.jpg
END:VEVENT
END:VCALENDAR