BEGIN:VCALENDAR
VERSION:2.0
PRODID:-//bc magazine - ECPv6.15.20//NONSGML v1.0//EN
CALSCALE:GREGORIAN
METHOD:PUBLISH
X-WR-CALNAME:bc magazine
X-ORIGINAL-URL:https://www.bcmagazine.net
X-WR-CALDESC:Events for bc magazine
REFRESH-INTERVAL;VALUE=DURATION:PT1H
X-Robots-Tag:noindex
X-PUBLISHED-TTL:PT1H
BEGIN:VTIMEZONE
TZID:Asia/Hong_Kong
BEGIN:STANDARD
TZOFFSETFROM:+0800
TZOFFSETTO:+0800
TZNAME:HKT
DTSTART:20220101T000000
END:STANDARD
END:VTIMEZONE
BEGIN:VEVENT
DTSTART;TZID=Asia/Hong_Kong:20231030T200000
DTEND;TZID=Asia/Hong_Kong:20231030T200000
DTSTAMP:20260424T231947
CREATED:19230823T085402Z
LAST-MODIFIED:20231031T160814Z
UID:10009366-1698696000-1698696000@www.bcmagazine.net
SUMMARY:Lee Young Ji
DESCRIPTION:Lee Young Ji – The Main Character\nDate: 8pm\, 30-31 October\, 2023\nVenue: KITEC\, Rotunda 2\nTickets: $1\,299\, $999 from Cityline
URL:https://www.bcmagazine.net/event/lee-young-ji/2023-10-30/
LOCATION:KITEC\, Rotunda 2\, Hong Kong
CATEGORIES:2023,Concert,Music,Nightlife,Performing Arts
ATTACH;FMTTYPE=image/jpeg:https://www.bcmagazine.net/wp-content/uploads/2023/09/lee-Young-Ji-hk-2023.jpeg
GEO:22.396428;114.109497
END:VEVENT
BEGIN:VEVENT
DTSTART;TZID=Asia/Hong_Kong:20231031T200000
DTEND;TZID=Asia/Hong_Kong:20231031T200000
DTSTAMP:20260424T231947
CREATED:19230823T085402Z
LAST-MODIFIED:20231031T160814Z
UID:10009368-1698782400-1698782400@www.bcmagazine.net
SUMMARY:Lee Young Ji
DESCRIPTION:Lee Young Ji – The Main Character\nDate: 8pm\, 30-31 October\, 2023\nVenue: KITEC\, Rotunda 2\nTickets: $1\,299\, $999 from Cityline
URL:https://www.bcmagazine.net/event/lee-young-ji/2023-10-31/
LOCATION:KITEC\, Rotunda 2\, Hong Kong
CATEGORIES:2023,Concert,Music,Nightlife,Performing Arts
ATTACH;FMTTYPE=image/jpeg:https://www.bcmagazine.net/wp-content/uploads/2023/09/lee-Young-Ji-hk-2023.jpeg
GEO:22.396428;114.109497
END:VEVENT
BEGIN:VEVENT
DTSTART;TZID=Asia/Hong_Kong:20231102T193000
DTEND;TZID=Asia/Hong_Kong:20231102T193000
DTSTAMP:20260424T231947
CREATED:20230923T085402Z
LAST-MODIFIED:20231031T160035Z
UID:10009364-1698953400-1698953400@www.bcmagazine.net
SUMMARY:Maksim
DESCRIPTION:Maksim – The Collection Hong Kong 2023\nDate: 7:30pm\, 2 November\, 2023\nVenue: KITEC\, Rotunda 2\nTickets: $1\,188\, $888\, $688\, $588
URL:https://www.bcmagazine.net/event/maksim/
LOCATION:KITEC\, Rotunda 2\, Hong Kong
CATEGORIES:2023,Concert,Music,Nightlife,Performing Arts
ATTACH;FMTTYPE=image/jpeg:https://www.bcmagazine.net/wp-content/uploads/2023/10/Maksim-HK-2023.jpeg
GEO:22.396428;114.109497
END:VEVENT
BEGIN:VEVENT
DTSTART;TZID=Asia/Hong_Kong:20231102T201500
DTEND;TZID=Asia/Hong_Kong:20231102T201500
DTSTAMP:20260424T231947
CREATED:20231015T085402Z
LAST-MODIFIED:20231031T155413Z
UID:10008377-1698956100-1698956100@www.bcmagazine.net
SUMMARY:Rachael Yamagata
DESCRIPTION:Rachael Yamagata – Beyond The Garden Tour\nDate: 8:15pm 2 November\, 2023\nVenue: Kitec\, Music Zone @E-Max\nTickets: $899
URL:https://www.bcmagazine.net/event/rachael-yamagata-2023/
LOCATION:KITEC\, Music Zone@E-Max\, KITEC\,‎ 1 Trademart Drive\, Kowloon Bay\, Hong Kong
CATEGORIES:2023,Concert,Music,Nightlife,Performing Arts
ATTACH;FMTTYPE=image/jpeg:https://www.bcmagazine.net/wp-content/uploads/2023/10/Rachael-Yamagata-2023-HK.jpg
GEO:22.3239575;114.2037608
X-APPLE-STRUCTURED-LOCATION;VALUE=URI;X-ADDRESS=KITEC Music Zone@E-Max KITEC‎ 1 Trademart Drive Kowloon Bay Hong Kong;X-APPLE-RADIUS=500;X-TITLE=KITEC\,‎ 1 Trademart Drive:geo:114.2037608,22.3239575
END:VEVENT
BEGIN:VEVENT
DTSTART;TZID=Asia/Hong_Kong:20231105T190000
DTEND;TZID=Asia/Hong_Kong:20231105T190000
DTSTAMP:20260424T231947
CREATED:20231017T085402Z
LAST-MODIFIED:20231031T155359Z
UID:10008378-1699210800-1699210800@www.bcmagazine.net
SUMMARY:Roh Tae Hyun
DESCRIPTION:Roh Tae Hyun – Hong Kong Fan Meeting\nDate: 7pm\, 5 November\, 2023\nVenue: Kitec\, Music Zone @E-Max\nTickets: $1\,399\, $1\,299\, $799 from HK Ticketing
URL:https://www.bcmagazine.net/event/roh-tae-hyun-2023/
LOCATION:KITEC\, Music Zone@E-Max\, KITEC\,‎ 1 Trademart Drive\, Kowloon Bay\, Hong Kong
CATEGORIES:2023,Concert,Music,Nightlife,Performing Arts
ATTACH;FMTTYPE=image/jpeg:https://www.bcmagazine.net/wp-content/uploads/2022/10/Roh-Tae-Hyun-Hong-Kong-Fan-Meeting-2023.jpeg
GEO:22.3239575;114.2037608
X-APPLE-STRUCTURED-LOCATION;VALUE=URI;X-ADDRESS=KITEC Music Zone@E-Max KITEC‎ 1 Trademart Drive Kowloon Bay Hong Kong;X-APPLE-RADIUS=500;X-TITLE=KITEC\,‎ 1 Trademart Drive:geo:114.2037608,22.3239575
END:VEVENT
END:VCALENDAR