BEGIN:VCALENDAR
VERSION:2.0
PRODID:-//bc magazine - ECPv6.15.20//NONSGML v1.0//EN
CALSCALE:GREGORIAN
METHOD:PUBLISH
X-WR-CALNAME:bc magazine
X-ORIGINAL-URL:https://www.bcmagazine.net
X-WR-CALDESC:Events for bc magazine
REFRESH-INTERVAL;VALUE=DURATION:PT1H
X-Robots-Tag:noindex
X-PUBLISHED-TTL:PT1H
BEGIN:VTIMEZONE
TZID:Asia/Hong_Kong
BEGIN:STANDARD
TZOFFSETFROM:+0800
TZOFFSETTO:+0800
TZNAME:HKT
DTSTART:20220101T000000
END:STANDARD
END:VTIMEZONE
BEGIN:VEVENT
DTSTART;VALUE=DATE:20231221
DTEND;VALUE=DATE:20240227
DTSTAMP:20260424T104940
CREATED:20230505T072433Z
LAST-MODIFIED:20230625T015407Z
UID:10007954-1703116800-1708991999@www.bcmagazine.net
SUMMARY:AIA Carnival
DESCRIPTION:AIA Carnival\nDate: 21 December\, 2023 – February\, 2024\nVenue: Central Harbourfront\nTickets: $400\, $300\, $130\, $50
URL:https://www.bcmagazine.net/event/aia-carnival-2023/
LOCATION:Central Harbourfront\,  9 Lung Wo Road\, Central\, Hong Kong
CATEGORIES:2023,2024,Music,Nightlife,Other,Performing Arts
ATTACH;FMTTYPE=image/jpeg:https://www.bcmagazine.net/wp-content/uploads/1918/11/carnival-2019.jpg
GEO:22.2826223;114.164346
X-APPLE-STRUCTURED-LOCATION;VALUE=URI;X-ADDRESS=Central Harbourfront  9 Lung Wo Road Central Hong Kong;X-APPLE-RADIUS=500;X-TITLE=9 Lung Wo Road:geo:114.164346,22.2826223
END:VEVENT
BEGIN:VEVENT
DTSTART;VALUE=DATE:20231221
DTEND;VALUE=DATE:20240227
DTSTAMP:20260424T104940
CREATED:20241113T072433Z
LAST-MODIFIED:20241120T101914Z
UID:10010195-1703116800-1708991999@www.bcmagazine.net
SUMMARY:AIA Carnival
DESCRIPTION:AIA Carnival\nDate: 18 December\, 2024 – 16 February\, 2025\nVenue: Central Harbourfront\nTickets: $110\, $100\, $95
URL:https://www.bcmagazine.net/event/aia-carnival-2024/
LOCATION:Central Harbourfront\,  9 Lung Wo Road\, Central\, Hong Kong
CATEGORIES:2024,2025,Music,Nightlife,Other,Performing Arts
ATTACH;FMTTYPE=image/jpeg:https://www.bcmagazine.net/wp-content/uploads/1918/11/carnival-2019.jpg
GEO:22.2826223;114.164346
X-APPLE-STRUCTURED-LOCATION;VALUE=URI;X-ADDRESS=Central Harbourfront  9 Lung Wo Road Central Hong Kong;X-APPLE-RADIUS=500;X-TITLE=9 Lung Wo Road:geo:114.164346,22.2826223
END:VEVENT
BEGIN:VEVENT
DTSTART;TZID=Asia/Hong_Kong:20240129T200000
DTEND;TZID=Asia/Hong_Kong:20240129T200000
DTSTAMP:20260424T104940
CREATED:20240104T120802Z
LAST-MODIFIED:20240119T025718Z
UID:10009439-1706558400-1706558400@www.bcmagazine.net
SUMMARY:Domi and JD Beck
DESCRIPTION:Domi and JD Beck\nDate: 8pm\, 29 January 2024\nVenue: Kitec\, Music Zone@E-Max\nTickets: $480
URL:https://www.bcmagazine.net/event/domi-and-jd-beck-2024/
LOCATION:KITEC\, Music Zone@E-Max\, KITEC\,‎ 1 Trademart Drive\, Kowloon Bay\, Hong Kong
CATEGORIES:2024,Concert,Music,Performing Arts
ATTACH;FMTTYPE=image/jpeg:https://www.bcmagazine.net/wp-content/uploads/2023/12/Domi-and-JD-Beck-2024.jpeg
GEO:22.3239575;114.2037608
X-APPLE-STRUCTURED-LOCATION;VALUE=URI;X-ADDRESS=KITEC Music Zone@E-Max KITEC‎ 1 Trademart Drive Kowloon Bay Hong Kong;X-APPLE-RADIUS=500;X-TITLE=KITEC\,‎ 1 Trademart Drive:geo:114.2037608,22.3239575
END:VEVENT
BEGIN:VEVENT
DTSTART;TZID=Asia/Hong_Kong:20240130T200000
DTEND;TZID=Asia/Hong_Kong:20240130T200000
DTSTAMP:20260424T104940
CREATED:20231025T004219Z
LAST-MODIFIED:20231118T192858Z
UID:10009419-1706644800-1706644800@www.bcmagazine.net
SUMMARY:Brent Faiyaz
DESCRIPTION:Brent Faiyaz: It’s A Wasteland Tour⁠\nDate: 8pm\, 30 January 2024\nVenue: KITEC\, Rotunda 2\nTickets: $850
URL:https://www.bcmagazine.net/event/brent-faiyaz/
LOCATION:KITEC\, Rotunda 2\, Hong Kong
CATEGORIES:2024,Concert,Music,Nightlife,Performing Arts
ATTACH;FMTTYPE=image/jpeg:https://www.bcmagazine.net/wp-content/uploads/1923/11/FTW-2024-hong-kong.jpeg
GEO:22.396428;114.109497
END:VEVENT
END:VCALENDAR