BEGIN:VCALENDAR
VERSION:2.0
PRODID:-//bc magazine - ECPv6.15.20//NONSGML v1.0//EN
CALSCALE:GREGORIAN
METHOD:PUBLISH
X-WR-CALNAME:bc magazine
X-ORIGINAL-URL:https://www.bcmagazine.net
X-WR-CALDESC:Events for bc magazine
REFRESH-INTERVAL;VALUE=DURATION:PT1H
X-Robots-Tag:noindex
X-PUBLISHED-TTL:PT1H
BEGIN:VTIMEZONE
TZID:Asia/Hong_Kong
BEGIN:STANDARD
TZOFFSETFROM:+0800
TZOFFSETTO:+0800
TZNAME:HKT
DTSTART:20140101T000000
END:STANDARD
END:VTIMEZONE
BEGIN:VEVENT
DTSTART;TZID=Asia/Hong_Kong:20150123T210000
DTEND;TZID=Asia/Hong_Kong:20150124T050000
DTSTAMP:20260426T052448
CREATED:20150121T165059Z
LAST-MODIFIED:20150121T165059Z
UID:10005551-1422046800-1422075600@www.bcmagazine.net
SUMMARY:Ken Ishii @ Volar - 23 January\, 2015
DESCRIPTION:Ken Ishii\nWhen: 23 January\, 2015\nWhere: Volar\nHow much: $300 before 12:30am; $350 after (both with 2 drinks)\nMore info: www.volar.com.hk
URL:https://www.bcmagazine.net/event/ken-ishii-volar-23-january-2015/
LOCATION:Volar\, B/F 38-44 D’Aguilar Street\, Lan Kwai Fong\, Hong Kong
CATEGORIES:DJ,Music,Nightclub,Nightlife
GEO:22.2804909;114.155283
X-APPLE-STRUCTURED-LOCATION;VALUE=URI;X-ADDRESS=Volar B/F 38-44 D’Aguilar Street Lan Kwai Fong Hong Kong;X-APPLE-RADIUS=500;X-TITLE=B/F 38-44 D’Aguilar Street:geo:114.155283,22.2804909
END:VEVENT
END:VCALENDAR