BEGIN:VCALENDAR
VERSION:2.0
PRODID:-//bc magazine - ECPv6.15.20//NONSGML v1.0//EN
CALSCALE:GREGORIAN
METHOD:PUBLISH
X-ORIGINAL-URL:https://www.bcmagazine.net
X-WR-CALDESC:Events for bc magazine
REFRESH-INTERVAL;VALUE=DURATION:PT1H
X-Robots-Tag:noindex
X-PUBLISHED-TTL:PT1H
BEGIN:VTIMEZONE
TZID:Asia/Hong_Kong
BEGIN:STANDARD
TZOFFSETFROM:+0800
TZOFFSETTO:+0800
TZNAME:HKT
DTSTART:20180101T000000
END:STANDARD
END:VTIMEZONE
BEGIN:VEVENT
DTSTART;TZID=Asia/Hong_Kong:20190608T140000
DTEND;TZID=Asia/Hong_Kong:20190608T140000
DTSTAMP:20260424T014205
CREATED:20190427T044512Z
LAST-MODIFIED:20190503T055906Z
UID:10006583-1560002400-1560002400@www.bcmagazine.net
SUMMARY:Ginsanity
DESCRIPTION:Ginsanity brings together more than 40 different craft gins and tonics from across the globe for visitors to discover. Entry is free.\nGinsanity\nDate: 2pm\, 8 June\, 2019\nVenue: PMQ\nTickets: Free
URL:https://www.bcmagazine.net/event/ginsanity-hk-2019/
LOCATION:PMQ\, 35 Aberdeen Street\, Central\, Hong Kong
CATEGORIES:2019,Concert,Food,Free,Lifestyle,Music,Nightlife,Performing Arts
ATTACH;FMTTYPE=image/jpeg:https://www.bcmagazine.net/wp-content/uploads/1919/04/Ginsanity-2019.jpg
GEO:22.2836011;114.1524554
X-APPLE-STRUCTURED-LOCATION;VALUE=URI;X-ADDRESS=PMQ 35 Aberdeen Street Central Hong Kong;X-APPLE-RADIUS=500;X-TITLE=35 Aberdeen Street:geo:114.1524554,22.2836011
END:VEVENT
BEGIN:VEVENT
DTSTART;TZID=Asia/Hong_Kong:20190629T160000
DTEND;TZID=Asia/Hong_Kong:20190629T160000
DTSTAMP:20260424T014205
CREATED:19190608T000835Z
LAST-MODIFIED:20190610T112621Z
UID:10004845-1561824000-1561824000@www.bcmagazine.net
SUMMARY:Lovefest for Stonewall
DESCRIPTION:Lovefest for Stonewall\nDate:4pm\, 29 June\, 2019\nVenue: Eaton Hotel\nTickets: $200\, $150\, $100
URL:https://www.bcmagazine.net/event/lovefest-for-stonewall-2019/
LOCATION:Eaton Hotel\, 380 Nathan Road\, Yau Ma Tei\, Hong Kong
CATEGORIES:2019,Film,LGBT,Lifestyle,Music,Nightlife,Performing Arts
ATTACH;FMTTYPE=image/jpeg:https://www.bcmagazine.net/wp-content/uploads/1919/06/Lovefest-for-Stonewall-2019.jpg
GEO:22.308041;114.1717102
X-APPLE-STRUCTURED-LOCATION;VALUE=URI;X-ADDRESS=Eaton Hotel 380 Nathan Road Yau Ma Tei Hong Kong;X-APPLE-RADIUS=500;X-TITLE=380 Nathan Road:geo:114.1717102,22.308041
END:VEVENT
END:VCALENDAR