BEGIN:VCALENDAR
VERSION:2.0
PRODID:-//bc magazine - ECPv6.15.20//NONSGML v1.0//EN
CALSCALE:GREGORIAN
METHOD:PUBLISH
X-WR-CALNAME:bc magazine
X-ORIGINAL-URL:https://www.bcmagazine.net
X-WR-CALDESC:Events for bc magazine
REFRESH-INTERVAL;VALUE=DURATION:PT1H
X-Robots-Tag:noindex
X-PUBLISHED-TTL:PT1H
BEGIN:VTIMEZONE
TZID:Asia/Hong_Kong
BEGIN:STANDARD
TZOFFSETFROM:+0800
TZOFFSETTO:+0800
TZNAME:HKT
DTSTART:20200101T000000
END:STANDARD
END:VTIMEZONE
BEGIN:VEVENT
DTSTART;VALUE=DATE:20211101
DTEND;VALUE=DATE:20211201
DTSTAMP:20260423T203934
CREATED:19211028T120821Z
LAST-MODIFIED:20211113T032056Z
UID:10005323-1635724800-1638316799@www.bcmagazine.net
SUMMARY:Hong Kong Wine & Dine Festival
DESCRIPTION:12th Hong Kong Wine & Dine Festival\nDate: 1-30 November\, 2021\nVenue: Central\, Kennedy Town\, Wan Chai and Tsim Sha Tsui.\nTickets: various
URL:https://www.bcmagazine.net/event/hong-kong-wine-dine-festival-2021/
CATEGORIES:2021,Food,Nightlife
ATTACH;FMTTYPE=image/jpeg:https://www.bcmagazine.net/wp-content/uploads/1921/02/Yat-Lok-roast-goose-1920x1080-1.jpg
END:VEVENT
BEGIN:VEVENT
DTSTART;VALUE=DATE:20211101
DTEND;VALUE=DATE:20211201
DTSTAMP:20260423T203934
CREATED:20240919T100821Z
LAST-MODIFIED:20240919T111630Z
UID:10009994-1635724800-1638316799@www.bcmagazine.net
SUMMARY:Hong Kong Wine & Dine Festival
DESCRIPTION:Hong Kong Wine & Dine Festival\nDate: 23-27 October\, 2024\nVenue: Central Harbourfront Event Space\nTickets: $400\, $290\, $240\nNotes:\n23 October 2024 (Wednesday)\, 7:30–11pm\n24–25 October 2024 (Thursday – Friday)\, 4–11pm\n26–27 October 2024 (Saturday – Sunday)\, 12–11pm
URL:https://www.bcmagazine.net/event/hong-kong-wine-dine-festival-2024/
LOCATION:Central Harbourfront\,  9 Lung Wo Road\, Central\, Hong Kong
CATEGORIES:2024,Food,Nightlife
ATTACH;FMTTYPE=image/png:https://www.bcmagazine.net/wp-content/uploads/1921/10/hong-kong-wine-and-dine-2025.png
GEO:22.2826223;114.164346
X-APPLE-STRUCTURED-LOCATION;VALUE=URI;X-ADDRESS=Central Harbourfront  9 Lung Wo Road Central Hong Kong;X-APPLE-RADIUS=500;X-TITLE=9 Lung Wo Road:geo:114.164346,22.2826223
END:VEVENT
BEGIN:VEVENT
DTSTART;VALUE=DATE:20211101
DTEND;VALUE=DATE:20211201
DTSTAMP:20260423T203934
CREATED:20251004T120821Z
LAST-MODIFIED:20251005T171644Z
UID:10011419-1635724800-1638316799@www.bcmagazine.net
SUMMARY:Hong Kong Wine & Dine Festival
DESCRIPTION:Hong Kong Wine & Dine Festival\nDate: 23-26 October\, 2025\nVenue: Central Harbourfront Event Space\nTickets: various
URL:https://www.bcmagazine.net/event/hong-kong-wine-dine-festival-2025/
LOCATION:Central Harbourfront\,  9 Lung Wo Road\, Central\, Hong Kong
CATEGORIES:2025,Food,Lifestyle,Nightlife
ATTACH;FMTTYPE=image/jpeg:https://www.bcmagazine.net/wp-content/uploads/2025/10/W_D-2025-KV.jpg
GEO:22.2826223;114.164346
X-APPLE-STRUCTURED-LOCATION;VALUE=URI;X-ADDRESS=Central Harbourfront  9 Lung Wo Road Central Hong Kong;X-APPLE-RADIUS=500;X-TITLE=9 Lung Wo Road:geo:114.164346,22.2826223
END:VEVENT
BEGIN:VEVENT
DTSTART;VALUE=DATE:20211111
DTEND;VALUE=DATE:20211115
DTSTAMP:20260423T203934
CREATED:20211109T034537Z
LAST-MODIFIED:20211110T030627Z
UID:10006688-1636588800-1636934399@www.bcmagazine.net
SUMMARY:AUOM Festival
DESCRIPTION:Aftermath Underground Original Music Festival.\nDate: 11-14 November\, 2021\nVenue: The Aftermath\nTickets: Free\nMore info: Paul Roth\, The Funkaphones\, Other Theories\, Shumking Mansions\, Morning Sons\, Junk!\, DBK\, Nick Florent\, The Mongcocks\, The Hard Luck Kings\, 5cent Bridge\, Cracklebox\, The Sideburns\, Cry! Romeo\, Two Finger salute\, Kissing Fish\, Dark Himaya\, Ben Tully\, Mr Koo\, Topshop Tyrants\, Brother Plainview\, The Sleeves\, Flying Daggers\, Say Mosquito\, Funkee Tung\, Fabsabs
URL:https://www.bcmagazine.net/event/auom-festival-2021/
LOCATION:The Aftermath\, 57 Wyndham Street\, Central\, Hong Kong
CATEGORIES:2021,Concert,Free,Music,Nightlife,Performing Arts
ATTACH;FMTTYPE=image/jpeg:https://www.bcmagazine.net/wp-content/uploads/2021/11/AUOM-Festival-2021.jpg
END:VEVENT
BEGIN:VEVENT
DTSTART;TZID=Asia/Hong_Kong:20211112T200000
DTEND;TZID=Asia/Hong_Kong:20211112T200000
DTSTAMP:20260423T203934
CREATED:19211104T034537Z
LAST-MODIFIED:20211110T112704Z
UID:10005330-1636747200-1636747200@www.bcmagazine.net
SUMMARY:Menú del día
DESCRIPTION:Menú del día\nThe Up:Strike Project\, New Vision Arts Festival\nDate: 8pm\, 12-13 November\, 2021\nVenue: HK Cultural Centre\, Studio Theatre\nTickets: $320\, $220 from Urbtix
URL:https://www.bcmagazine.net/event/menu-del-dia/2021-11-12/
LOCATION:HK Cultural Centre\, Studio Theatre\, 10 Salisbury Road\, Tsim Sha Tsui\, Hong Kong
CATEGORIES:2021,Concert,Music,Nightlife,Performing Arts
ATTACH;FMTTYPE=image/png:https://www.bcmagazine.net/wp-content/uploads/1921/11/The-Up-Strike-Project-2021.png
END:VEVENT
BEGIN:VEVENT
DTSTART;TZID=Asia/Hong_Kong:20211113T200000
DTEND;TZID=Asia/Hong_Kong:20211113T200000
DTSTAMP:20260423T203934
CREATED:19211104T034537Z
LAST-MODIFIED:20211110T112704Z
UID:10005331-1636833600-1636833600@www.bcmagazine.net
SUMMARY:Menú del día
DESCRIPTION:Menú del día\nThe Up:Strike Project\, New Vision Arts Festival\nDate: 8pm\, 12-13 November\, 2021\nVenue: HK Cultural Centre\, Studio Theatre\nTickets: $320\, $220 from Urbtix
URL:https://www.bcmagazine.net/event/menu-del-dia/2021-11-13/
LOCATION:HK Cultural Centre\, Studio Theatre\, 10 Salisbury Road\, Tsim Sha Tsui\, Hong Kong
CATEGORIES:2021,Concert,Music,Nightlife,Performing Arts
ATTACH;FMTTYPE=image/png:https://www.bcmagazine.net/wp-content/uploads/1921/11/The-Up-Strike-Project-2021.png
END:VEVENT
BEGIN:VEVENT
DTSTART;TZID=Asia/Hong_Kong:20211120T160000
DTEND;TZID=Asia/Hong_Kong:20211120T160000
DTSTAMP:20260423T203934
CREATED:19210930T034537Z
LAST-MODIFIED:20211106T104912Z
UID:10005258-1637424000-1637424000@www.bcmagazine.net
SUMMARY:The Red Stripes
DESCRIPTION:The Red Stripes\nDate: 4pm\, 20 November\, 2021\nVenue: Basehall\nTickets: Free
URL:https://www.bcmagazine.net/event/the-red-stripes-20-11-2021/
LOCATION:Basehall\, LG/F Jardine House\, 1 Connaught Place\, Central\, Hong Kong
CATEGORIES:2021,Concert,Free,Music,Nightlife,Performing Arts
ATTACH;FMTTYPE=image/jpeg:https://www.bcmagazine.net/wp-content/uploads/2021/09/The-Red-Stripes-2021.jpg
END:VEVENT
BEGIN:VEVENT
DTSTART;TZID=Asia/Hong_Kong:20211120T193000
DTEND;TZID=Asia/Hong_Kong:20211121T193000
DTSTAMP:20260423T203934
CREATED:19211104T034537Z
LAST-MODIFIED:20211110T111128Z
UID:10005327-1637436600-1637523000@www.bcmagazine.net
SUMMARY:I Dance From Nothingness
DESCRIPTION:I Dance From Nothingness\nDate: 7:30pm\, 20-21 November\, 2021\nVenue: HK Cultural Centre\, Grand Theatre\nTickets: $380\, $280\, $180 from Urbtix
URL:https://www.bcmagazine.net/event/i-dance-from-nothingness/2021-11-20/
LOCATION:HK Cultural Centre\, Grand Theatre\,\, 10 Salisbury Road\, Tsim Sha Tsui\, Hong Kong
CATEGORIES:2021,Dance,Nightlife,Performing Arts
GEO:22.294318;114.171708
X-APPLE-STRUCTURED-LOCATION;VALUE=URI;X-ADDRESS=HK Cultural Centre Grand Theatre 10 Salisbury Road Tsim Sha Tsui Hong Kong;X-APPLE-RADIUS=500;X-TITLE=10 Salisbury Road:geo:114.171708,22.294318
END:VEVENT
BEGIN:VEVENT
DTSTART;TZID=Asia/Hong_Kong:20211121T193000
DTEND;TZID=Asia/Hong_Kong:20211122T193000
DTSTAMP:20260423T203934
CREATED:19211104T034537Z
LAST-MODIFIED:20211110T111128Z
UID:10005328-1637523000-1637609400@www.bcmagazine.net
SUMMARY:I Dance From Nothingness
DESCRIPTION:I Dance From Nothingness\nDate: 7:30pm\, 20-21 November\, 2021\nVenue: HK Cultural Centre\, Grand Theatre\nTickets: $380\, $280\, $180 from Urbtix
URL:https://www.bcmagazine.net/event/i-dance-from-nothingness/2021-11-21/
LOCATION:HK Cultural Centre\, Grand Theatre\,\, 10 Salisbury Road\, Tsim Sha Tsui\, Hong Kong
CATEGORIES:2021,Dance,Nightlife,Performing Arts
GEO:22.294318;114.171708
X-APPLE-STRUCTURED-LOCATION;VALUE=URI;X-ADDRESS=HK Cultural Centre Grand Theatre 10 Salisbury Road Tsim Sha Tsui Hong Kong;X-APPLE-RADIUS=500;X-TITLE=10 Salisbury Road:geo:114.171708,22.294318
END:VEVENT
BEGIN:VEVENT
DTSTART;VALUE=DATE:20211126
DTEND;VALUE=DATE:20220103
DTSTAMP:20260423T203934
CREATED:19210208T121521Z
LAST-MODIFIED:20211113T031435Z
UID:10005067-1637884800-1641167999@www.bcmagazine.net
SUMMARY:WinterFest
DESCRIPTION:WinterFest\nDate: 26 November\, 2021 – 2 January 2022\nVenue: Hong Kong\nTickets: various
URL:https://www.bcmagazine.net/event/winterfest-2021/
CATEGORIES:2021,2022,Food,Free,Lifestyle,Music,Nightlife,Performing Arts
ATTACH;FMTTYPE=image/png:https://www.bcmagazine.net/wp-content/uploads/1921/02/winterfest-hktb.png
END:VEVENT
BEGIN:VEVENT
DTSTART;TZID=Asia/Hong_Kong:20211127T200000
DTEND;TZID=Asia/Hong_Kong:20211127T200000
DTSTAMP:20260423T203934
CREATED:19211111T044512Z
LAST-MODIFIED:20211112T101901Z
UID:10005341-1638043200-1638043200@www.bcmagazine.net
SUMMARY:In The Mood For Drag
DESCRIPTION:DragJam: In The Mood For Drag – Drag to the Future!\nDate: 8pm\, 27 November\, 2021\nVenue: Mudita\, 24-30 Ice House Street\, Central\nTickets: $200
URL:https://www.bcmagazine.net/event/in-the-mood-for-drag/
LOCATION:Mudita\, 24-30 Ice House St\, Central\, Hong Kong
CATEGORIES:2021,LGBT,Lifestyle,Music,Nightlife,Performing Arts,Theatre
ATTACH;FMTTYPE=image/jpeg:https://www.bcmagazine.net/wp-content/uploads/2019/03/in.-the-mood-for-drag-2021.11.jpg
END:VEVENT
END:VCALENDAR