BEGIN:VCALENDAR
VERSION:2.0
PRODID:-//bc magazine - ECPv6.15.20//NONSGML v1.0//EN
CALSCALE:GREGORIAN
METHOD:PUBLISH
X-WR-CALNAME:bc magazine
X-ORIGINAL-URL:https://www.bcmagazine.net
X-WR-CALDESC:Events for bc magazine
REFRESH-INTERVAL;VALUE=DURATION:PT1H
X-Robots-Tag:noindex
X-PUBLISHED-TTL:PT1H
BEGIN:VTIMEZONE
TZID:Asia/Hong_Kong
BEGIN:STANDARD
TZOFFSETFROM:+0800
TZOFFSETTO:+0800
TZNAME:HKT
DTSTART:20210101T000000
END:STANDARD
END:VTIMEZONE
BEGIN:VEVENT
DTSTART;TZID=Asia/Hong_Kong:20220603T200000
DTEND;TZID=Asia/Hong_Kong:20220603T200000
DTSTAMP:20260422T014550
CREATED:19160105T144028Z
LAST-MODIFIED:20220613T165436Z
UID:10001035-1654286400-1654286400@www.bcmagazine.net
SUMMARY:Sœurs
DESCRIPTION:Sœurs\nHong Kong Repertory Theatre\, French May\nDate: 3-4\, 7-11-12\, 14-18 June\, 2022\nVenue: Sheung Wan Civic Centre\, Black Box Theatre\nTickets: $260 from Popticket
URL:https://www.bcmagazine.net/event/soeurs/2022-06-03/
LOCATION:HKREP Black Box Theatre\, 8/F\, Sheung Wan Civic Centre\, Sheung Wan Municipal Services Building\, 345 Queen's Road\, Sheung Wan\, Hong Kong
CATEGORIES:2022,Nightlife,Performing Arts,Theatre
ATTACH;FMTTYPE=image/jpeg:https://www.bcmagazine.net/wp-content/uploads/1916/01/Soeurs-HKREP-2022.jpeg
END:VEVENT
BEGIN:VEVENT
DTSTART;TZID=Asia/Hong_Kong:20220604T200000
DTEND;TZID=Asia/Hong_Kong:20220604T200000
DTSTAMP:20260422T014550
CREATED:19160105T144028Z
LAST-MODIFIED:20220613T165436Z
UID:10001036-1654372800-1654372800@www.bcmagazine.net
SUMMARY:Sœurs
DESCRIPTION:Sœurs\nHong Kong Repertory Theatre\, French May\nDate: 3-4\, 7-11-12\, 14-18 June\, 2022\nVenue: Sheung Wan Civic Centre\, Black Box Theatre\nTickets: $260 from Popticket
URL:https://www.bcmagazine.net/event/soeurs/2022-06-04/
LOCATION:HKREP Black Box Theatre\, 8/F\, Sheung Wan Civic Centre\, Sheung Wan Municipal Services Building\, 345 Queen's Road\, Sheung Wan\, Hong Kong
CATEGORIES:2022,Nightlife,Performing Arts,Theatre
ATTACH;FMTTYPE=image/jpeg:https://www.bcmagazine.net/wp-content/uploads/1916/01/Soeurs-HKREP-2022.jpeg
END:VEVENT
BEGIN:VEVENT
DTSTART;TZID=Asia/Hong_Kong:20220604T201500
DTEND;TZID=Asia/Hong_Kong:20220604T201500
DTSTAMP:20260422T014550
CREATED:19210930T034537Z
LAST-MODIFIED:20220501T105703Z
UID:10005293-1654373700-1654373700@www.bcmagazine.net
SUMMARY:Jade Kwan 20th Anniversary Concert
DESCRIPTION:Jade Kwan 20th Anniversary Concert\nDate: 8:15pm\, 4-5 June 2022\nVenue: HK Coliseum\nTickets: $880\, $580 from Urbtix
URL:https://www.bcmagazine.net/event/jade-kwan-20th-anniversary-concert/2022-06-04/
LOCATION:HK Coliseum\, 9 Cheong Wan Road\, Hung Hom\, Hong Kong
CATEGORIES:2022,Cantopop,Concert,Music,Nightlife,Performing Arts
ATTACH;FMTTYPE=image/webp:https://www.bcmagazine.net/wp-content/uploads/1921/09/Jade-Kwan-20th-Anniversary-Concert-2022.webp
GEO:22.3014169;114.1820305
X-APPLE-STRUCTURED-LOCATION;VALUE=URI;X-ADDRESS=HK Coliseum 9 Cheong Wan Road Hung Hom Hong Kong;X-APPLE-RADIUS=500;X-TITLE=9 Cheong Wan Road:geo:114.1820305,22.3014169
END:VEVENT
BEGIN:VEVENT
DTSTART;TZID=Asia/Hong_Kong:20220605T201500
DTEND;TZID=Asia/Hong_Kong:20220605T201500
DTSTAMP:20260422T014550
CREATED:19210930T034537Z
LAST-MODIFIED:20220501T105703Z
UID:10005294-1654460100-1654460100@www.bcmagazine.net
SUMMARY:Jade Kwan 20th Anniversary Concert
DESCRIPTION:Jade Kwan 20th Anniversary Concert\nDate: 8:15pm\, 4-5 June 2022\nVenue: HK Coliseum\nTickets: $880\, $580 from Urbtix
URL:https://www.bcmagazine.net/event/jade-kwan-20th-anniversary-concert/2022-06-05/
LOCATION:HK Coliseum\, 9 Cheong Wan Road\, Hung Hom\, Hong Kong
CATEGORIES:2022,Cantopop,Concert,Music,Nightlife,Performing Arts
ATTACH;FMTTYPE=image/webp:https://www.bcmagazine.net/wp-content/uploads/1921/09/Jade-Kwan-20th-Anniversary-Concert-2022.webp
GEO:22.3014169;114.1820305
X-APPLE-STRUCTURED-LOCATION;VALUE=URI;X-ADDRESS=HK Coliseum 9 Cheong Wan Road Hung Hom Hong Kong;X-APPLE-RADIUS=500;X-TITLE=9 Cheong Wan Road:geo:114.1820305,22.3014169
END:VEVENT
BEGIN:VEVENT
DTSTART;TZID=Asia/Hong_Kong:20220607T200000
DTEND;TZID=Asia/Hong_Kong:20220607T200000
DTSTAMP:20260422T014550
CREATED:19160105T144028Z
LAST-MODIFIED:20220613T165436Z
UID:10001037-1654632000-1654632000@www.bcmagazine.net
SUMMARY:Sœurs
DESCRIPTION:Sœurs\nHong Kong Repertory Theatre\, French May\nDate: 3-4\, 7-11-12\, 14-18 June\, 2022\nVenue: Sheung Wan Civic Centre\, Black Box Theatre\nTickets: $260 from Popticket
URL:https://www.bcmagazine.net/event/soeurs/2022-06-07/
LOCATION:HKREP Black Box Theatre\, 8/F\, Sheung Wan Civic Centre\, Sheung Wan Municipal Services Building\, 345 Queen's Road\, Sheung Wan\, Hong Kong
CATEGORIES:2022,Nightlife,Performing Arts,Theatre
ATTACH;FMTTYPE=image/jpeg:https://www.bcmagazine.net/wp-content/uploads/1916/01/Soeurs-HKREP-2022.jpeg
END:VEVENT
BEGIN:VEVENT
DTSTART;TZID=Asia/Hong_Kong:20220608T200000
DTEND;TZID=Asia/Hong_Kong:20220608T200000
DTSTAMP:20260422T014551
CREATED:19160105T144028Z
LAST-MODIFIED:20220613T165436Z
UID:10001038-1654718400-1654718400@www.bcmagazine.net
SUMMARY:Sœurs
DESCRIPTION:Sœurs\nHong Kong Repertory Theatre\, French May\nDate: 3-4\, 7-11-12\, 14-18 June\, 2022\nVenue: Sheung Wan Civic Centre\, Black Box Theatre\nTickets: $260 from Popticket
URL:https://www.bcmagazine.net/event/soeurs/2022-06-08/
LOCATION:HKREP Black Box Theatre\, 8/F\, Sheung Wan Civic Centre\, Sheung Wan Municipal Services Building\, 345 Queen's Road\, Sheung Wan\, Hong Kong
CATEGORIES:2022,Nightlife,Performing Arts,Theatre
ATTACH;FMTTYPE=image/jpeg:https://www.bcmagazine.net/wp-content/uploads/1916/01/Soeurs-HKREP-2022.jpeg
END:VEVENT
BEGIN:VEVENT
DTSTART;TZID=Asia/Hong_Kong:20220609T200000
DTEND;TZID=Asia/Hong_Kong:20220609T200000
DTSTAMP:20260422T014551
CREATED:19160105T144028Z
LAST-MODIFIED:20220613T165436Z
UID:10001039-1654804800-1654804800@www.bcmagazine.net
SUMMARY:Sœurs
DESCRIPTION:Sœurs\nHong Kong Repertory Theatre\, French May\nDate: 3-4\, 7-11-12\, 14-18 June\, 2022\nVenue: Sheung Wan Civic Centre\, Black Box Theatre\nTickets: $260 from Popticket
URL:https://www.bcmagazine.net/event/soeurs/2022-06-09/
LOCATION:HKREP Black Box Theatre\, 8/F\, Sheung Wan Civic Centre\, Sheung Wan Municipal Services Building\, 345 Queen's Road\, Sheung Wan\, Hong Kong
CATEGORIES:2022,Nightlife,Performing Arts,Theatre
ATTACH;FMTTYPE=image/jpeg:https://www.bcmagazine.net/wp-content/uploads/1916/01/Soeurs-HKREP-2022.jpeg
END:VEVENT
BEGIN:VEVENT
DTSTART;TZID=Asia/Hong_Kong:20220610T200000
DTEND;TZID=Asia/Hong_Kong:20220610T200000
DTSTAMP:20260422T014551
CREATED:19160105T144028Z
LAST-MODIFIED:20220613T165436Z
UID:10001040-1654891200-1654891200@www.bcmagazine.net
SUMMARY:Sœurs
DESCRIPTION:Sœurs\nHong Kong Repertory Theatre\, French May\nDate: 3-4\, 7-11-12\, 14-18 June\, 2022\nVenue: Sheung Wan Civic Centre\, Black Box Theatre\nTickets: $260 from Popticket
URL:https://www.bcmagazine.net/event/soeurs/2022-06-10/
LOCATION:HKREP Black Box Theatre\, 8/F\, Sheung Wan Civic Centre\, Sheung Wan Municipal Services Building\, 345 Queen's Road\, Sheung Wan\, Hong Kong
CATEGORIES:2022,Nightlife,Performing Arts,Theatre
ATTACH;FMTTYPE=image/jpeg:https://www.bcmagazine.net/wp-content/uploads/1916/01/Soeurs-HKREP-2022.jpeg
END:VEVENT
BEGIN:VEVENT
DTSTART;TZID=Asia/Hong_Kong:20220611T200000
DTEND;TZID=Asia/Hong_Kong:20220611T200000
DTSTAMP:20260422T014551
CREATED:19160105T144028Z
LAST-MODIFIED:20220613T165436Z
UID:10001041-1654977600-1654977600@www.bcmagazine.net
SUMMARY:Sœurs
DESCRIPTION:Sœurs\nHong Kong Repertory Theatre\, French May\nDate: 3-4\, 7-11-12\, 14-18 June\, 2022\nVenue: Sheung Wan Civic Centre\, Black Box Theatre\nTickets: $260 from Popticket
URL:https://www.bcmagazine.net/event/soeurs/2022-06-11/
LOCATION:HKREP Black Box Theatre\, 8/F\, Sheung Wan Civic Centre\, Sheung Wan Municipal Services Building\, 345 Queen's Road\, Sheung Wan\, Hong Kong
CATEGORIES:2022,Nightlife,Performing Arts,Theatre
ATTACH;FMTTYPE=image/jpeg:https://www.bcmagazine.net/wp-content/uploads/1916/01/Soeurs-HKREP-2022.jpeg
END:VEVENT
BEGIN:VEVENT
DTSTART;TZID=Asia/Hong_Kong:20220612T150000
DTEND;TZID=Asia/Hong_Kong:20220612T150000
DTSTAMP:20260422T014551
CREATED:19160105T144028Z
LAST-MODIFIED:20220613T165436Z
UID:10001042-1655046000-1655046000@www.bcmagazine.net
SUMMARY:Sœurs
DESCRIPTION:Sœurs\nHong Kong Repertory Theatre\, French May\nDate: 3-4\, 7-11-12\, 14-18 June\, 2022\nVenue: Sheung Wan Civic Centre\, Black Box Theatre\nTickets: $260 from Popticket
URL:https://www.bcmagazine.net/event/soeurs/2022-06-12/
LOCATION:HKREP Black Box Theatre\, 8/F\, Sheung Wan Civic Centre\, Sheung Wan Municipal Services Building\, 345 Queen's Road\, Sheung Wan\, Hong Kong
CATEGORIES:2022,Nightlife,Performing Arts,Theatre
ATTACH;FMTTYPE=image/jpeg:https://www.bcmagazine.net/wp-content/uploads/1916/01/Soeurs-HKREP-2022.jpeg
END:VEVENT
BEGIN:VEVENT
DTSTART;TZID=Asia/Hong_Kong:20220614T200000
DTEND;TZID=Asia/Hong_Kong:20220614T200000
DTSTAMP:20260422T014551
CREATED:19160105T144028Z
LAST-MODIFIED:20220613T165436Z
UID:10001043-1655236800-1655236800@www.bcmagazine.net
SUMMARY:Sœurs
DESCRIPTION:Sœurs\nHong Kong Repertory Theatre\, French May\nDate: 3-4\, 7-11-12\, 14-18 June\, 2022\nVenue: Sheung Wan Civic Centre\, Black Box Theatre\nTickets: $260 from Popticket
URL:https://www.bcmagazine.net/event/soeurs/2022-06-14/
LOCATION:HKREP Black Box Theatre\, 8/F\, Sheung Wan Civic Centre\, Sheung Wan Municipal Services Building\, 345 Queen's Road\, Sheung Wan\, Hong Kong
CATEGORIES:2022,Nightlife,Performing Arts,Theatre
ATTACH;FMTTYPE=image/jpeg:https://www.bcmagazine.net/wp-content/uploads/1916/01/Soeurs-HKREP-2022.jpeg
END:VEVENT
BEGIN:VEVENT
DTSTART;TZID=Asia/Hong_Kong:20220615T200000
DTEND;TZID=Asia/Hong_Kong:20220615T200000
DTSTAMP:20260422T014551
CREATED:19160105T144028Z
LAST-MODIFIED:20220613T165436Z
UID:10001044-1655323200-1655323200@www.bcmagazine.net
SUMMARY:Sœurs
DESCRIPTION:Sœurs\nHong Kong Repertory Theatre\, French May\nDate: 3-4\, 7-11-12\, 14-18 June\, 2022\nVenue: Sheung Wan Civic Centre\, Black Box Theatre\nTickets: $260 from Popticket
URL:https://www.bcmagazine.net/event/soeurs/2022-06-15/
LOCATION:HKREP Black Box Theatre\, 8/F\, Sheung Wan Civic Centre\, Sheung Wan Municipal Services Building\, 345 Queen's Road\, Sheung Wan\, Hong Kong
CATEGORIES:2022,Nightlife,Performing Arts,Theatre
ATTACH;FMTTYPE=image/jpeg:https://www.bcmagazine.net/wp-content/uploads/1916/01/Soeurs-HKREP-2022.jpeg
END:VEVENT
BEGIN:VEVENT
DTSTART;TZID=Asia/Hong_Kong:20220616T200000
DTEND;TZID=Asia/Hong_Kong:20220616T200000
DTSTAMP:20260422T014551
CREATED:19160105T144028Z
LAST-MODIFIED:20220613T165436Z
UID:10001045-1655409600-1655409600@www.bcmagazine.net
SUMMARY:Sœurs
DESCRIPTION:Sœurs\nHong Kong Repertory Theatre\, French May\nDate: 3-4\, 7-11-12\, 14-18 June\, 2022\nVenue: Sheung Wan Civic Centre\, Black Box Theatre\nTickets: $260 from Popticket
URL:https://www.bcmagazine.net/event/soeurs/2022-06-16/
LOCATION:HKREP Black Box Theatre\, 8/F\, Sheung Wan Civic Centre\, Sheung Wan Municipal Services Building\, 345 Queen's Road\, Sheung Wan\, Hong Kong
CATEGORIES:2022,Nightlife,Performing Arts,Theatre
ATTACH;FMTTYPE=image/jpeg:https://www.bcmagazine.net/wp-content/uploads/1916/01/Soeurs-HKREP-2022.jpeg
END:VEVENT
BEGIN:VEVENT
DTSTART;TZID=Asia/Hong_Kong:20220617T200000
DTEND;TZID=Asia/Hong_Kong:20220617T200000
DTSTAMP:20260422T014551
CREATED:19160105T144028Z
LAST-MODIFIED:20220613T165436Z
UID:10001046-1655496000-1655496000@www.bcmagazine.net
SUMMARY:Sœurs
DESCRIPTION:Sœurs\nHong Kong Repertory Theatre\, French May\nDate: 3-4\, 7-11-12\, 14-18 June\, 2022\nVenue: Sheung Wan Civic Centre\, Black Box Theatre\nTickets: $260 from Popticket
URL:https://www.bcmagazine.net/event/soeurs/2022-06-17/
LOCATION:HKREP Black Box Theatre\, 8/F\, Sheung Wan Civic Centre\, Sheung Wan Municipal Services Building\, 345 Queen's Road\, Sheung Wan\, Hong Kong
CATEGORIES:2022,Nightlife,Performing Arts,Theatre
ATTACH;FMTTYPE=image/jpeg:https://www.bcmagazine.net/wp-content/uploads/1916/01/Soeurs-HKREP-2022.jpeg
END:VEVENT
BEGIN:VEVENT
DTSTART;TZID=Asia/Hong_Kong:20220618T200000
DTEND;TZID=Asia/Hong_Kong:20220618T200000
DTSTAMP:20260422T014551
CREATED:19160105T144028Z
LAST-MODIFIED:20220613T165436Z
UID:10001047-1655582400-1655582400@www.bcmagazine.net
SUMMARY:Sœurs
DESCRIPTION:Sœurs\nHong Kong Repertory Theatre\, French May\nDate: 3-4\, 7-11-12\, 14-18 June\, 2022\nVenue: Sheung Wan Civic Centre\, Black Box Theatre\nTickets: $260 from Popticket
URL:https://www.bcmagazine.net/event/soeurs/2022-06-18/
LOCATION:HKREP Black Box Theatre\, 8/F\, Sheung Wan Civic Centre\, Sheung Wan Municipal Services Building\, 345 Queen's Road\, Sheung Wan\, Hong Kong
CATEGORIES:2022,Nightlife,Performing Arts,Theatre
ATTACH;FMTTYPE=image/jpeg:https://www.bcmagazine.net/wp-content/uploads/1916/01/Soeurs-HKREP-2022.jpeg
END:VEVENT
BEGIN:VEVENT
DTSTART;TZID=Asia/Hong_Kong:20220620T193000
DTEND;TZID=Asia/Hong_Kong:20220620T193000
DTSTAMP:20260422T014551
CREATED:19160105T144028Z
LAST-MODIFIED:20220613T163222Z
UID:10000245-1655753400-1655753400@www.bcmagazine.net
SUMMARY:Songs of Innocence and Experience
DESCRIPTION:Songs of Innocence and Experience\nDate: 7:45pm\, 20-24 June\, 2022\nVenue: HKAPA\, Studio Theatre\nTickets: $95 from HK Ticketing\nMore info: Cantonese drama with English and Chinese surtitles
URL:https://www.bcmagazine.net/event/songs-of-innocence-and-experience/2022-06-20/
LOCATION:HKAPA: Studio Theatre\, 1 Gloucester Road\, Wanchai\, Hong Kong
CATEGORIES:2022,Cantonese drama,Nightlife,Performing Arts,Theatre
ATTACH;FMTTYPE=image/jpeg:https://www.bcmagazine.net/wp-content/uploads/1916/01/Songs-of-Innocence-and-Experience-2022.jpeg
GEO:22.2801854;114.1695054
X-APPLE-STRUCTURED-LOCATION;VALUE=URI;X-ADDRESS=HKAPA: Studio Theatre 1 Gloucester Road Wanchai Hong Kong;X-APPLE-RADIUS=500;X-TITLE=1 Gloucester Road:geo:114.1695054,22.2801854
END:VEVENT
BEGIN:VEVENT
DTSTART;TZID=Asia/Hong_Kong:20220621T193000
DTEND;TZID=Asia/Hong_Kong:20220621T193000
DTSTAMP:20260422T014551
CREATED:19160105T144028Z
LAST-MODIFIED:20220613T163222Z
UID:10000246-1655839800-1655839800@www.bcmagazine.net
SUMMARY:Songs of Innocence and Experience
DESCRIPTION:Songs of Innocence and Experience\nDate: 7:45pm\, 20-24 June\, 2022\nVenue: HKAPA\, Studio Theatre\nTickets: $95 from HK Ticketing\nMore info: Cantonese drama with English and Chinese surtitles
URL:https://www.bcmagazine.net/event/songs-of-innocence-and-experience/2022-06-21/
LOCATION:HKAPA: Studio Theatre\, 1 Gloucester Road\, Wanchai\, Hong Kong
CATEGORIES:2022,Cantonese drama,Nightlife,Performing Arts,Theatre
ATTACH;FMTTYPE=image/jpeg:https://www.bcmagazine.net/wp-content/uploads/1916/01/Songs-of-Innocence-and-Experience-2022.jpeg
GEO:22.2801854;114.1695054
X-APPLE-STRUCTURED-LOCATION;VALUE=URI;X-ADDRESS=HKAPA: Studio Theatre 1 Gloucester Road Wanchai Hong Kong;X-APPLE-RADIUS=500;X-TITLE=1 Gloucester Road:geo:114.1695054,22.2801854
END:VEVENT
BEGIN:VEVENT
DTSTART;TZID=Asia/Hong_Kong:20220622T193000
DTEND;TZID=Asia/Hong_Kong:20220622T193000
DTSTAMP:20260422T014551
CREATED:19160105T144028Z
LAST-MODIFIED:20220613T163222Z
UID:10000247-1655926200-1655926200@www.bcmagazine.net
SUMMARY:Songs of Innocence and Experience
DESCRIPTION:Songs of Innocence and Experience\nDate: 7:45pm\, 20-24 June\, 2022\nVenue: HKAPA\, Studio Theatre\nTickets: $95 from HK Ticketing\nMore info: Cantonese drama with English and Chinese surtitles
URL:https://www.bcmagazine.net/event/songs-of-innocence-and-experience/2022-06-22/
LOCATION:HKAPA: Studio Theatre\, 1 Gloucester Road\, Wanchai\, Hong Kong
CATEGORIES:2022,Cantonese drama,Nightlife,Performing Arts,Theatre
ATTACH;FMTTYPE=image/jpeg:https://www.bcmagazine.net/wp-content/uploads/1916/01/Songs-of-Innocence-and-Experience-2022.jpeg
GEO:22.2801854;114.1695054
X-APPLE-STRUCTURED-LOCATION;VALUE=URI;X-ADDRESS=HKAPA: Studio Theatre 1 Gloucester Road Wanchai Hong Kong;X-APPLE-RADIUS=500;X-TITLE=1 Gloucester Road:geo:114.1695054,22.2801854
END:VEVENT
BEGIN:VEVENT
DTSTART;TZID=Asia/Hong_Kong:20220622T193000
DTEND;TZID=Asia/Hong_Kong:20220622T193000
DTSTAMP:20260422T014551
CREATED:19160105T144028Z
LAST-MODIFIED:20220613T164515Z
UID:10000240-1655926200-1655926200@www.bcmagazine.net
SUMMARY:Lucky Stiff
DESCRIPTION:Lucky Stiff\nDate: 7:30pm\, 22-25 June\, 2022\nVenue: HKAPA\, Rita Tong Liu Drama Theatre\nTickets: $105 from HK Ticketing\nMore info: Cantonese musical with English and Chinese surtitles
URL:https://www.bcmagazine.net/event/lucky-stiff/2022-06-22/
LOCATION:HKAPA: Drama Theatre\, 1 Gloucester Road\, Wanchai\, Hong Kong
CATEGORIES:2022,Music,Musical,Nightlife,Performing Arts,Theatre
ATTACH;FMTTYPE=image/jpeg:https://www.bcmagazine.net/wp-content/uploads/1916/01/lucky-stiff-2022.jpeg
GEO:22.2801854;114.1695054
X-APPLE-STRUCTURED-LOCATION;VALUE=URI;X-ADDRESS=HKAPA: Drama Theatre 1 Gloucester Road Wanchai Hong Kong;X-APPLE-RADIUS=500;X-TITLE=1 Gloucester Road:geo:114.1695054,22.2801854
END:VEVENT
BEGIN:VEVENT
DTSTART;TZID=Asia/Hong_Kong:20220623T193000
DTEND;TZID=Asia/Hong_Kong:20220623T193000
DTSTAMP:20260422T014551
CREATED:19160105T144028Z
LAST-MODIFIED:20220613T163222Z
UID:10000248-1656012600-1656012600@www.bcmagazine.net
SUMMARY:Songs of Innocence and Experience
DESCRIPTION:Songs of Innocence and Experience\nDate: 7:45pm\, 20-24 June\, 2022\nVenue: HKAPA\, Studio Theatre\nTickets: $95 from HK Ticketing\nMore info: Cantonese drama with English and Chinese surtitles
URL:https://www.bcmagazine.net/event/songs-of-innocence-and-experience/2022-06-23/
LOCATION:HKAPA: Studio Theatre\, 1 Gloucester Road\, Wanchai\, Hong Kong
CATEGORIES:2022,Cantonese drama,Nightlife,Performing Arts,Theatre
ATTACH;FMTTYPE=image/jpeg:https://www.bcmagazine.net/wp-content/uploads/1916/01/Songs-of-Innocence-and-Experience-2022.jpeg
GEO:22.2801854;114.1695054
X-APPLE-STRUCTURED-LOCATION;VALUE=URI;X-ADDRESS=HKAPA: Studio Theatre 1 Gloucester Road Wanchai Hong Kong;X-APPLE-RADIUS=500;X-TITLE=1 Gloucester Road:geo:114.1695054,22.2801854
END:VEVENT
BEGIN:VEVENT
DTSTART;TZID=Asia/Hong_Kong:20220623T193000
DTEND;TZID=Asia/Hong_Kong:20220623T193000
DTSTAMP:20260422T014551
CREATED:19160105T144028Z
LAST-MODIFIED:20220613T164515Z
UID:10000241-1656012600-1656012600@www.bcmagazine.net
SUMMARY:Lucky Stiff
DESCRIPTION:Lucky Stiff\nDate: 7:30pm\, 22-25 June\, 2022\nVenue: HKAPA\, Rita Tong Liu Drama Theatre\nTickets: $105 from HK Ticketing\nMore info: Cantonese musical with English and Chinese surtitles
URL:https://www.bcmagazine.net/event/lucky-stiff/2022-06-23/
LOCATION:HKAPA: Drama Theatre\, 1 Gloucester Road\, Wanchai\, Hong Kong
CATEGORIES:2022,Music,Musical,Nightlife,Performing Arts,Theatre
ATTACH;FMTTYPE=image/jpeg:https://www.bcmagazine.net/wp-content/uploads/1916/01/lucky-stiff-2022.jpeg
GEO:22.2801854;114.1695054
X-APPLE-STRUCTURED-LOCATION;VALUE=URI;X-ADDRESS=HKAPA: Drama Theatre 1 Gloucester Road Wanchai Hong Kong;X-APPLE-RADIUS=500;X-TITLE=1 Gloucester Road:geo:114.1695054,22.2801854
END:VEVENT
BEGIN:VEVENT
DTSTART;TZID=Asia/Hong_Kong:20220623T201500
DTEND;TZID=Asia/Hong_Kong:20220623T201500
DTSTAMP:20260422T014551
CREATED:19160105T144028Z
LAST-MODIFIED:20220613T161552Z
UID:10000256-1656015300-1656015300@www.bcmagazine.net
SUMMARY:Yoyo Sham
DESCRIPTION:Yoyo Sham Home is…\nDate: 8:15pm\, 23-26 June\, 2022\nVenue: Kitec\, Star Hall\nTickets: $780\, $580\, $380 from HK Ticketing
URL:https://www.bcmagazine.net/event/yoyo-sham/2022-06-23/
LOCATION:KITEC\, Star Hall\, KITEC\, 1 Trademart Drive\, Kowloon Bay\, Hong Kong
CATEGORIES:2022,Cantopop,Concert,Music,Nightlife,Performing Arts
ATTACH;FMTTYPE=image/jpeg:https://www.bcmagazine.net/wp-content/uploads/1916/01/Yoyo-Sham-2022.jpeg
GEO:22.3239575;114.2037608
X-APPLE-STRUCTURED-LOCATION;VALUE=URI;X-ADDRESS=KITEC Star Hall KITEC 1 Trademart Drive Kowloon Bay Hong Kong;X-APPLE-RADIUS=500;X-TITLE=KITEC\, 1 Trademart Drive:geo:114.2037608,22.3239575
END:VEVENT
BEGIN:VEVENT
DTSTART;TZID=Asia/Hong_Kong:20220624T193000
DTEND;TZID=Asia/Hong_Kong:20220624T193000
DTSTAMP:20260422T014551
CREATED:19160105T144028Z
LAST-MODIFIED:20220613T164515Z
UID:10000242-1656099000-1656099000@www.bcmagazine.net
SUMMARY:Lucky Stiff
DESCRIPTION:Lucky Stiff\nDate: 7:30pm\, 22-25 June\, 2022\nVenue: HKAPA\, Rita Tong Liu Drama Theatre\nTickets: $105 from HK Ticketing\nMore info: Cantonese musical with English and Chinese surtitles
URL:https://www.bcmagazine.net/event/lucky-stiff/2022-06-24/
LOCATION:HKAPA: Drama Theatre\, 1 Gloucester Road\, Wanchai\, Hong Kong
CATEGORIES:2022,Music,Musical,Nightlife,Performing Arts,Theatre
ATTACH;FMTTYPE=image/jpeg:https://www.bcmagazine.net/wp-content/uploads/1916/01/lucky-stiff-2022.jpeg
GEO:22.2801854;114.1695054
X-APPLE-STRUCTURED-LOCATION;VALUE=URI;X-ADDRESS=HKAPA: Drama Theatre 1 Gloucester Road Wanchai Hong Kong;X-APPLE-RADIUS=500;X-TITLE=1 Gloucester Road:geo:114.1695054,22.2801854
END:VEVENT
BEGIN:VEVENT
DTSTART;TZID=Asia/Hong_Kong:20220624T193000
DTEND;TZID=Asia/Hong_Kong:20220624T193000
DTSTAMP:20260422T014551
CREATED:19160105T144028Z
LAST-MODIFIED:20220613T163222Z
UID:10000249-1656099000-1656099000@www.bcmagazine.net
SUMMARY:Songs of Innocence and Experience
DESCRIPTION:Songs of Innocence and Experience\nDate: 7:45pm\, 20-24 June\, 2022\nVenue: HKAPA\, Studio Theatre\nTickets: $95 from HK Ticketing\nMore info: Cantonese drama with English and Chinese surtitles
URL:https://www.bcmagazine.net/event/songs-of-innocence-and-experience/2022-06-24/
LOCATION:HKAPA: Studio Theatre\, 1 Gloucester Road\, Wanchai\, Hong Kong
CATEGORIES:2022,Cantonese drama,Nightlife,Performing Arts,Theatre
ATTACH;FMTTYPE=image/jpeg:https://www.bcmagazine.net/wp-content/uploads/1916/01/Songs-of-Innocence-and-Experience-2022.jpeg
GEO:22.2801854;114.1695054
X-APPLE-STRUCTURED-LOCATION;VALUE=URI;X-ADDRESS=HKAPA: Studio Theatre 1 Gloucester Road Wanchai Hong Kong;X-APPLE-RADIUS=500;X-TITLE=1 Gloucester Road:geo:114.1695054,22.2801854
END:VEVENT
BEGIN:VEVENT
DTSTART;TZID=Asia/Hong_Kong:20220624T201500
DTEND;TZID=Asia/Hong_Kong:20220624T201500
DTSTAMP:20260422T014551
CREATED:19160105T144028Z
LAST-MODIFIED:20220613T161552Z
UID:10000257-1656101700-1656101700@www.bcmagazine.net
SUMMARY:Yoyo Sham
DESCRIPTION:Yoyo Sham Home is…\nDate: 8:15pm\, 23-26 June\, 2022\nVenue: Kitec\, Star Hall\nTickets: $780\, $580\, $380 from HK Ticketing
URL:https://www.bcmagazine.net/event/yoyo-sham/2022-06-24/
LOCATION:KITEC\, Star Hall\, KITEC\, 1 Trademart Drive\, Kowloon Bay\, Hong Kong
CATEGORIES:2022,Cantopop,Concert,Music,Nightlife,Performing Arts
ATTACH;FMTTYPE=image/jpeg:https://www.bcmagazine.net/wp-content/uploads/1916/01/Yoyo-Sham-2022.jpeg
GEO:22.3239575;114.2037608
X-APPLE-STRUCTURED-LOCATION;VALUE=URI;X-ADDRESS=KITEC Star Hall KITEC 1 Trademart Drive Kowloon Bay Hong Kong;X-APPLE-RADIUS=500;X-TITLE=KITEC\, 1 Trademart Drive:geo:114.2037608,22.3239575
END:VEVENT
BEGIN:VEVENT
DTSTART;TZID=Asia/Hong_Kong:20220625T113000
DTEND;TZID=Asia/Hong_Kong:20220625T113000
DTSTAMP:20260422T014551
CREATED:19160105T144028Z
LAST-MODIFIED:20220613T164515Z
UID:10000243-1656156600-1656156600@www.bcmagazine.net
SUMMARY:Lucky Stiff
DESCRIPTION:Lucky Stiff\nDate: 7:30pm\, 22-25 June\, 2022\nVenue: HKAPA\, Rita Tong Liu Drama Theatre\nTickets: $105 from HK Ticketing\nMore info: Cantonese musical with English and Chinese surtitles
URL:https://www.bcmagazine.net/event/lucky-stiff/2022-06-25/
LOCATION:HKAPA: Drama Theatre\, 1 Gloucester Road\, Wanchai\, Hong Kong
CATEGORIES:2022,Music,Musical,Nightlife,Performing Arts,Theatre
ATTACH;FMTTYPE=image/jpeg:https://www.bcmagazine.net/wp-content/uploads/1916/01/lucky-stiff-2022.jpeg
GEO:22.2801854;114.1695054
X-APPLE-STRUCTURED-LOCATION;VALUE=URI;X-ADDRESS=HKAPA: Drama Theatre 1 Gloucester Road Wanchai Hong Kong;X-APPLE-RADIUS=500;X-TITLE=1 Gloucester Road:geo:114.1695054,22.2801854
END:VEVENT
BEGIN:VEVENT
DTSTART;TZID=Asia/Hong_Kong:20220625T201500
DTEND;TZID=Asia/Hong_Kong:20220625T201500
DTSTAMP:20260422T014551
CREATED:19160105T144028Z
LAST-MODIFIED:20220613T161552Z
UID:10000258-1656188100-1656188100@www.bcmagazine.net
SUMMARY:Yoyo Sham
DESCRIPTION:Yoyo Sham Home is…\nDate: 8:15pm\, 23-26 June\, 2022\nVenue: Kitec\, Star Hall\nTickets: $780\, $580\, $380 from HK Ticketing
URL:https://www.bcmagazine.net/event/yoyo-sham/2022-06-25/
LOCATION:KITEC\, Star Hall\, KITEC\, 1 Trademart Drive\, Kowloon Bay\, Hong Kong
CATEGORIES:2022,Cantopop,Concert,Music,Nightlife,Performing Arts
ATTACH;FMTTYPE=image/jpeg:https://www.bcmagazine.net/wp-content/uploads/1916/01/Yoyo-Sham-2022.jpeg
GEO:22.3239575;114.2037608
X-APPLE-STRUCTURED-LOCATION;VALUE=URI;X-ADDRESS=KITEC Star Hall KITEC 1 Trademart Drive Kowloon Bay Hong Kong;X-APPLE-RADIUS=500;X-TITLE=KITEC\, 1 Trademart Drive:geo:114.2037608,22.3239575
END:VEVENT
BEGIN:VEVENT
DTSTART;TZID=Asia/Hong_Kong:20220626T201500
DTEND;TZID=Asia/Hong_Kong:20220626T201500
DTSTAMP:20260422T014551
CREATED:19160105T144028Z
LAST-MODIFIED:20220613T161552Z
UID:10000259-1656274500-1656274500@www.bcmagazine.net
SUMMARY:Yoyo Sham
DESCRIPTION:Yoyo Sham Home is…\nDate: 8:15pm\, 23-26 June\, 2022\nVenue: Kitec\, Star Hall\nTickets: $780\, $580\, $380 from HK Ticketing
URL:https://www.bcmagazine.net/event/yoyo-sham/2022-06-26/
LOCATION:KITEC\, Star Hall\, KITEC\, 1 Trademart Drive\, Kowloon Bay\, Hong Kong
CATEGORIES:2022,Cantopop,Concert,Music,Nightlife,Performing Arts
ATTACH;FMTTYPE=image/jpeg:https://www.bcmagazine.net/wp-content/uploads/1916/01/Yoyo-Sham-2022.jpeg
GEO:22.3239575;114.2037608
X-APPLE-STRUCTURED-LOCATION;VALUE=URI;X-ADDRESS=KITEC Star Hall KITEC 1 Trademart Drive Kowloon Bay Hong Kong;X-APPLE-RADIUS=500;X-TITLE=KITEC\, 1 Trademart Drive:geo:114.2037608,22.3239575
END:VEVENT
END:VCALENDAR