BEGIN:VCALENDAR
VERSION:2.0
PRODID:-//bc magazine - ECPv6.15.20//NONSGML v1.0//EN
CALSCALE:GREGORIAN
METHOD:PUBLISH
X-WR-CALNAME:bc magazine
X-ORIGINAL-URL:https://www.bcmagazine.net
X-WR-CALDESC:Events for bc magazine
REFRESH-INTERVAL;VALUE=DURATION:PT1H
X-Robots-Tag:noindex
X-PUBLISHED-TTL:PT1H
BEGIN:VTIMEZONE
TZID:Asia/Hong_Kong
BEGIN:STANDARD
TZOFFSETFROM:+0800
TZOFFSETTO:+0800
TZNAME:HKT
DTSTART:20220101T000000
END:STANDARD
END:VTIMEZONE
BEGIN:VEVENT
DTSTART;TZID=Asia/Hong_Kong:20230311T180000
DTEND;TZID=Asia/Hong_Kong:20230311T180000
DTSTAMP:20260421T215032
CREATED:20230126T104537Z
LAST-MODIFIED:20230326T052921Z
UID:10006723-1678557600-1678557600@www.bcmagazine.net
SUMMARY:ITZY - Checkmate
DESCRIPTION:ITZY – Checkmate – Live in Hong Kong\nDate: 6pm\, 11 March\, 2023\nVenue: AsiaWorld-Expo\, Hall 5&7\nTickets: $1\,799\, $1\,099\, $699 from Cityline
URL:https://www.bcmagazine.net/event/itzy-checkmate-2023/2023-03-11/
LOCATION:AsiaWorld-Expo\, Cheong Wing Road\, Chek Lap Kok\, Lantau\, Hong Kong
CATEGORIES:2023,Concert,Kpop,Music,Nightlife,Performing Arts
ATTACH;FMTTYPE=image/jpeg:https://www.bcmagazine.net/wp-content/uploads/2022/06/ITZY-1stWORLDTOUR-HONG-KONG-s.jpg
GEO:22.3217383;113.9402012
X-APPLE-STRUCTURED-LOCATION;VALUE=URI;X-ADDRESS=AsiaWorld-Expo Cheong Wing Road Chek Lap Kok Lantau Hong Kong;X-APPLE-RADIUS=500;X-TITLE=Cheong Wing Road\, Chek Lap Kok:geo:113.9402012,22.3217383
END:VEVENT
BEGIN:VEVENT
DTSTART;TZID=Asia/Hong_Kong:20230312T180000
DTEND;TZID=Asia/Hong_Kong:20230312T180000
DTSTAMP:20260421T215032
CREATED:20230126T104537Z
LAST-MODIFIED:20230326T052921Z
UID:10006791-1678644000-1678644000@www.bcmagazine.net
SUMMARY:ITZY - Checkmate
DESCRIPTION:ITZY – Checkmate – Live in Hong Kong\nDate: 6pm\, 11 March\, 2023\nVenue: AsiaWorld-Expo\, Hall 5&7\nTickets: $1\,799\, $1\,099\, $699 from Cityline
URL:https://www.bcmagazine.net/event/itzy-checkmate-2023/2023-03-12/
LOCATION:AsiaWorld-Expo\, Cheong Wing Road\, Chek Lap Kok\, Lantau\, Hong Kong
CATEGORIES:2023,Concert,Kpop,Music,Nightlife,Performing Arts
ATTACH;FMTTYPE=image/jpeg:https://www.bcmagazine.net/wp-content/uploads/2022/06/ITZY-1stWORLDTOUR-HONG-KONG-s.jpg
GEO:22.3217383;113.9402012
X-APPLE-STRUCTURED-LOCATION;VALUE=URI;X-ADDRESS=AsiaWorld-Expo Cheong Wing Road Chek Lap Kok Lantau Hong Kong;X-APPLE-RADIUS=500;X-TITLE=Cheong Wing Road\, Chek Lap Kok:geo:113.9402012,22.3217383
END:VEVENT
BEGIN:VEVENT
DTSTART;TZID=Asia/Hong_Kong:20230314T200000
DTEND;TZID=Asia/Hong_Kong:20230314T200000
DTSTAMP:20260421T215032
CREATED:19150311T120718Z
LAST-MODIFIED:20230223T220434Z
UID:10006731-1678824000-1678824000@www.bcmagazine.net
SUMMARY:Backstreet Boys DNA World Tour
DESCRIPTION:Backstreet Boys – DNA World Tour\nWhen: 8pm\, 14-15 March\, 2023\nWhere: AsiaWorld Arena\nTickets: $1\,199\, $899\, $699\, $599 from HK Ticketing
URL:https://www.bcmagazine.net/event/backstreet-boys-dna-world-tour/2023-03-14/
LOCATION:AsiaWorld Expo\, Arena\, Hong Kong
CATEGORIES:Concert,Music,Nightlife
ATTACH;FMTTYPE=image/jpeg:https://www.bcmagazine.net/wp-content/uploads/2015/03/Backstreet-Boys-DNA-World-Tour-2023.jpeg
END:VEVENT
BEGIN:VEVENT
DTSTART;TZID=Asia/Hong_Kong:20230315T200000
DTEND;TZID=Asia/Hong_Kong:20230315T200000
DTSTAMP:20260421T215032
CREATED:19150311T120718Z
LAST-MODIFIED:20230223T220434Z
UID:10006767-1678910400-1678910400@www.bcmagazine.net
SUMMARY:Backstreet Boys DNA World Tour
DESCRIPTION:Backstreet Boys – DNA World Tour\nWhen: 8pm\, 14-15 March\, 2023\nWhere: AsiaWorld Arena\nTickets: $1\,199\, $899\, $699\, $599 from HK Ticketing
URL:https://www.bcmagazine.net/event/backstreet-boys-dna-world-tour/2023-03-15/
LOCATION:AsiaWorld Expo\, Arena\, Hong Kong
CATEGORIES:Concert,Music,Nightlife
ATTACH;FMTTYPE=image/jpeg:https://www.bcmagazine.net/wp-content/uploads/2015/03/Backstreet-Boys-DNA-World-Tour-2023.jpeg
END:VEVENT
BEGIN:VEVENT
DTSTART;TZID=Asia/Hong_Kong:20230315T200000
DTEND;TZID=Asia/Hong_Kong:20230315T200000
DTSTAMP:20260421T215032
CREATED:20230215T024537Z
LAST-MODIFIED:20230217T210654Z
UID:10006726-1678910400-1678910400@www.bcmagazine.net
SUMMARY:Comeback Kid
DESCRIPTION:Comeback Kid Asia Tour 2023\nSupport: King Ly Chee 荔枝王\, Fight Club\nDate: 8pm\, 15 March\, 2023\nVenue: MOM Livehouse\nTickets: $380\, $320
URL:https://www.bcmagazine.net/event/comeback-kid-2023/
LOCATION:MOM Livehouse\, B39 Seven Seas Shopping Centre\, 117-121 Kings Road\, North Point\, Hong Kong
CATEGORIES:2023,Concert,Music,Nightlife,Performing Arts
ATTACH;FMTTYPE=image/jpeg:https://www.bcmagazine.net/wp-content/uploads/2021/12/comeback-kid-2023-Hong-Kong-1.jpeg
GEO:22.2884683;114.192803
X-APPLE-STRUCTURED-LOCATION;VALUE=URI;X-ADDRESS=MOM Livehouse B39 Seven Seas Shopping Centre 117-121 Kings Road North Point Hong Kong;X-APPLE-RADIUS=500;X-TITLE=B39 Seven Seas Shopping Centre\, 117-121 Kings Road:geo:114.192803,22.2884683
END:VEVENT
BEGIN:VEVENT
DTSTART;TZID=Asia/Hong_Kong:20230317T190000
DTEND;TZID=Asia/Hong_Kong:20230317T190000
DTSTAMP:20260421T215033
CREATED:20150503T053525Z
LAST-MODIFIED:20230223T204008Z
UID:10006744-1679079600-1679079600@www.bcmagazine.net
SUMMARY:JJ Lin
DESCRIPTION:JJ Lin –  JJ20 World Tour\nDate: 7pm\, 17-19\, 24-26 March\, 2023\nVenue: Central Harbourfront Event Space\nTickets: $1\,380\, $1\,080\, $880\, $580
URL:https://www.bcmagazine.net/event/jj-lin-jj20-2023/2023-03-17/
LOCATION:Central Harbourfront\,  9 Lung Wo Road\, Central\, Hong Kong
CATEGORIES:2023,Concert,concert,Music,Nightlife,Performing Arts
ATTACH;FMTTYPE=image/jpeg:https://www.bcmagazine.net/wp-content/uploads/2015/05/jj-lin-2023-jj20.jpeg
GEO:22.2826223;114.164346
X-APPLE-STRUCTURED-LOCATION;VALUE=URI;X-ADDRESS=Central Harbourfront  9 Lung Wo Road Central Hong Kong;X-APPLE-RADIUS=500;X-TITLE=9 Lung Wo Road:geo:114.164346,22.2826223
END:VEVENT
BEGIN:VEVENT
DTSTART;TZID=Asia/Hong_Kong:20230318T190000
DTEND;TZID=Asia/Hong_Kong:20230318T190000
DTSTAMP:20260421T215033
CREATED:20150503T053525Z
LAST-MODIFIED:20230223T204008Z
UID:10006745-1679166000-1679166000@www.bcmagazine.net
SUMMARY:JJ Lin
DESCRIPTION:JJ Lin –  JJ20 World Tour\nDate: 7pm\, 17-19\, 24-26 March\, 2023\nVenue: Central Harbourfront Event Space\nTickets: $1\,380\, $1\,080\, $880\, $580
URL:https://www.bcmagazine.net/event/jj-lin-jj20-2023/2023-03-18/
LOCATION:Central Harbourfront\,  9 Lung Wo Road\, Central\, Hong Kong
CATEGORIES:2023,Concert,concert,Music,Nightlife,Performing Arts
ATTACH;FMTTYPE=image/jpeg:https://www.bcmagazine.net/wp-content/uploads/2015/05/jj-lin-2023-jj20.jpeg
GEO:22.2826223;114.164346
X-APPLE-STRUCTURED-LOCATION;VALUE=URI;X-ADDRESS=Central Harbourfront  9 Lung Wo Road Central Hong Kong;X-APPLE-RADIUS=500;X-TITLE=9 Lung Wo Road:geo:114.164346,22.2826223
END:VEVENT
BEGIN:VEVENT
DTSTART;TZID=Asia/Hong_Kong:20230319T190000
DTEND;TZID=Asia/Hong_Kong:20230319T190000
DTSTAMP:20260421T215033
CREATED:20150503T053525Z
LAST-MODIFIED:20230223T204008Z
UID:10006746-1679252400-1679252400@www.bcmagazine.net
SUMMARY:JJ Lin
DESCRIPTION:JJ Lin –  JJ20 World Tour\nDate: 7pm\, 17-19\, 24-26 March\, 2023\nVenue: Central Harbourfront Event Space\nTickets: $1\,380\, $1\,080\, $880\, $580
URL:https://www.bcmagazine.net/event/jj-lin-jj20-2023/2023-03-19/
LOCATION:Central Harbourfront\,  9 Lung Wo Road\, Central\, Hong Kong
CATEGORIES:2023,Concert,concert,Music,Nightlife,Performing Arts
ATTACH;FMTTYPE=image/jpeg:https://www.bcmagazine.net/wp-content/uploads/2015/05/jj-lin-2023-jj20.jpeg
GEO:22.2826223;114.164346
X-APPLE-STRUCTURED-LOCATION;VALUE=URI;X-ADDRESS=Central Harbourfront  9 Lung Wo Road Central Hong Kong;X-APPLE-RADIUS=500;X-TITLE=9 Lung Wo Road:geo:114.164346,22.2826223
END:VEVENT
BEGIN:VEVENT
DTSTART;TZID=Asia/Hong_Kong:20230324T190000
DTEND;TZID=Asia/Hong_Kong:20230324T190000
DTSTAMP:20260421T215033
CREATED:20150503T053525Z
LAST-MODIFIED:20230223T204008Z
UID:10006747-1679684400-1679684400@www.bcmagazine.net
SUMMARY:JJ Lin
DESCRIPTION:JJ Lin –  JJ20 World Tour\nDate: 7pm\, 17-19\, 24-26 March\, 2023\nVenue: Central Harbourfront Event Space\nTickets: $1\,380\, $1\,080\, $880\, $580
URL:https://www.bcmagazine.net/event/jj-lin-jj20-2023/2023-03-24/
LOCATION:Central Harbourfront\,  9 Lung Wo Road\, Central\, Hong Kong
CATEGORIES:2023,Concert,concert,Music,Nightlife,Performing Arts
ATTACH;FMTTYPE=image/jpeg:https://www.bcmagazine.net/wp-content/uploads/2015/05/jj-lin-2023-jj20.jpeg
GEO:22.2826223;114.164346
X-APPLE-STRUCTURED-LOCATION;VALUE=URI;X-ADDRESS=Central Harbourfront  9 Lung Wo Road Central Hong Kong;X-APPLE-RADIUS=500;X-TITLE=9 Lung Wo Road:geo:114.164346,22.2826223
END:VEVENT
BEGIN:VEVENT
DTSTART;TZID=Asia/Hong_Kong:20230325T190000
DTEND;TZID=Asia/Hong_Kong:20230325T190000
DTSTAMP:20260421T215033
CREATED:20150503T053525Z
LAST-MODIFIED:20230223T204008Z
UID:10006748-1679770800-1679770800@www.bcmagazine.net
SUMMARY:JJ Lin
DESCRIPTION:JJ Lin –  JJ20 World Tour\nDate: 7pm\, 17-19\, 24-26 March\, 2023\nVenue: Central Harbourfront Event Space\nTickets: $1\,380\, $1\,080\, $880\, $580
URL:https://www.bcmagazine.net/event/jj-lin-jj20-2023/2023-03-25/
LOCATION:Central Harbourfront\,  9 Lung Wo Road\, Central\, Hong Kong
CATEGORIES:2023,Concert,concert,Music,Nightlife,Performing Arts
ATTACH;FMTTYPE=image/jpeg:https://www.bcmagazine.net/wp-content/uploads/2015/05/jj-lin-2023-jj20.jpeg
GEO:22.2826223;114.164346
X-APPLE-STRUCTURED-LOCATION;VALUE=URI;X-ADDRESS=Central Harbourfront  9 Lung Wo Road Central Hong Kong;X-APPLE-RADIUS=500;X-TITLE=9 Lung Wo Road:geo:114.164346,22.2826223
END:VEVENT
BEGIN:VEVENT
DTSTART;TZID=Asia/Hong_Kong:20230326T190000
DTEND;TZID=Asia/Hong_Kong:20230326T190000
DTSTAMP:20260421T215033
CREATED:20150503T053525Z
LAST-MODIFIED:20230223T204008Z
UID:10006749-1679857200-1679857200@www.bcmagazine.net
SUMMARY:JJ Lin
DESCRIPTION:JJ Lin –  JJ20 World Tour\nDate: 7pm\, 17-19\, 24-26 March\, 2023\nVenue: Central Harbourfront Event Space\nTickets: $1\,380\, $1\,080\, $880\, $580
URL:https://www.bcmagazine.net/event/jj-lin-jj20-2023/2023-03-26/
LOCATION:Central Harbourfront\,  9 Lung Wo Road\, Central\, Hong Kong
CATEGORIES:2023,Concert,concert,Music,Nightlife,Performing Arts
ATTACH;FMTTYPE=image/jpeg:https://www.bcmagazine.net/wp-content/uploads/2015/05/jj-lin-2023-jj20.jpeg
GEO:22.2826223;114.164346
X-APPLE-STRUCTURED-LOCATION;VALUE=URI;X-ADDRESS=Central Harbourfront  9 Lung Wo Road Central Hong Kong;X-APPLE-RADIUS=500;X-TITLE=9 Lung Wo Road:geo:114.164346,22.2826223
END:VEVENT
END:VCALENDAR