BEGIN:VCALENDAR
VERSION:2.0
PRODID:-//bc magazine - ECPv6.15.20//NONSGML v1.0//EN
CALSCALE:GREGORIAN
METHOD:PUBLISH
X-WR-CALNAME:bc magazine
X-ORIGINAL-URL:https://www.bcmagazine.net
X-WR-CALDESC:Events for bc magazine
REFRESH-INTERVAL;VALUE=DURATION:PT1H
X-Robots-Tag:noindex
X-PUBLISHED-TTL:PT1H
BEGIN:VTIMEZONE
TZID:Asia/Hong_Kong
BEGIN:STANDARD
TZOFFSETFROM:+0800
TZOFFSETTO:+0800
TZNAME:HKT
DTSTART:20240101T000000
END:STANDARD
END:VTIMEZONE
BEGIN:VEVENT
DTSTART;TZID=Asia/Hong_Kong:20251227T180000
DTEND;TZID=Asia/Hong_Kong:20251227T180000
DTSTAMP:20260424T174233
CREATED:20251210T044212Z
LAST-MODIFIED:20260108T164128Z
UID:10012203-1766858400-1766858400@www.bcmagazine.net
SUMMARY:Festilumi
DESCRIPTION:Festilumi Hong Kong 2025\nDate: 12 December 2025 – 24 January 2026\nVenue: Wanchai Harbourfront Event Space\nTickets: $508\, $278\, $168
URL:https://www.bcmagazine.net/event/festilumi-hong-kong-2025/2025-12-27/
LOCATION:WanChai Harbourfront Event Space\, 3 Hung Hing Road\, Wanchai\, Hong Kong
CATEGORIES:2025,2026,Exhibition,Lifestyle,Music,Nightlife
ATTACH;FMTTYPE=image/jpeg:https://www.bcmagazine.net/wp-content/uploads/2025/12/572095663_122105167311066348_5232692940820819710_n.jpg
END:VEVENT
BEGIN:VEVENT
DTSTART;TZID=Asia/Hong_Kong:20251226T180000
DTEND;TZID=Asia/Hong_Kong:20251226T180000
DTSTAMP:20260424T174234
CREATED:20251210T044212Z
LAST-MODIFIED:20260108T164128Z
UID:10012202-1766772000-1766772000@www.bcmagazine.net
SUMMARY:Festilumi
DESCRIPTION:Festilumi Hong Kong 2025\nDate: 12 December 2025 – 24 January 2026\nVenue: Wanchai Harbourfront Event Space\nTickets: $508\, $278\, $168
URL:https://www.bcmagazine.net/event/festilumi-hong-kong-2025/2025-12-26/
LOCATION:WanChai Harbourfront Event Space\, 3 Hung Hing Road\, Wanchai\, Hong Kong
CATEGORIES:2025,2026,Exhibition,Lifestyle,Music,Nightlife
ATTACH;FMTTYPE=image/jpeg:https://www.bcmagazine.net/wp-content/uploads/2025/12/572095663_122105167311066348_5232692940820819710_n.jpg
END:VEVENT
BEGIN:VEVENT
DTSTART;TZID=Asia/Hong_Kong:20251225T180000
DTEND;TZID=Asia/Hong_Kong:20251225T180000
DTSTAMP:20260424T174234
CREATED:20251210T044212Z
LAST-MODIFIED:20260108T164128Z
UID:10012201-1766685600-1766685600@www.bcmagazine.net
SUMMARY:Festilumi
DESCRIPTION:Festilumi Hong Kong 2025\nDate: 12 December 2025 – 24 January 2026\nVenue: Wanchai Harbourfront Event Space\nTickets: $508\, $278\, $168
URL:https://www.bcmagazine.net/event/festilumi-hong-kong-2025/2025-12-25/
LOCATION:WanChai Harbourfront Event Space\, 3 Hung Hing Road\, Wanchai\, Hong Kong
CATEGORIES:2025,2026,Exhibition,Lifestyle,Music,Nightlife
ATTACH;FMTTYPE=image/jpeg:https://www.bcmagazine.net/wp-content/uploads/2025/12/572095663_122105167311066348_5232692940820819710_n.jpg
END:VEVENT
BEGIN:VEVENT
DTSTART;TZID=Asia/Hong_Kong:20251224T180000
DTEND;TZID=Asia/Hong_Kong:20251224T180000
DTSTAMP:20260424T174234
CREATED:20251210T044212Z
LAST-MODIFIED:20260108T164128Z
UID:10012200-1766599200-1766599200@www.bcmagazine.net
SUMMARY:Festilumi
DESCRIPTION:Festilumi Hong Kong 2025\nDate: 12 December 2025 – 24 January 2026\nVenue: Wanchai Harbourfront Event Space\nTickets: $508\, $278\, $168
URL:https://www.bcmagazine.net/event/festilumi-hong-kong-2025/2025-12-24/
LOCATION:WanChai Harbourfront Event Space\, 3 Hung Hing Road\, Wanchai\, Hong Kong
CATEGORIES:2025,2026,Exhibition,Lifestyle,Music,Nightlife
ATTACH;FMTTYPE=image/jpeg:https://www.bcmagazine.net/wp-content/uploads/2025/12/572095663_122105167311066348_5232692940820819710_n.jpg
END:VEVENT
BEGIN:VEVENT
DTSTART;TZID=Asia/Hong_Kong:20251223T180000
DTEND;TZID=Asia/Hong_Kong:20251223T180000
DTSTAMP:20260424T174234
CREATED:20251210T044212Z
LAST-MODIFIED:20260108T164128Z
UID:10012199-1766512800-1766512800@www.bcmagazine.net
SUMMARY:Festilumi
DESCRIPTION:Festilumi Hong Kong 2025\nDate: 12 December 2025 – 24 January 2026\nVenue: Wanchai Harbourfront Event Space\nTickets: $508\, $278\, $168
URL:https://www.bcmagazine.net/event/festilumi-hong-kong-2025/2025-12-23/
LOCATION:WanChai Harbourfront Event Space\, 3 Hung Hing Road\, Wanchai\, Hong Kong
CATEGORIES:2025,2026,Exhibition,Lifestyle,Music,Nightlife
ATTACH;FMTTYPE=image/jpeg:https://www.bcmagazine.net/wp-content/uploads/2025/12/572095663_122105167311066348_5232692940820819710_n.jpg
END:VEVENT
BEGIN:VEVENT
DTSTART;TZID=Asia/Hong_Kong:20251222T180000
DTEND;TZID=Asia/Hong_Kong:20251222T180000
DTSTAMP:20260424T174234
CREATED:20251210T044212Z
LAST-MODIFIED:20260108T164128Z
UID:10012198-1766426400-1766426400@www.bcmagazine.net
SUMMARY:Festilumi
DESCRIPTION:Festilumi Hong Kong 2025\nDate: 12 December 2025 – 24 January 2026\nVenue: Wanchai Harbourfront Event Space\nTickets: $508\, $278\, $168
URL:https://www.bcmagazine.net/event/festilumi-hong-kong-2025/2025-12-22/
LOCATION:WanChai Harbourfront Event Space\, 3 Hung Hing Road\, Wanchai\, Hong Kong
CATEGORIES:2025,2026,Exhibition,Lifestyle,Music,Nightlife
ATTACH;FMTTYPE=image/jpeg:https://www.bcmagazine.net/wp-content/uploads/2025/12/572095663_122105167311066348_5232692940820819710_n.jpg
END:VEVENT
BEGIN:VEVENT
DTSTART;VALUE=DATE:20251222
DTEND;VALUE=DATE:20260302
DTSTAMP:20260424T174234
CREATED:20251207T072433Z
LAST-MODIFIED:20251210T084849Z
UID:10012178-1766361600-1772409599@www.bcmagazine.net
SUMMARY:Christmas Carnival
DESCRIPTION:Christmas Carnival\nDate: 22 December 2025 – 1 March 2026\nVenue: Central Harbourfront\nTickets: $160\, $150\, $140
URL:https://www.bcmagazine.net/event/christmas-carnival-2026/
LOCATION:Central Harbourfront\,  9 Lung Wo Road\, Central\, Hong Kong
CATEGORIES:2025,2026,Music,Nightlife,Other,Performing Arts
ATTACH;FMTTYPE=image/jpeg:https://www.bcmagazine.net/wp-content/uploads/1918/11/carnival-2019.jpg
GEO:22.2826223;114.164346
X-APPLE-STRUCTURED-LOCATION;VALUE=URI;X-ADDRESS=Central Harbourfront  9 Lung Wo Road Central Hong Kong;X-APPLE-RADIUS=500;X-TITLE=9 Lung Wo Road:geo:114.164346,22.2826223
END:VEVENT
BEGIN:VEVENT
DTSTART;TZID=Asia/Hong_Kong:20251221T180000
DTEND;TZID=Asia/Hong_Kong:20251221T180000
DTSTAMP:20260424T174234
CREATED:20251210T044212Z
LAST-MODIFIED:20260108T164128Z
UID:10012197-1766340000-1766340000@www.bcmagazine.net
SUMMARY:Festilumi
DESCRIPTION:Festilumi Hong Kong 2025\nDate: 12 December 2025 – 24 January 2026\nVenue: Wanchai Harbourfront Event Space\nTickets: $508\, $278\, $168
URL:https://www.bcmagazine.net/event/festilumi-hong-kong-2025/2025-12-21/
LOCATION:WanChai Harbourfront Event Space\, 3 Hung Hing Road\, Wanchai\, Hong Kong
CATEGORIES:2025,2026,Exhibition,Lifestyle,Music,Nightlife
ATTACH;FMTTYPE=image/jpeg:https://www.bcmagazine.net/wp-content/uploads/2025/12/572095663_122105167311066348_5232692940820819710_n.jpg
END:VEVENT
BEGIN:VEVENT
DTSTART;TZID=Asia/Hong_Kong:20251220T180000
DTEND;TZID=Asia/Hong_Kong:20251220T180000
DTSTAMP:20260424T174234
CREATED:20251210T044212Z
LAST-MODIFIED:20260108T164128Z
UID:10012196-1766253600-1766253600@www.bcmagazine.net
SUMMARY:Festilumi
DESCRIPTION:Festilumi Hong Kong 2025\nDate: 12 December 2025 – 24 January 2026\nVenue: Wanchai Harbourfront Event Space\nTickets: $508\, $278\, $168
URL:https://www.bcmagazine.net/event/festilumi-hong-kong-2025/2025-12-20/
LOCATION:WanChai Harbourfront Event Space\, 3 Hung Hing Road\, Wanchai\, Hong Kong
CATEGORIES:2025,2026,Exhibition,Lifestyle,Music,Nightlife
ATTACH;FMTTYPE=image/jpeg:https://www.bcmagazine.net/wp-content/uploads/2025/12/572095663_122105167311066348_5232692940820819710_n.jpg
END:VEVENT
BEGIN:VEVENT
DTSTART;TZID=Asia/Hong_Kong:20251219T180000
DTEND;TZID=Asia/Hong_Kong:20251219T180000
DTSTAMP:20260424T174234
CREATED:20251210T044212Z
LAST-MODIFIED:20260108T164128Z
UID:10012195-1766167200-1766167200@www.bcmagazine.net
SUMMARY:Festilumi
DESCRIPTION:Festilumi Hong Kong 2025\nDate: 12 December 2025 – 24 January 2026\nVenue: Wanchai Harbourfront Event Space\nTickets: $508\, $278\, $168
URL:https://www.bcmagazine.net/event/festilumi-hong-kong-2025/2025-12-19/
LOCATION:WanChai Harbourfront Event Space\, 3 Hung Hing Road\, Wanchai\, Hong Kong
CATEGORIES:2025,2026,Exhibition,Lifestyle,Music,Nightlife
ATTACH;FMTTYPE=image/jpeg:https://www.bcmagazine.net/wp-content/uploads/2025/12/572095663_122105167311066348_5232692940820819710_n.jpg
END:VEVENT
BEGIN:VEVENT
DTSTART;TZID=Asia/Hong_Kong:20251218T180000
DTEND;TZID=Asia/Hong_Kong:20251218T180000
DTSTAMP:20260424T174234
CREATED:20251210T044212Z
LAST-MODIFIED:20260108T164128Z
UID:10012194-1766080800-1766080800@www.bcmagazine.net
SUMMARY:Festilumi
DESCRIPTION:Festilumi Hong Kong 2025\nDate: 12 December 2025 – 24 January 2026\nVenue: Wanchai Harbourfront Event Space\nTickets: $508\, $278\, $168
URL:https://www.bcmagazine.net/event/festilumi-hong-kong-2025/2025-12-18/
LOCATION:WanChai Harbourfront Event Space\, 3 Hung Hing Road\, Wanchai\, Hong Kong
CATEGORIES:2025,2026,Exhibition,Lifestyle,Music,Nightlife
ATTACH;FMTTYPE=image/jpeg:https://www.bcmagazine.net/wp-content/uploads/2025/12/572095663_122105167311066348_5232692940820819710_n.jpg
END:VEVENT
BEGIN:VEVENT
DTSTART;TZID=Asia/Hong_Kong:20251217T180000
DTEND;TZID=Asia/Hong_Kong:20251217T180000
DTSTAMP:20260424T174234
CREATED:20251210T044212Z
LAST-MODIFIED:20260108T164128Z
UID:10012193-1765994400-1765994400@www.bcmagazine.net
SUMMARY:Festilumi
DESCRIPTION:Festilumi Hong Kong 2025\nDate: 12 December 2025 – 24 January 2026\nVenue: Wanchai Harbourfront Event Space\nTickets: $508\, $278\, $168
URL:https://www.bcmagazine.net/event/festilumi-hong-kong-2025/2025-12-17/
LOCATION:WanChai Harbourfront Event Space\, 3 Hung Hing Road\, Wanchai\, Hong Kong
CATEGORIES:2025,2026,Exhibition,Lifestyle,Music,Nightlife
ATTACH;FMTTYPE=image/jpeg:https://www.bcmagazine.net/wp-content/uploads/2025/12/572095663_122105167311066348_5232692940820819710_n.jpg
END:VEVENT
BEGIN:VEVENT
DTSTART;TZID=Asia/Hong_Kong:20251216T180000
DTEND;TZID=Asia/Hong_Kong:20251216T180000
DTSTAMP:20260424T174234
CREATED:20251210T044212Z
LAST-MODIFIED:20260108T164128Z
UID:10012192-1765908000-1765908000@www.bcmagazine.net
SUMMARY:Festilumi
DESCRIPTION:Festilumi Hong Kong 2025\nDate: 12 December 2025 – 24 January 2026\nVenue: Wanchai Harbourfront Event Space\nTickets: $508\, $278\, $168
URL:https://www.bcmagazine.net/event/festilumi-hong-kong-2025/2025-12-16/
LOCATION:WanChai Harbourfront Event Space\, 3 Hung Hing Road\, Wanchai\, Hong Kong
CATEGORIES:2025,2026,Exhibition,Lifestyle,Music,Nightlife
ATTACH;FMTTYPE=image/jpeg:https://www.bcmagazine.net/wp-content/uploads/2025/12/572095663_122105167311066348_5232692940820819710_n.jpg
END:VEVENT
BEGIN:VEVENT
DTSTART;TZID=Asia/Hong_Kong:20251215T200000
DTEND;TZID=Asia/Hong_Kong:20251215T200000
DTSTAMP:20260424T174234
CREATED:20250918T034537Z
LAST-MODIFIED:20250925T111236Z
UID:10011409-1765828800-1765828800@www.bcmagazine.net
SUMMARY:Black Country\, New Road
DESCRIPTION:Black Country\, New Road\nDate: 8pm\, 15 December 2025\nVenue: The Box\, Freespace\, WestK\nTickets: $490
URL:https://www.bcmagazine.net/event/black-country-new-road-2025/
LOCATION:West Kowloon Cultural District\, Freespace\, The Box\, West Kowloon\, Hong Kong
CATEGORIES:2025,Concert,Music,Nightlife,Performing Arts
ATTACH;FMTTYPE=image/jpeg:https://www.bcmagazine.net/wp-content/uploads/2025/09/Black-Country-New-Road-2025-HK.jpeg
END:VEVENT
BEGIN:VEVENT
DTSTART;TZID=Asia/Hong_Kong:20251215T180000
DTEND;TZID=Asia/Hong_Kong:20251215T180000
DTSTAMP:20260424T174234
CREATED:20251210T044212Z
LAST-MODIFIED:20260108T164128Z
UID:10012191-1765821600-1765821600@www.bcmagazine.net
SUMMARY:Festilumi
DESCRIPTION:Festilumi Hong Kong 2025\nDate: 12 December 2025 – 24 January 2026\nVenue: Wanchai Harbourfront Event Space\nTickets: $508\, $278\, $168
URL:https://www.bcmagazine.net/event/festilumi-hong-kong-2025/2025-12-15/
LOCATION:WanChai Harbourfront Event Space\, 3 Hung Hing Road\, Wanchai\, Hong Kong
CATEGORIES:2025,2026,Exhibition,Lifestyle,Music,Nightlife
ATTACH;FMTTYPE=image/jpeg:https://www.bcmagazine.net/wp-content/uploads/2025/12/572095663_122105167311066348_5232692940820819710_n.jpg
END:VEVENT
BEGIN:VEVENT
DTSTART;TZID=Asia/Hong_Kong:20251214T180000
DTEND;TZID=Asia/Hong_Kong:20251214T180000
DTSTAMP:20260424T174234
CREATED:20251210T044212Z
LAST-MODIFIED:20260108T164128Z
UID:10012190-1765735200-1765735200@www.bcmagazine.net
SUMMARY:Festilumi
DESCRIPTION:Festilumi Hong Kong 2025\nDate: 12 December 2025 – 24 January 2026\nVenue: Wanchai Harbourfront Event Space\nTickets: $508\, $278\, $168
URL:https://www.bcmagazine.net/event/festilumi-hong-kong-2025/2025-12-14/
LOCATION:WanChai Harbourfront Event Space\, 3 Hung Hing Road\, Wanchai\, Hong Kong
CATEGORIES:2025,2026,Exhibition,Lifestyle,Music,Nightlife
ATTACH;FMTTYPE=image/jpeg:https://www.bcmagazine.net/wp-content/uploads/2025/12/572095663_122105167311066348_5232692940820819710_n.jpg
END:VEVENT
BEGIN:VEVENT
DTSTART;TZID=Asia/Hong_Kong:20251213T200000
DTEND;TZID=Asia/Hong_Kong:20251213T200000
DTSTAMP:20260424T174234
CREATED:20251112T024537Z
LAST-MODIFIED:20251113T135834Z
UID:10011794-1765656000-1765656000@www.bcmagazine.net
SUMMARY:Chestnut Bakery
DESCRIPTION:Chestnut Bakery Winter Adventure 2025 Hong Kong\nDate: 8pm\, 13 December 2025\nVenue: MOM Livehouse\nTickets: $380 tickets here
URL:https://www.bcmagazine.net/event/chestnut-bakery-hong-kong-2025/
LOCATION:MOM Livehouse\, B39 Seven Seas Shopping Centre\, 117-121 Kings Road\, North Point\, Hong Kong
CATEGORIES:2025,Concert,Music,Nightlife,Performing Arts
ATTACH;FMTTYPE=image/png:https://www.bcmagazine.net/wp-content/uploads/2025/11/chestnut-bakery-hong-kong-2025.png
GEO:22.2884683;114.192803
X-APPLE-STRUCTURED-LOCATION;VALUE=URI;X-ADDRESS=MOM Livehouse B39 Seven Seas Shopping Centre 117-121 Kings Road North Point Hong Kong;X-APPLE-RADIUS=500;X-TITLE=B39 Seven Seas Shopping Centre\, 117-121 Kings Road:geo:114.192803,22.2884683
END:VEVENT
BEGIN:VEVENT
DTSTART;TZID=Asia/Hong_Kong:20251213T180000
DTEND;TZID=Asia/Hong_Kong:20251213T180000
DTSTAMP:20260424T174234
CREATED:20251210T044212Z
LAST-MODIFIED:20260108T164128Z
UID:10012189-1765648800-1765648800@www.bcmagazine.net
SUMMARY:Festilumi
DESCRIPTION:Festilumi Hong Kong 2025\nDate: 12 December 2025 – 24 January 2026\nVenue: Wanchai Harbourfront Event Space\nTickets: $508\, $278\, $168
URL:https://www.bcmagazine.net/event/festilumi-hong-kong-2025/2025-12-13/
LOCATION:WanChai Harbourfront Event Space\, 3 Hung Hing Road\, Wanchai\, Hong Kong
CATEGORIES:2025,2026,Exhibition,Lifestyle,Music,Nightlife
ATTACH;FMTTYPE=image/jpeg:https://www.bcmagazine.net/wp-content/uploads/2025/12/572095663_122105167311066348_5232692940820819710_n.jpg
END:VEVENT
BEGIN:VEVENT
DTSTART;VALUE=DATE:20251213
DTEND;VALUE=DATE:20251215
DTSTAMP:20260424T174234
CREATED:20251212T072433Z
LAST-MODIFIED:20251212T150053Z
UID:10012597-1765584000-1765756799@www.bcmagazine.net
SUMMARY:Lamma Island Beer Festival
DESCRIPTION:Lamma Island Beer Festival 2025\nDate: 13-14 December 2025\nVenue: Power Station Beach\, Yung Shue Wan\nTickets: $150
URL:https://www.bcmagazine.net/event/lamma-island-beer-festival-2025/
LOCATION:Power Station Beach\, Lamma\, Hong Kong
CATEGORIES:2025,Food,Lifestyle,Music,Nightlife
ATTACH;FMTTYPE=image/jpeg:https://www.bcmagazine.net/wp-content/uploads/2025/12/Lamma-Island-Beer-Festival-2025.jpg
GEO:22.396428;114.109497
END:VEVENT
BEGIN:VEVENT
DTSTART;TZID=Asia/Hong_Kong:20251212T180000
DTEND;TZID=Asia/Hong_Kong:20251212T180000
DTSTAMP:20260424T174234
CREATED:20251210T044212Z
LAST-MODIFIED:20260108T164128Z
UID:10012188-1765562400-1765562400@www.bcmagazine.net
SUMMARY:Festilumi
DESCRIPTION:Festilumi Hong Kong 2025\nDate: 12 December 2025 – 24 January 2026\nVenue: Wanchai Harbourfront Event Space\nTickets: $508\, $278\, $168
URL:https://www.bcmagazine.net/event/festilumi-hong-kong-2025/2025-12-12/
LOCATION:WanChai Harbourfront Event Space\, 3 Hung Hing Road\, Wanchai\, Hong Kong
CATEGORIES:2025,2026,Exhibition,Lifestyle,Music,Nightlife
ATTACH;FMTTYPE=image/jpeg:https://www.bcmagazine.net/wp-content/uploads/2025/12/572095663_122105167311066348_5232692940820819710_n.jpg
END:VEVENT
BEGIN:VEVENT
DTSTART;VALUE=DATE:20251210
DTEND;VALUE=DATE:20251215
DTSTAMP:20260424T174234
CREATED:20251115T024537Z
LAST-MODIFIED:20251118T094940Z
UID:10011797-1765324800-1765756799@www.bcmagazine.net
SUMMARY:WTT Finals
DESCRIPTION:WTT Finals\nDate: 10-14 December 2025\nVenue: HK Coliseum\nTickets: $2\,200\, $1\,500\, $1\,350\, $1\,180\, $850\, $750\, $640\, $530\, $430\, $320 from Urbtix
URL:https://www.bcmagazine.net/event/wtt-finals-hong-kong-2025/
LOCATION:HK Coliseum\, 9 Cheong Wan Road\, Hung Hom\, Hong Kong
CATEGORIES:2025,Nightlife,Sport,Table Tennis
ATTACH;FMTTYPE=image/jpeg:https://www.bcmagazine.net/wp-content/uploads/2025/11/wtt-hong-kong-2025.jpg
GEO:22.3014169;114.1820305
X-APPLE-STRUCTURED-LOCATION;VALUE=URI;X-ADDRESS=HK Coliseum 9 Cheong Wan Road Hung Hom Hong Kong;X-APPLE-RADIUS=500;X-TITLE=9 Cheong Wan Road:geo:114.1820305,22.3014169
END:VEVENT
BEGIN:VEVENT
DTSTART;TZID=Asia/Hong_Kong:20251126T200000
DTEND;TZID=Asia/Hong_Kong:20251126T200000
DTSTAMP:20260424T174234
CREATED:20251102T024537Z
LAST-MODIFIED:20251113T140421Z
UID:10011795-1764187200-1764187200@www.bcmagazine.net
SUMMARY:Zoogazer
DESCRIPTION:Zoogazer\nDate: 8pm\, 26 November 2025\nVenue: MOM Livehouse\nTickets: $380 tickets here
URL:https://www.bcmagazine.net/event/zoogazer-hong-kong-2025/
LOCATION:MOM Livehouse\, B39 Seven Seas Shopping Centre\, 117-121 Kings Road\, North Point\, Hong Kong
CATEGORIES:2025,Concert,Music,Nightlife,Performing Arts
ATTACH;FMTTYPE=image/jpeg:https://www.bcmagazine.net/wp-content/uploads/2025/11/Zoogazer-hong-kong-2025.jpg
GEO:22.2884683;114.192803
X-APPLE-STRUCTURED-LOCATION;VALUE=URI;X-ADDRESS=MOM Livehouse B39 Seven Seas Shopping Centre 117-121 Kings Road North Point Hong Kong;X-APPLE-RADIUS=500;X-TITLE=B39 Seven Seas Shopping Centre\, 117-121 Kings Road:geo:114.192803,22.2884683
END:VEVENT
BEGIN:VEVENT
DTSTART;TZID=Asia/Hong_Kong:20251118T200000
DTEND;TZID=Asia/Hong_Kong:20251118T200000
DTSTAMP:20260424T174234
CREATED:20251109T024537Z
LAST-MODIFIED:20251113T135044Z
UID:10011793-1763496000-1763496000@www.bcmagazine.net
SUMMARY:Iris Mondo
DESCRIPTION:Iris Mondo – Live in Hong Kong 2025\nSupport: Cozy Syndrome\nDate: 8pm\, 18 November 2025\nVenue: MOM Livehouse\nTickets: $420 tickets here
URL:https://www.bcmagazine.net/event/iris-mondo-hong-kong-2025/
LOCATION:MOM Livehouse\, B39 Seven Seas Shopping Centre\, 117-121 Kings Road\, North Point\, Hong Kong
CATEGORIES:2025,Concert,Music,Nightlife,Performing Arts
ATTACH;FMTTYPE=image/jpeg:https://www.bcmagazine.net/wp-content/uploads/2025/07/Iris-Mondo-Hong-Kong-2025.jpeg
GEO:22.2884683;114.192803
X-APPLE-STRUCTURED-LOCATION;VALUE=URI;X-ADDRESS=MOM Livehouse B39 Seven Seas Shopping Centre 117-121 Kings Road North Point Hong Kong;X-APPLE-RADIUS=500;X-TITLE=B39 Seven Seas Shopping Centre\, 117-121 Kings Road:geo:114.192803,22.2884683
END:VEVENT
BEGIN:VEVENT
DTSTART;TZID=Asia/Hong_Kong:20251116T180000
DTEND;TZID=Asia/Hong_Kong:20251116T180000
DTSTAMP:20260424T174234
CREATED:20250919T034537Z
LAST-MODIFIED:20250925T114635Z
UID:10011414-1763316000-1763316000@www.bcmagazine.net
SUMMARY:Mew
DESCRIPTION:Mew – The Farewell Shows\nDate: 8pm\, 16 November 2025\nVenue: The Box\, Freespace\, WestK\nTickets: $650
URL:https://www.bcmagazine.net/event/mew-hk-2025/
LOCATION:West Kowloon Cultural District\, Freespace\, The Box\, West Kowloon\, Hong Kong
CATEGORIES:2025,Concert,Music,Nightlife,Performing Arts
ATTACH;FMTTYPE=image/jpeg:https://www.bcmagazine.net/wp-content/uploads/2025/09/Mew-Hong-Kong-2025.jpg
END:VEVENT
BEGIN:VEVENT
DTSTART;TZID=Asia/Hong_Kong:20251022T180000
DTEND;TZID=Asia/Hong_Kong:20251022T180000
DTSTAMP:20260424T174234
CREATED:20250920T034537Z
LAST-MODIFIED:20250925T115648Z
UID:10011415-1761156000-1761156000@www.bcmagazine.net
SUMMARY:Yama
DESCRIPTION:Yama – Asia Tour 2025\nDate: 8pm\, 22 October 2025\nVenue: MacPherson Stadium\nTickets: $1\,599\, $799\, $699
URL:https://www.bcmagazine.net/event/yama-hk-2025/
LOCATION:MacPherson Stadium\, 38 Nelson Street\, Mongkok\, Hong Kong
CATEGORIES:2025,Concert,Music,Nightlife,Performing Arts
ATTACH;FMTTYPE=image/jpeg:https://www.bcmagazine.net/wp-content/uploads/2025/09/Yama-HK-2025.jpg
GEO:22.3188457;114.1728403
X-APPLE-STRUCTURED-LOCATION;VALUE=URI;X-ADDRESS=MacPherson Stadium 38 Nelson Street Mongkok Hong Kong;X-APPLE-RADIUS=500;X-TITLE=38 Nelson Street:geo:114.1728403,22.3188457
END:VEVENT
BEGIN:VEVENT
DTSTART;TZID=Asia/Hong_Kong:20251018T180000
DTEND;TZID=Asia/Hong_Kong:20251018T180000
DTSTAMP:20260424T174234
CREATED:20250907T034537Z
LAST-MODIFIED:20250925T112628Z
UID:10011413-1760810400-1760810400@www.bcmagazine.net
SUMMARY:Novelbright
DESCRIPTION:Novelbright – Winding Road\nDate: 6pm\, 18 October 2025\nVenue: Tides\, 1F\, The Whampoa Garden\, Hung Hom\nTickets: $xx
URL:https://www.bcmagazine.net/event/novelbright-hk-2025/
LOCATION:Tides\, 1F\, The Whampoa Garden\, Hung Hom\, Hong Kong
CATEGORIES:2025,Concert,Music,Nightlife,Performing Arts
ATTACH;FMTTYPE=image/jpeg:https://www.bcmagazine.net/wp-content/uploads/2025/09/Novelbright-HK-2025.jpg
END:VEVENT
BEGIN:VEVENT
DTSTART;TZID=Asia/Hong_Kong:20251018T170000
DTEND;TZID=Asia/Hong_Kong:20251018T170000
DTSTAMP:20260424T174234
CREATED:20250910T134230Z
LAST-MODIFIED:20250922T182340Z
UID:10011404-1760806800-1760806800@www.bcmagazine.net
SUMMARY:RED on RED: Gerrard 11 vs Rio 11
DESCRIPTION:RED on RED: Gerrard 11 vs Rio 11\nDate: 5pm\, 18 October\, 2025\nVenue: Kai Tak Stadium\nTickets: $999\, $899\, $499\, $399
URL:https://www.bcmagazine.net/event/red-on-red-gerrard-11-vs-rio-11/
LOCATION:Kai Tak Stadium\, 38-39 Shing Kai Road\, Kowloon City\, Hong Kong
CATEGORIES:2025,Football,Lifestyle,Nightlife,Sport
ATTACH;FMTTYPE=image/jpeg:https://www.bcmagazine.net/wp-content/uploads/2025/08/red-v-red-2025-kai-tak.jpg
END:VEVENT
BEGIN:VEVENT
DTSTART;TZID=Asia/Hong_Kong:20251014T200000
DTEND;TZID=Asia/Hong_Kong:20251014T200000
DTSTAMP:20260424T174234
CREATED:20250824T134230Z
LAST-MODIFIED:20250827T201220Z
UID:10011397-1760472000-1760472000@www.bcmagazine.net
SUMMARY:Hong Kong v Bangladesh
DESCRIPTION:Hong Kong v Bangladesh – AFC Asian Cup\nDate: 8pm\, 14 October\, 2025\nVenue: Kai Tak Stadium\nTickets: tbc
URL:https://www.bcmagazine.net/event/hong-kong-v-bangladesh/
LOCATION:Kai Tak Stadium\, 38-39 Shing Kai Road\, Kowloon City\, Hong Kong
CATEGORIES:2025,Football,Lifestyle,Nightlife,Sport
ATTACH;FMTTYPE=image/jpeg:https://www.bcmagazine.net/wp-content/uploads/2025/06/Hong-Kong-HKFA-2025.jpg
END:VEVENT
BEGIN:VEVENT
DTSTART;TZID=Asia/Hong_Kong:20251010T200000
DTEND;TZID=Asia/Hong_Kong:20251010T200000
DTSTAMP:20260424T174234
CREATED:20250925T034537Z
LAST-MODIFIED:20250925T110451Z
UID:10011408-1760126400-1760126400@www.bcmagazine.net
SUMMARY:The Sleeves
DESCRIPTION:The Sleeves – Flux Album Launch\nSupport: Bad Actors\, Houseplants\nDate: 8pm\, 10 October\, 2025\nVenue: The Aftermath\nTickets: $200\, $120
URL:https://www.bcmagazine.net/event/the-sleeves-flux-album-2025/
LOCATION:The Aftermath\, 57 Wyndham Street\, Central\, Hong Kong
CATEGORIES:2025,Concert,Music,Nightlife,Performing Arts
ATTACH;FMTTYPE=image/jpeg:https://www.bcmagazine.net/wp-content/uploads/2021/10/The-Sleeves-Flux-2025.jpeg
END:VEVENT
BEGIN:VEVENT
DTSTART;TZID=Asia/Hong_Kong:20251007T190000
DTEND;TZID=Asia/Hong_Kong:20251007T190000
DTSTAMP:20260424T174234
CREATED:20250920T144518Z
LAST-MODIFIED:20251120T145039Z
UID:10012172-1759863600-1759863600@www.bcmagazine.net
SUMMARY:Tai Hang Fire Dragon Festival
DESCRIPTION:Tai Hang Fire Dragon Festival\nDate: 5-7 October\, 2025\nVenue: Tai Hang\nTickets: Free
URL:https://www.bcmagazine.net/event/tai-hang-fire-dragon-festival-2/2025-10-07/
LOCATION:Tai Hang\, Tai Hang\, Hong Kong
CATEGORIES:2025,Free,Nightlife
ATTACH;FMTTYPE=image/jpeg:https://www.bcmagazine.net/wp-content/uploads/2024/09/Tai-Hang-Fire-Dragon-Festival.jpg
END:VEVENT
END:VCALENDAR