BEGIN:VCALENDAR
VERSION:2.0
PRODID:-//bc magazine - ECPv6.15.20//NONSGML v1.0//EN
CALSCALE:GREGORIAN
METHOD:PUBLISH
X-WR-CALNAME:bc magazine
X-ORIGINAL-URL:https://www.bcmagazine.net
X-WR-CALDESC:Events for bc magazine
REFRESH-INTERVAL;VALUE=DURATION:PT1H
X-Robots-Tag:noindex
X-PUBLISHED-TTL:PT1H
BEGIN:VTIMEZONE
TZID:Asia/Hong_Kong
BEGIN:STANDARD
TZOFFSETFROM:+0800
TZOFFSETTO:+0800
TZNAME:HKT
DTSTART:20230101T000000
END:STANDARD
END:VTIMEZONE
BEGIN:VEVENT
DTSTART;TZID=Asia/Hong_Kong:20250429T200000
DTEND;TZID=Asia/Hong_Kong:20250429T200000
DTSTAMP:20260424T180937
CREATED:20250308T004237Z
LAST-MODIFIED:20250429T041753Z
UID:10011334-1745956800-1745956800@www.bcmagazine.net
SUMMARY:M2M
DESCRIPTION:M2M – The Better Endings Tour\nDate: 8pm\, 29 April 2025\nVenue: Queen Elizabeth Stadium\nTickets: $2\,088\, $1\,288\, $888\, $688 from Urbtix
URL:https://www.bcmagazine.net/event/m2m-2025/
LOCATION:Queen Elizabeth Stadium\, 18 Oi Kwan Road\, Wanchai\, Hong Kong
CATEGORIES:2025,Concert,Free,Music,Nightlife,Performing Arts
ATTACH;FMTTYPE=image/webp:https://www.bcmagazine.net/wp-content/uploads/2022/06/M2M-hong-kong-2025.webp
GEO:22.2751271;114.1789682
X-APPLE-STRUCTURED-LOCATION;VALUE=URI;X-ADDRESS=Queen Elizabeth Stadium 18 Oi Kwan Road Wanchai Hong Kong;X-APPLE-RADIUS=500;X-TITLE=18 Oi Kwan Road:geo:114.1789682,22.2751271
END:VEVENT
BEGIN:VEVENT
DTSTART;TZID=Asia/Hong_Kong:20250426T200000
DTEND;TZID=Asia/Hong_Kong:20250426T200000
DTSTAMP:20260424T180937
CREATED:20250206T004237Z
LAST-MODIFIED:20250208T135918Z
UID:10010208-1745697600-1745697600@www.bcmagazine.net
SUMMARY:Shag
DESCRIPTION:Shag\nSugizo\nDate: 8pm\, 26 April\, 2025\nVenue: Tsuen Wan Town Hall\, Auditorium\nTickets: $880\, $680\, $480\, $280
URL:https://www.bcmagazine.net/event/shag-2025/
LOCATION:Tsuen Wan Town Hall\, Auditorium\, 72 Tai Ho Road\, Tsuen Wan\, Hong Kong
CATEGORIES:2025,Concert,Free,Music,Nightlife,Performing Arts
ATTACH;FMTTYPE=image/jpeg:https://www.bcmagazine.net/wp-content/uploads/2022/06/shag-2025.jpg
GEO:22.3708519;114.112733
X-APPLE-STRUCTURED-LOCATION;VALUE=URI;X-ADDRESS=Tsuen Wan Town Hall Auditorium 72 Tai Ho Road Tsuen Wan Hong Kong;X-APPLE-RADIUS=500;X-TITLE=72 Tai Ho Road:geo:114.112733,22.3708519
END:VEVENT
BEGIN:VEVENT
DTSTART;VALUE=DATE:20250322
DTEND;VALUE=DATE:20250324
DTSTAMP:20260424T180937
CREATED:20250202T004237Z
LAST-MODIFIED:20250221T115512Z
UID:10010598-1742601600-1742774399@www.bcmagazine.net
SUMMARY:Irish Festival
DESCRIPTION:Irish Festival\nDate: 22-23 March\, 2025\nVenue: 70 Queen’s Road Central\nTickets: $320\, $170
URL:https://www.bcmagazine.net/event/hk-irish-festival-2025/
LOCATION:70 Queen’s Road Central\, 70 Queen's Road\, Central\, Hong Kong
CATEGORIES:2025,Concert,Cultural Festival,Dance,Music,Nightlife,Performing Arts
ATTACH;FMTTYPE=image/jpeg:https://www.bcmagazine.net/wp-content/uploads/2025/02/Irish-Festival-2025.jpg
END:VEVENT
BEGIN:VEVENT
DTSTART;TZID=Asia/Hong_Kong:20250309T110000
DTEND;TZID=Asia/Hong_Kong:20250309T170000
DTSTAMP:20260424T180937
CREATED:20250111T000853Z
LAST-MODIFIED:20250111T123507Z
UID:10010207-1741518000-1741539600@www.bcmagazine.net
SUMMARY:Holi Beach Party
DESCRIPTION:Holi Beach Party\nDate: 11am-5pm\, 9 March\, 2025\nVenue: to be announced\nTickets: $tbc\nMore info: \nBring your own food & drinks (BYOB & BYOF allowed)\nFor more info email holi.beach.party@gmail.com
URL:https://www.bcmagazine.net/event/holi-beach-party-2025/
CATEGORIES:2025,Cultural Festival,DJ,Lifestyle,Music,Nightlife
ATTACH;FMTTYPE=image/jpeg:https://www.bcmagazine.net/wp-content/uploads/2024/03/Holi-Beach-party-2025.jpeg
END:VEVENT
BEGIN:VEVENT
DTSTART;TZID=Asia/Hong_Kong:20250129T200000
DTEND;TZID=Asia/Hong_Kong:20250129T200000
DTSTAMP:20260424T180937
CREATED:20250110T040919Z
LAST-MODIFIED:20250110T083300Z
UID:10010206-1738180800-1738180800@www.bcmagazine.net
SUMMARY:Chinese New Year Night Parade
DESCRIPTION:  \nThe Chinese New Year Night Parade will be held on the first day of the Year of the Snake (29 January). \nOrganised by the HK Tourism Board the parade route starts at the HK Cultural Centre\, proceeds along Canton Road then Haiphong Road\, turns right on Nathan Road\, and ends just past Chungking Mansions. \nChinese New Year Night Parade\nDate: 8pm\, 29 January\, 2025\nVenue: Tsim Sha Tsui\nTickets: Free
URL:https://www.bcmagazine.net/event/chinese-new-year-night-parade-2025/
LOCATION:Tsim Sha Tsui Promenade\, Clock Tower\, Tsim Sha Tsui\, Hong Kong
CATEGORIES:2025,Cultural Festival,Dance,Free,Lifestyle,Nightlife,Performing Arts
ATTACH;FMTTYPE=image/jpeg:https://www.bcmagazine.net/wp-content/uploads/2017/01/lunar-new-year-parade-2025.jpg
END:VEVENT
BEGIN:VEVENT
DTSTART;TZID=Asia/Hong_Kong:20250116T200000
DTEND;TZID=Asia/Hong_Kong:20250116T200000
DTSTAMP:20260424T180937
CREATED:20241219T024537Z
LAST-MODIFIED:20241219T144745Z
UID:10010203-1737057600-1737057600@www.bcmagazine.net
SUMMARY:Lepyutin - Live in Hong Kong 2025
DESCRIPTION:Lepyutin – Live in Hong Kong 2025\nDate: 8pm\, 16 Jan 2025\nVenue: MOM Livehouse\nTickets: $550 (door)\, $420 (advance) tickets from here
URL:https://www.bcmagazine.net/event/lepyutin-live-in-hong-kong-2025/
LOCATION:MOM Livehouse\, B39 Seven Seas Shopping Centre\, 117-121 Kings Road\, North Point\, Hong Kong
CATEGORIES:2025,Concert,Music,Nightlife,Performing Arts
ATTACH;FMTTYPE=image/jpeg:https://www.bcmagazine.net/wp-content/uploads/2024/03/Lepyutin-Live-in-Hong-Kong-2025.jpg
GEO:22.2884683;114.192803
X-APPLE-STRUCTURED-LOCATION;VALUE=URI;X-ADDRESS=MOM Livehouse B39 Seven Seas Shopping Centre 117-121 Kings Road North Point Hong Kong;X-APPLE-RADIUS=500;X-TITLE=B39 Seven Seas Shopping Centre\, 117-121 Kings Road:geo:114.192803,22.2884683
END:VEVENT
BEGIN:VEVENT
DTSTART;TZID=Asia/Hong_Kong:20241231T000000
DTEND;TZID=Asia/Hong_Kong:20250101T001000
DTSTAMP:20260424T180937
CREATED:20251215T054217Z
LAST-MODIFIED:20260102T100944Z
UID:10012598-1735603200-1735690200@www.bcmagazine.net
SUMMARY:Hong Kong New Year Countdown
DESCRIPTION:New Years Eve Countdown\nDate: Midnight\, 31 December\, 2025\nVenue: Central\, Hong Kong\nTickets: Free
URL:https://www.bcmagazine.net/event/hong-kong-new-year-countdown-2026/
LOCATION:Victoria Harbour\, Hong Kong
CATEGORIES:2025,2026,Free,Nightlife
END:VEVENT
BEGIN:VEVENT
DTSTART;TZID=Asia/Hong_Kong:20241231T000000
DTEND;TZID=Asia/Hong_Kong:20250101T001000
DTSTAMP:20260424T180937
CREATED:20241213T055717Z
LAST-MODIFIED:20250110T082003Z
UID:10010205-1735603200-1735690200@www.bcmagazine.net
SUMMARY:New Years Eve Fireworks
DESCRIPTION:New Years Eve Fireworks\nDate: Midnight\, 31 December\, 2024\nVenue: Victoria Harbour\nTickets: Free
URL:https://www.bcmagazine.net/event/new-years-eve-fireworks-2024-25/
LOCATION:Victoria Harbour\, Hong Kong
CATEGORIES:2024,2025,Free,Nightlife
ATTACH;FMTTYPE=image/jpeg:https://www.bcmagazine.net/wp-content/uploads/2023/01/Happy-New-Year-2024.jpg
END:VEVENT
BEGIN:VEVENT
DTSTART;TZID=Asia/Hong_Kong:20241212T200000
DTEND;TZID=Asia/Hong_Kong:20241212T200000
DTSTAMP:20260424T180937
CREATED:20241003T150853Z
LAST-MODIFIED:20241023T150935Z
UID:10010175-1734033600-1734033600@www.bcmagazine.net
SUMMARY:James Blunt
DESCRIPTION:James Blunt – The Who We Used To Be Tour\nDate: 8pm\, 12 December\, 2024\nVenue: AsiaWorld Expo\, Hall 10\nTickets: $1\,380 $1\,180 $980
URL:https://www.bcmagazine.net/event/james-blunt-hong-kong-2024/
LOCATION:AsiaWorld-Expo\, Hall 10\, Cheong Wing Road\, Chek Lap Kok\, Lantau\, Hong Kong
CATEGORIES:2024,Concert,Music,Nightlife,Performing Arts
ATTACH;FMTTYPE=image/jpeg:https://www.bcmagazine.net/wp-content/uploads/2024/10/James-Blunt-Hong-Kong-2024.jpg
GEO:22.3217383;113.9402012
X-APPLE-STRUCTURED-LOCATION;VALUE=URI;X-ADDRESS=AsiaWorld-Expo Hall 10 Cheong Wing Road Chek Lap Kok Lantau Hong Kong;X-APPLE-RADIUS=500;X-TITLE=Cheong Wing Road\, Chek Lap Kok:geo:113.9402012,22.3217383
END:VEVENT
BEGIN:VEVENT
DTSTART;VALUE=DATE:20241109
DTEND;VALUE=DATE:20241118
DTSTAMP:20260424T180937
CREATED:20241029T084226Z
LAST-MODIFIED:20241030T141412Z
UID:10010177-1731110400-1731887999@www.bcmagazine.net
SUMMARY:Belgian Days
DESCRIPTION:Belgian Days\nDate: 9-17 November\, 2024 HKnightlife\, HKfood\, HKlivemusic\, HKart\, BelgiumHK\nVenue: Various\nTickets: tbc\nMore info:\nhttps://belgiandays.odoo.com
URL:https://www.bcmagazine.net/event/belgian-days-2024/
CATEGORIES:2024,Cultural Festival,Exhibition,Lifestyle,Macau,Music,Nightlife,Performing Arts
ATTACH;FMTTYPE=image/jpeg:https://www.bcmagazine.net/wp-content/uploads/2024/10/Belgian-Days-2024.jpg
END:VEVENT
BEGIN:VEVENT
DTSTART;TZID=Asia/Hong_Kong:20241001T210000
DTEND;TZID=Asia/Hong_Kong:20241001T210000
DTSTAMP:20260424T180937
CREATED:20240915T104217Z
LAST-MODIFIED:20251005T170155Z
UID:10011417-1727816400-1727816400@www.bcmagazine.net
SUMMARY:National Day Fireworks
DESCRIPTION:The National Day Fireworks will start at 9pm on 1 October\, bursting into the sky to symbolise joy and unity. \nNational Day Fireworks\nDate: 9pm\, 1 October\, 2024\nVenue: Victoria Harbour\nTickets: Free
URL:https://www.bcmagazine.net/event/national-day-fireworks-2024/
LOCATION:Victoria Harbour\, Hong Kong
CATEGORIES:2024,Free,Nightlife
ATTACH;FMTTYPE=image/jpeg:https://www.bcmagazine.net/wp-content/uploads/2023/09/National-Day-Fireworks-Hong-Kong.jpg
END:VEVENT
BEGIN:VEVENT
DTSTART;VALUE=DATE:20240903
DTEND;VALUE=DATE:20240906
DTSTAMP:20260424T180937
CREATED:19230614T044512Z
LAST-MODIFIED:20240119T034114Z
UID:10009446-1725321600-1725580799@www.bcmagazine.net
SUMMARY:Restaurant & Bar Hong Kong
DESCRIPTION:Restaurant & Bar Hong Kong + Gourmet Asia\nDate: 3-5 September\, 2024\nVenue: HK Convention & Exhibition Centre\nTickets: tbc
URL:https://www.bcmagazine.net/event/restaurant-bar-hong-kong-2024/
LOCATION:HK Convention and Exhibition Centre\, 1 Expo Drive\, Wanchai\, Hong Kong
CATEGORIES:2023,Food,Lifestyle,Nightlife
ATTACH;FMTTYPE=image/png:https://www.bcmagazine.net/wp-content/uploads/2023/06/Restaurant-Bar-Hong-Kong-2024.png
END:VEVENT
BEGIN:VEVENT
DTSTART;VALUE=DATE:20240609
DTEND;VALUE=DATE:20240610
DTSTAMP:20260424T180937
CREATED:19240315T024537Z
LAST-MODIFIED:20240408T110426Z
UID:10009770-1717891200-1717977599@www.bcmagazine.net
SUMMARY:The Sound of Music
DESCRIPTION:The Sound of Music\nDate: 16 April – 9 June 2024\nVenue: Xiqu Centre\, Grand Theatre\nTickets: $1\,188\, $1\,088\, $988\, $888\, $828\, $688\, $588\nMore info:\nTuesday to Friday: 7:30pm\nSaturday: 2:30pm\, 7:45pm\nSunday: 1:30pm\, 6:30pm
URL:https://www.bcmagazine.net/event/the-sound-of-music/2024-06-09/
LOCATION:Xiqu Centre\, Grand Theatre\, 88 Austin Road West\, Tsim Sha Tsui\, Hong Kong
CATEGORIES:2024,Music,Musical,Nightlife,Performing Arts
ATTACH;FMTTYPE=image/png:https://www.bcmagazine.net/wp-content/uploads/2024/03/sound-of-musuc-hk-2024.png
END:VEVENT
BEGIN:VEVENT
DTSTART;VALUE=DATE:20240608
DTEND;VALUE=DATE:20240609
DTSTAMP:20260424T180937
CREATED:19240315T024537Z
LAST-MODIFIED:20240408T110426Z
UID:10009769-1717804800-1717891199@www.bcmagazine.net
SUMMARY:The Sound of Music
DESCRIPTION:The Sound of Music\nDate: 16 April – 9 June 2024\nVenue: Xiqu Centre\, Grand Theatre\nTickets: $1\,188\, $1\,088\, $988\, $888\, $828\, $688\, $588\nMore info:\nTuesday to Friday: 7:30pm\nSaturday: 2:30pm\, 7:45pm\nSunday: 1:30pm\, 6:30pm
URL:https://www.bcmagazine.net/event/the-sound-of-music/2024-06-08/
LOCATION:Xiqu Centre\, Grand Theatre\, 88 Austin Road West\, Tsim Sha Tsui\, Hong Kong
CATEGORIES:2024,Music,Musical,Nightlife,Performing Arts
ATTACH;FMTTYPE=image/png:https://www.bcmagazine.net/wp-content/uploads/2024/03/sound-of-musuc-hk-2024.png
END:VEVENT
BEGIN:VEVENT
DTSTART;VALUE=DATE:20240607
DTEND;VALUE=DATE:20240608
DTSTAMP:20260424T180937
CREATED:19240315T024537Z
LAST-MODIFIED:20240408T110426Z
UID:10009768-1717718400-1717804799@www.bcmagazine.net
SUMMARY:The Sound of Music
DESCRIPTION:The Sound of Music\nDate: 16 April – 9 June 2024\nVenue: Xiqu Centre\, Grand Theatre\nTickets: $1\,188\, $1\,088\, $988\, $888\, $828\, $688\, $588\nMore info:\nTuesday to Friday: 7:30pm\nSaturday: 2:30pm\, 7:45pm\nSunday: 1:30pm\, 6:30pm
URL:https://www.bcmagazine.net/event/the-sound-of-music/2024-06-07/
LOCATION:Xiqu Centre\, Grand Theatre\, 88 Austin Road West\, Tsim Sha Tsui\, Hong Kong
CATEGORIES:2024,Music,Musical,Nightlife,Performing Arts
ATTACH;FMTTYPE=image/png:https://www.bcmagazine.net/wp-content/uploads/2024/03/sound-of-musuc-hk-2024.png
END:VEVENT
BEGIN:VEVENT
DTSTART;VALUE=DATE:20240606
DTEND;VALUE=DATE:20240607
DTSTAMP:20260424T180937
CREATED:19240315T024537Z
LAST-MODIFIED:20240408T110426Z
UID:10009767-1717632000-1717718399@www.bcmagazine.net
SUMMARY:The Sound of Music
DESCRIPTION:The Sound of Music\nDate: 16 April – 9 June 2024\nVenue: Xiqu Centre\, Grand Theatre\nTickets: $1\,188\, $1\,088\, $988\, $888\, $828\, $688\, $588\nMore info:\nTuesday to Friday: 7:30pm\nSaturday: 2:30pm\, 7:45pm\nSunday: 1:30pm\, 6:30pm
URL:https://www.bcmagazine.net/event/the-sound-of-music/2024-06-06/
LOCATION:Xiqu Centre\, Grand Theatre\, 88 Austin Road West\, Tsim Sha Tsui\, Hong Kong
CATEGORIES:2024,Music,Musical,Nightlife,Performing Arts
ATTACH;FMTTYPE=image/png:https://www.bcmagazine.net/wp-content/uploads/2024/03/sound-of-musuc-hk-2024.png
END:VEVENT
BEGIN:VEVENT
DTSTART;VALUE=DATE:20240605
DTEND;VALUE=DATE:20240606
DTSTAMP:20260424T180937
CREATED:19240315T024537Z
LAST-MODIFIED:20240408T110426Z
UID:10009766-1717545600-1717631999@www.bcmagazine.net
SUMMARY:The Sound of Music
DESCRIPTION:The Sound of Music\nDate: 16 April – 9 June 2024\nVenue: Xiqu Centre\, Grand Theatre\nTickets: $1\,188\, $1\,088\, $988\, $888\, $828\, $688\, $588\nMore info:\nTuesday to Friday: 7:30pm\nSaturday: 2:30pm\, 7:45pm\nSunday: 1:30pm\, 6:30pm
URL:https://www.bcmagazine.net/event/the-sound-of-music/2024-06-05/
LOCATION:Xiqu Centre\, Grand Theatre\, 88 Austin Road West\, Tsim Sha Tsui\, Hong Kong
CATEGORIES:2024,Music,Musical,Nightlife,Performing Arts
ATTACH;FMTTYPE=image/png:https://www.bcmagazine.net/wp-content/uploads/2024/03/sound-of-musuc-hk-2024.png
END:VEVENT
BEGIN:VEVENT
DTSTART;VALUE=DATE:20240604
DTEND;VALUE=DATE:20240605
DTSTAMP:20260424T180937
CREATED:19240315T024537Z
LAST-MODIFIED:20240408T110426Z
UID:10009765-1717459200-1717545599@www.bcmagazine.net
SUMMARY:The Sound of Music
DESCRIPTION:The Sound of Music\nDate: 16 April – 9 June 2024\nVenue: Xiqu Centre\, Grand Theatre\nTickets: $1\,188\, $1\,088\, $988\, $888\, $828\, $688\, $588\nMore info:\nTuesday to Friday: 7:30pm\nSaturday: 2:30pm\, 7:45pm\nSunday: 1:30pm\, 6:30pm
URL:https://www.bcmagazine.net/event/the-sound-of-music/2024-06-04/
LOCATION:Xiqu Centre\, Grand Theatre\, 88 Austin Road West\, Tsim Sha Tsui\, Hong Kong
CATEGORIES:2024,Music,Musical,Nightlife,Performing Arts
ATTACH;FMTTYPE=image/png:https://www.bcmagazine.net/wp-content/uploads/2024/03/sound-of-musuc-hk-2024.png
END:VEVENT
BEGIN:VEVENT
DTSTART;VALUE=DATE:20240602
DTEND;VALUE=DATE:20240603
DTSTAMP:20260424T180937
CREATED:19240315T024537Z
LAST-MODIFIED:20240408T110426Z
UID:10009764-1717286400-1717372799@www.bcmagazine.net
SUMMARY:The Sound of Music
DESCRIPTION:The Sound of Music\nDate: 16 April – 9 June 2024\nVenue: Xiqu Centre\, Grand Theatre\nTickets: $1\,188\, $1\,088\, $988\, $888\, $828\, $688\, $588\nMore info:\nTuesday to Friday: 7:30pm\nSaturday: 2:30pm\, 7:45pm\nSunday: 1:30pm\, 6:30pm
URL:https://www.bcmagazine.net/event/the-sound-of-music/2024-06-02/
LOCATION:Xiqu Centre\, Grand Theatre\, 88 Austin Road West\, Tsim Sha Tsui\, Hong Kong
CATEGORIES:2024,Music,Musical,Nightlife,Performing Arts
ATTACH;FMTTYPE=image/png:https://www.bcmagazine.net/wp-content/uploads/2024/03/sound-of-musuc-hk-2024.png
END:VEVENT
BEGIN:VEVENT
DTSTART;VALUE=DATE:20240601
DTEND;VALUE=DATE:20240602
DTSTAMP:20260424T180937
CREATED:19240315T024537Z
LAST-MODIFIED:20240408T110426Z
UID:10009763-1717200000-1717286399@www.bcmagazine.net
SUMMARY:The Sound of Music
DESCRIPTION:The Sound of Music\nDate: 16 April – 9 June 2024\nVenue: Xiqu Centre\, Grand Theatre\nTickets: $1\,188\, $1\,088\, $988\, $888\, $828\, $688\, $588\nMore info:\nTuesday to Friday: 7:30pm\nSaturday: 2:30pm\, 7:45pm\nSunday: 1:30pm\, 6:30pm
URL:https://www.bcmagazine.net/event/the-sound-of-music/2024-06-01/
LOCATION:Xiqu Centre\, Grand Theatre\, 88 Austin Road West\, Tsim Sha Tsui\, Hong Kong
CATEGORIES:2024,Music,Musical,Nightlife,Performing Arts
ATTACH;FMTTYPE=image/png:https://www.bcmagazine.net/wp-content/uploads/2024/03/sound-of-musuc-hk-2024.png
END:VEVENT
BEGIN:VEVENT
DTSTART;VALUE=DATE:20240531
DTEND;VALUE=DATE:20240601
DTSTAMP:20260424T180937
CREATED:19240315T024537Z
LAST-MODIFIED:20240408T110426Z
UID:10009762-1717113600-1717199999@www.bcmagazine.net
SUMMARY:The Sound of Music
DESCRIPTION:The Sound of Music\nDate: 16 April – 9 June 2024\nVenue: Xiqu Centre\, Grand Theatre\nTickets: $1\,188\, $1\,088\, $988\, $888\, $828\, $688\, $588\nMore info:\nTuesday to Friday: 7:30pm\nSaturday: 2:30pm\, 7:45pm\nSunday: 1:30pm\, 6:30pm
URL:https://www.bcmagazine.net/event/the-sound-of-music/2024-05-31/
LOCATION:Xiqu Centre\, Grand Theatre\, 88 Austin Road West\, Tsim Sha Tsui\, Hong Kong
CATEGORIES:2024,Music,Musical,Nightlife,Performing Arts
ATTACH;FMTTYPE=image/png:https://www.bcmagazine.net/wp-content/uploads/2024/03/sound-of-musuc-hk-2024.png
END:VEVENT
BEGIN:VEVENT
DTSTART;VALUE=DATE:20240530
DTEND;VALUE=DATE:20240531
DTSTAMP:20260424T180937
CREATED:19240315T024537Z
LAST-MODIFIED:20240408T110426Z
UID:10009761-1717027200-1717113599@www.bcmagazine.net
SUMMARY:The Sound of Music
DESCRIPTION:The Sound of Music\nDate: 16 April – 9 June 2024\nVenue: Xiqu Centre\, Grand Theatre\nTickets: $1\,188\, $1\,088\, $988\, $888\, $828\, $688\, $588\nMore info:\nTuesday to Friday: 7:30pm\nSaturday: 2:30pm\, 7:45pm\nSunday: 1:30pm\, 6:30pm
URL:https://www.bcmagazine.net/event/the-sound-of-music/2024-05-30/
LOCATION:Xiqu Centre\, Grand Theatre\, 88 Austin Road West\, Tsim Sha Tsui\, Hong Kong
CATEGORIES:2024,Music,Musical,Nightlife,Performing Arts
ATTACH;FMTTYPE=image/png:https://www.bcmagazine.net/wp-content/uploads/2024/03/sound-of-musuc-hk-2024.png
END:VEVENT
BEGIN:VEVENT
DTSTART;VALUE=DATE:20240529
DTEND;VALUE=DATE:20240530
DTSTAMP:20260424T180937
CREATED:19240315T024537Z
LAST-MODIFIED:20240408T110426Z
UID:10009760-1716940800-1717027199@www.bcmagazine.net
SUMMARY:The Sound of Music
DESCRIPTION:The Sound of Music\nDate: 16 April – 9 June 2024\nVenue: Xiqu Centre\, Grand Theatre\nTickets: $1\,188\, $1\,088\, $988\, $888\, $828\, $688\, $588\nMore info:\nTuesday to Friday: 7:30pm\nSaturday: 2:30pm\, 7:45pm\nSunday: 1:30pm\, 6:30pm
URL:https://www.bcmagazine.net/event/the-sound-of-music/2024-05-29/
LOCATION:Xiqu Centre\, Grand Theatre\, 88 Austin Road West\, Tsim Sha Tsui\, Hong Kong
CATEGORIES:2024,Music,Musical,Nightlife,Performing Arts
ATTACH;FMTTYPE=image/png:https://www.bcmagazine.net/wp-content/uploads/2024/03/sound-of-musuc-hk-2024.png
END:VEVENT
BEGIN:VEVENT
DTSTART;TZID=Asia/Hong_Kong:20240528T200000
DTEND;TZID=Asia/Hong_Kong:20240528T200000
DTSTAMP:20260424T180937
CREATED:20240316T024537Z
LAST-MODIFIED:20241219T144001Z
UID:10009459-1716926400-1716926400@www.bcmagazine.net
SUMMARY:The Ocean
DESCRIPTION:The Ocean – Holocene Tour\nSupport: A Burial at Sea\nDate: 8pm\, 28 May 2024\nVenue: MOM Livehouse\nTickets: $580\, $480 from here
URL:https://www.bcmagazine.net/event/the-ocean-2024/
LOCATION:MOM Livehouse\, B39 Seven Seas Shopping Centre\, 117-121 Kings Road\, North Point\, Hong Kong
CATEGORIES:2024,Concert,Music,Nightlife,Performing Arts
ATTACH;FMTTYPE=image/jpeg:https://www.bcmagazine.net/wp-content/uploads/2024/03/The-Ocean-Collective-Hong-kong-2024.jpeg
GEO:22.2884683;114.192803
X-APPLE-STRUCTURED-LOCATION;VALUE=URI;X-ADDRESS=MOM Livehouse B39 Seven Seas Shopping Centre 117-121 Kings Road North Point Hong Kong;X-APPLE-RADIUS=500;X-TITLE=B39 Seven Seas Shopping Centre\, 117-121 Kings Road:geo:114.192803,22.2884683
END:VEVENT
BEGIN:VEVENT
DTSTART;VALUE=DATE:20240528
DTEND;VALUE=DATE:20240529
DTSTAMP:20260424T180937
CREATED:19240315T024537Z
LAST-MODIFIED:20240408T110426Z
UID:10009759-1716854400-1716940799@www.bcmagazine.net
SUMMARY:The Sound of Music
DESCRIPTION:The Sound of Music\nDate: 16 April – 9 June 2024\nVenue: Xiqu Centre\, Grand Theatre\nTickets: $1\,188\, $1\,088\, $988\, $888\, $828\, $688\, $588\nMore info:\nTuesday to Friday: 7:30pm\nSaturday: 2:30pm\, 7:45pm\nSunday: 1:30pm\, 6:30pm
URL:https://www.bcmagazine.net/event/the-sound-of-music/2024-05-28/
LOCATION:Xiqu Centre\, Grand Theatre\, 88 Austin Road West\, Tsim Sha Tsui\, Hong Kong
CATEGORIES:2024,Music,Musical,Nightlife,Performing Arts
ATTACH;FMTTYPE=image/png:https://www.bcmagazine.net/wp-content/uploads/2024/03/sound-of-musuc-hk-2024.png
END:VEVENT
BEGIN:VEVENT
DTSTART;VALUE=DATE:20240526
DTEND;VALUE=DATE:20240527
DTSTAMP:20260424T180937
CREATED:19240315T024537Z
LAST-MODIFIED:20240408T110426Z
UID:10009758-1716681600-1716767999@www.bcmagazine.net
SUMMARY:The Sound of Music
DESCRIPTION:The Sound of Music\nDate: 16 April – 9 June 2024\nVenue: Xiqu Centre\, Grand Theatre\nTickets: $1\,188\, $1\,088\, $988\, $888\, $828\, $688\, $588\nMore info:\nTuesday to Friday: 7:30pm\nSaturday: 2:30pm\, 7:45pm\nSunday: 1:30pm\, 6:30pm
URL:https://www.bcmagazine.net/event/the-sound-of-music/2024-05-26/
LOCATION:Xiqu Centre\, Grand Theatre\, 88 Austin Road West\, Tsim Sha Tsui\, Hong Kong
CATEGORIES:2024,Music,Musical,Nightlife,Performing Arts
ATTACH;FMTTYPE=image/png:https://www.bcmagazine.net/wp-content/uploads/2024/03/sound-of-musuc-hk-2024.png
END:VEVENT
BEGIN:VEVENT
DTSTART;VALUE=DATE:20240525
DTEND;VALUE=DATE:20240526
DTSTAMP:20260424T180937
CREATED:19240315T024537Z
LAST-MODIFIED:20240408T110426Z
UID:10009757-1716595200-1716681599@www.bcmagazine.net
SUMMARY:The Sound of Music
DESCRIPTION:The Sound of Music\nDate: 16 April – 9 June 2024\nVenue: Xiqu Centre\, Grand Theatre\nTickets: $1\,188\, $1\,088\, $988\, $888\, $828\, $688\, $588\nMore info:\nTuesday to Friday: 7:30pm\nSaturday: 2:30pm\, 7:45pm\nSunday: 1:30pm\, 6:30pm
URL:https://www.bcmagazine.net/event/the-sound-of-music/2024-05-25/
LOCATION:Xiqu Centre\, Grand Theatre\, 88 Austin Road West\, Tsim Sha Tsui\, Hong Kong
CATEGORIES:2024,Music,Musical,Nightlife,Performing Arts
ATTACH;FMTTYPE=image/png:https://www.bcmagazine.net/wp-content/uploads/2024/03/sound-of-musuc-hk-2024.png
END:VEVENT
BEGIN:VEVENT
DTSTART;VALUE=DATE:20240524
DTEND;VALUE=DATE:20240525
DTSTAMP:20260424T180937
CREATED:19240315T024537Z
LAST-MODIFIED:20240408T110426Z
UID:10009756-1716508800-1716595199@www.bcmagazine.net
SUMMARY:The Sound of Music
DESCRIPTION:The Sound of Music\nDate: 16 April – 9 June 2024\nVenue: Xiqu Centre\, Grand Theatre\nTickets: $1\,188\, $1\,088\, $988\, $888\, $828\, $688\, $588\nMore info:\nTuesday to Friday: 7:30pm\nSaturday: 2:30pm\, 7:45pm\nSunday: 1:30pm\, 6:30pm
URL:https://www.bcmagazine.net/event/the-sound-of-music/2024-05-24/
LOCATION:Xiqu Centre\, Grand Theatre\, 88 Austin Road West\, Tsim Sha Tsui\, Hong Kong
CATEGORIES:2024,Music,Musical,Nightlife,Performing Arts
ATTACH;FMTTYPE=image/png:https://www.bcmagazine.net/wp-content/uploads/2024/03/sound-of-musuc-hk-2024.png
END:VEVENT
BEGIN:VEVENT
DTSTART;VALUE=DATE:20240523
DTEND;VALUE=DATE:20240524
DTSTAMP:20260424T180937
CREATED:19240315T024537Z
LAST-MODIFIED:20240408T110426Z
UID:10009755-1716422400-1716508799@www.bcmagazine.net
SUMMARY:The Sound of Music
DESCRIPTION:The Sound of Music\nDate: 16 April – 9 June 2024\nVenue: Xiqu Centre\, Grand Theatre\nTickets: $1\,188\, $1\,088\, $988\, $888\, $828\, $688\, $588\nMore info:\nTuesday to Friday: 7:30pm\nSaturday: 2:30pm\, 7:45pm\nSunday: 1:30pm\, 6:30pm
URL:https://www.bcmagazine.net/event/the-sound-of-music/2024-05-23/
LOCATION:Xiqu Centre\, Grand Theatre\, 88 Austin Road West\, Tsim Sha Tsui\, Hong Kong
CATEGORIES:2024,Music,Musical,Nightlife,Performing Arts
ATTACH;FMTTYPE=image/png:https://www.bcmagazine.net/wp-content/uploads/2024/03/sound-of-musuc-hk-2024.png
END:VEVENT
BEGIN:VEVENT
DTSTART;VALUE=DATE:20240522
DTEND;VALUE=DATE:20240523
DTSTAMP:20260424T180937
CREATED:19240315T024537Z
LAST-MODIFIED:20240408T110426Z
UID:10009754-1716336000-1716422399@www.bcmagazine.net
SUMMARY:The Sound of Music
DESCRIPTION:The Sound of Music\nDate: 16 April – 9 June 2024\nVenue: Xiqu Centre\, Grand Theatre\nTickets: $1\,188\, $1\,088\, $988\, $888\, $828\, $688\, $588\nMore info:\nTuesday to Friday: 7:30pm\nSaturday: 2:30pm\, 7:45pm\nSunday: 1:30pm\, 6:30pm
URL:https://www.bcmagazine.net/event/the-sound-of-music/2024-05-22/
LOCATION:Xiqu Centre\, Grand Theatre\, 88 Austin Road West\, Tsim Sha Tsui\, Hong Kong
CATEGORIES:2024,Music,Musical,Nightlife,Performing Arts
ATTACH;FMTTYPE=image/png:https://www.bcmagazine.net/wp-content/uploads/2024/03/sound-of-musuc-hk-2024.png
END:VEVENT
END:VCALENDAR