BEGIN:VCALENDAR
VERSION:2.0
PRODID:-//bc magazine - ECPv6.15.20//NONSGML v1.0//EN
CALSCALE:GREGORIAN
METHOD:PUBLISH
X-WR-CALNAME:bc magazine
X-ORIGINAL-URL:https://www.bcmagazine.net
X-WR-CALDESC:Events for bc magazine
REFRESH-INTERVAL;VALUE=DURATION:PT1H
X-Robots-Tag:noindex
X-PUBLISHED-TTL:PT1H
BEGIN:VTIMEZONE
TZID:Asia/Hong_Kong
BEGIN:STANDARD
TZOFFSETFROM:+0800
TZOFFSETTO:+0800
TZNAME:HKT
DTSTART:20200101T000000
END:STANDARD
END:VTIMEZONE
BEGIN:VEVENT
DTSTART;TZID=Asia/Hong_Kong:20211023T210000
DTEND;TZID=Asia/Hong_Kong:20211023T220000
DTSTAMP:20260424T232029
CREATED:19211002T034537Z
LAST-MODIFIED:20211005T040301Z
UID:10005295-1635022800-1635026400@www.bcmagazine.net
SUMMARY:The Lemon Ones\, The Sleeves\, Meatgasm\, Ozmium
DESCRIPTION:The Lemon Ones\, The Sleeves\, Meatgasm\, Ozmium\nDate: 9pm\, 23 October\, 2021\nVenue: The Aftermath\nTickets: Free
URL:https://www.bcmagazine.net/event/the-lemon-ones-the-sleeves-meatgasm-ozmium-23-oct/
LOCATION:The Aftermath\, 57 Wyndham Street\, Central\, Hong Kong
CATEGORIES:2021,Concert,Free,Music,Nightlife,Performing Arts
ATTACH;FMTTYPE=image/jpeg:https://www.bcmagazine.net/wp-content/uploads/2021/09/hk-rock-club-tour-2021.jpg
END:VEVENT
END:VCALENDAR