BEGIN:VCALENDAR
VERSION:2.0
PRODID:-//bc magazine - ECPv6.15.20//NONSGML v1.0//EN
CALSCALE:GREGORIAN
METHOD:PUBLISH
X-WR-CALNAME:bc magazine
X-ORIGINAL-URL:https://www.bcmagazine.net
X-WR-CALDESC:Events for bc magazine
REFRESH-INTERVAL;VALUE=DURATION:PT1H
X-Robots-Tag:noindex
X-PUBLISHED-TTL:PT1H
BEGIN:VTIMEZONE
TZID:Asia/Hong_Kong
BEGIN:STANDARD
TZOFFSETFROM:+0800
TZOFFSETTO:+0800
TZNAME:HKT
DTSTART:20210101T000000
END:STANDARD
END:VTIMEZONE
BEGIN:VEVENT
DTSTART;TZID=Asia/Hong_Kong:20220704T201500
DTEND;TZID=Asia/Hong_Kong:20220704T201500
DTSTAMP:20260424T232120
CREATED:19160105T144028Z
LAST-MODIFIED:20220613T161931Z
UID:10000254-1656965700-1656965700@www.bcmagazine.net
SUMMARY:Jay Fung
DESCRIPTION:Jay Fung Have a JAY Time\nDate: 8:15pm\, 2-5 July\, 2022\nVenue: Kitec\, Star Hall\nTickets: $680\, $580\, $380 from HK Ticketing
URL:https://www.bcmagazine.net/event/jay-fung/2022-07-04/
LOCATION:KITEC\, Star Hall\, KITEC\, 1 Trademart Drive\, Kowloon Bay\, Hong Kong
CATEGORIES:2022,Cantopop,Concert,Music,Nightlife,Performing Arts
ATTACH;FMTTYPE=image/jpeg:https://www.bcmagazine.net/wp-content/uploads/1916/01/Jay-Fung-Have-a-JAY-Time-2022.jpeg
GEO:22.3239575;114.2037608
X-APPLE-STRUCTURED-LOCATION;VALUE=URI;X-ADDRESS=KITEC Star Hall KITEC 1 Trademart Drive Kowloon Bay Hong Kong;X-APPLE-RADIUS=500;X-TITLE=KITEC\, 1 Trademart Drive:geo:114.2037608,22.3239575
END:VEVENT
BEGIN:VEVENT
DTSTART;TZID=Asia/Hong_Kong:20220705T201500
DTEND;TZID=Asia/Hong_Kong:20220705T201500
DTSTAMP:20260424T232120
CREATED:19160105T144028Z
LAST-MODIFIED:20220613T161931Z
UID:10000255-1657052100-1657052100@www.bcmagazine.net
SUMMARY:Jay Fung
DESCRIPTION:Jay Fung Have a JAY Time\nDate: 8:15pm\, 2-5 July\, 2022\nVenue: Kitec\, Star Hall\nTickets: $680\, $580\, $380 from HK Ticketing
URL:https://www.bcmagazine.net/event/jay-fung/2022-07-05/
LOCATION:KITEC\, Star Hall\, KITEC\, 1 Trademart Drive\, Kowloon Bay\, Hong Kong
CATEGORIES:2022,Cantopop,Concert,Music,Nightlife,Performing Arts
ATTACH;FMTTYPE=image/jpeg:https://www.bcmagazine.net/wp-content/uploads/1916/01/Jay-Fung-Have-a-JAY-Time-2022.jpeg
GEO:22.3239575;114.2037608
X-APPLE-STRUCTURED-LOCATION;VALUE=URI;X-ADDRESS=KITEC Star Hall KITEC 1 Trademart Drive Kowloon Bay Hong Kong;X-APPLE-RADIUS=500;X-TITLE=KITEC\, 1 Trademart Drive:geo:114.2037608,22.3239575
END:VEVENT
BEGIN:VEVENT
DTSTART;TZID=Asia/Hong_Kong:20220709T133000
DTEND;TZID=Asia/Hong_Kong:20220709T133000
DTSTAMP:20260424T232120
CREATED:20220630T004537Z
LAST-MODIFIED:20220704T160129Z
UID:10006707-1657373400-1657373400@www.bcmagazine.net
SUMMARY:The Hangout 20th Anniversary Concert
DESCRIPTION:King Lychee\, Kater\, The Lemon Ones\, Revery\, 帶菌者⁣⁣\, 藍圖⁣⁣\nDate: 1:30pm\, 9 July\, 2022\nVenue: Hangout\nTickets: Free
URL:https://www.bcmagazine.net/event/the-hangout-20th-anniversary-concert/
LOCATION:The HangOut\, 2 Holy Cross Path\, Sai Wan Ho\, Hong Kong
CATEGORIES:2022,Concert,Free,Music,Nightlife,Performing Arts
ATTACH;FMTTYPE=image/jpeg:https://www.bcmagazine.net/wp-content/uploads/2021/12/hang-out-30th-anniversary.jpg
GEO:22.2816376;114.2229621
X-APPLE-STRUCTURED-LOCATION;VALUE=URI;X-ADDRESS=The HangOut 2 Holy Cross Path Sai Wan Ho Hong Kong;X-APPLE-RADIUS=500;X-TITLE=2 Holy Cross Path:geo:114.2229621,22.2816376
END:VEVENT
BEGIN:VEVENT
DTSTART;TZID=Asia/Hong_Kong:20220709T190000
DTEND;TZID=Asia/Hong_Kong:20220709T190000
DTSTAMP:20260424T232120
CREATED:20220629T004537Z
LAST-MODIFIED:20220704T161319Z
UID:10006706-1657393200-1657393200@www.bcmagazine.net
SUMMARY:The Hangout 20th Anniversary Gig
DESCRIPTION:Kolor\, Pandora樂隊\, ToNick\, Neko No Kizu\, 逆流 NiLiu\,\nDate: 7pm\, 9 July\, 2022\nVenue: The Hangout\nTickets: $480
URL:https://www.bcmagazine.net/event/the-hangout-20th-anniversary-gig/
LOCATION:The HangOut\, 2 Holy Cross Path\, Sai Wan Ho\, Hong Kong
CATEGORIES:2022,Concert,Music,Nightlife,Performing Arts
ATTACH;FMTTYPE=image/jpeg:https://www.bcmagazine.net/wp-content/uploads/2022/06/The-Hangout-20th-Anniversary-Gig.jpg
GEO:22.2816376;114.2229621
X-APPLE-STRUCTURED-LOCATION;VALUE=URI;X-ADDRESS=The HangOut 2 Holy Cross Path Sai Wan Ho Hong Kong;X-APPLE-RADIUS=500;X-TITLE=2 Holy Cross Path:geo:114.2229621,22.2816376
END:VEVENT
BEGIN:VEVENT
DTSTART;TZID=Asia/Hong_Kong:20220709T201500
DTEND;TZID=Asia/Hong_Kong:20220709T201500
DTSTAMP:20260424T232120
CREATED:19160105T144028Z
LAST-MODIFIED:20220613T160258Z
UID:10000277-1657397700-1657397700@www.bcmagazine.net
SUMMARY:Janice Be Still Live
DESCRIPTION:Janice Be Still Live\nDate: 8:15pm\, 9-11 July 2022\nVenue: HK Coliseum\nTickets: $780\, $580\, $380 from Urbtix
URL:https://www.bcmagazine.net/event/janice-be-still-live/2022-07-09/
LOCATION:HK Coliseum\, 9 Cheong Wan Road\, Hung Hom\, Hong Kong
CATEGORIES:2022,Cantopop,Concert,Music,Nightlife,Performing Arts
ATTACH;FMTTYPE=image/jpeg:https://www.bcmagazine.net/wp-content/uploads/1916/01/Janice-Be-Still-Live-2022.jpeg
GEO:22.3014169;114.1820305
X-APPLE-STRUCTURED-LOCATION;VALUE=URI;X-ADDRESS=HK Coliseum 9 Cheong Wan Road Hung Hom Hong Kong;X-APPLE-RADIUS=500;X-TITLE=9 Cheong Wan Road:geo:114.1820305,22.3014169
END:VEVENT
BEGIN:VEVENT
DTSTART;TZID=Asia/Hong_Kong:20220710T201500
DTEND;TZID=Asia/Hong_Kong:20220710T201500
DTSTAMP:20260424T232120
CREATED:19160105T144028Z
LAST-MODIFIED:20220613T160258Z
UID:10000278-1657484100-1657484100@www.bcmagazine.net
SUMMARY:Janice Be Still Live
DESCRIPTION:Janice Be Still Live\nDate: 8:15pm\, 9-11 July 2022\nVenue: HK Coliseum\nTickets: $780\, $580\, $380 from Urbtix
URL:https://www.bcmagazine.net/event/janice-be-still-live/2022-07-10/
LOCATION:HK Coliseum\, 9 Cheong Wan Road\, Hung Hom\, Hong Kong
CATEGORIES:2022,Cantopop,Concert,Music,Nightlife,Performing Arts
ATTACH;FMTTYPE=image/jpeg:https://www.bcmagazine.net/wp-content/uploads/1916/01/Janice-Be-Still-Live-2022.jpeg
GEO:22.3014169;114.1820305
X-APPLE-STRUCTURED-LOCATION;VALUE=URI;X-ADDRESS=HK Coliseum 9 Cheong Wan Road Hung Hom Hong Kong;X-APPLE-RADIUS=500;X-TITLE=9 Cheong Wan Road:geo:114.1820305,22.3014169
END:VEVENT
END:VCALENDAR