BEGIN:VCALENDAR
VERSION:2.0
PRODID:-//bc magazine - ECPv6.15.20//NONSGML v1.0//EN
CALSCALE:GREGORIAN
METHOD:PUBLISH
X-ORIGINAL-URL:https://www.bcmagazine.net
X-WR-CALDESC:Events for bc magazine
REFRESH-INTERVAL;VALUE=DURATION:PT1H
X-Robots-Tag:noindex
X-PUBLISHED-TTL:PT1H
BEGIN:VTIMEZONE
TZID:Asia/Hong_Kong
BEGIN:STANDARD
TZOFFSETFROM:+0800
TZOFFSETTO:+0800
TZNAME:HKT
DTSTART:20170101T000000
END:STANDARD
END:VTIMEZONE
BEGIN:VEVENT
DTSTART;TZID=Asia/Hong_Kong:20180113T103000
DTEND;TZID=Asia/Hong_Kong:20180113T170000
DTSTAMP:20260424T080755
CREATED:20180104T065539Z
LAST-MODIFIED:20180105T070735Z
UID:10006469-1515839400-1515862800@www.bcmagazine.net
SUMMARY:Mike Sharp
DESCRIPTION:Mike Sharp – Fish Talk\nDate: 10:30am\, 13 January\, 2018\nVenue: Victoria Recreation Club Emerald Bay\nTickets: $30
URL:https://www.bcmagazine.net/event/mike-sharp/
CATEGORIES:2018,Other
END:VEVENT
BEGIN:VEVENT
DTSTART;TZID=Asia/Hong_Kong:20180120T193000
DTEND;TZID=Asia/Hong_Kong:20180120T193000
DTSTAMP:20260424T080755
CREATED:19180109T083200Z
LAST-MODIFIED:20180109T105618Z
UID:10003717-1516476600-1516476600@www.bcmagazine.net
SUMMARY:Singin' in the Rain JR
DESCRIPTION:Singin’ in the Rain JR\nDate: 20-21 January\, 2018\nVenue: Youth Square\, Y Studio\nTickets: $250\, $200\, $150 from Urbtix\nMore info: \n20 Jan: 3pm\, 7:30pm\n21 Jan: 11am\, 3pm
URL:https://www.bcmagazine.net/event/singin-in-the-rain-jr-20-01-2018/
LOCATION:Youth Square\, Y Studio\, 238 Chai Wan Road\, Chaiwan\, Hong Kong
CATEGORIES:2018,Musical,Other,Performing Arts,Theatre
GEO:22.26301;114.2366034
X-APPLE-STRUCTURED-LOCATION;VALUE=URI;X-ADDRESS=Youth Square Y Studio 238 Chai Wan Road Chaiwan Hong Kong;X-APPLE-RADIUS=500;X-TITLE=238 Chai Wan Road:geo:114.2366034,22.26301
END:VEVENT
BEGIN:VEVENT
DTSTART;TZID=Asia/Hong_Kong:20180121T150000
DTEND;TZID=Asia/Hong_Kong:20180121T150000
DTSTAMP:20260424T080755
CREATED:19180109T083200Z
LAST-MODIFIED:20180109T105804Z
UID:10003718-1516546800-1516546800@www.bcmagazine.net
SUMMARY:Singin' in the Rain JR
DESCRIPTION:Singin’ in the Rain JR\nDate: 20-21 January\, 2018\nVenue: Youth Square\, Y Studio\nTickets: $250\, $200\, $150 from Urbtix\nMore info: \n20 Jan: 3pm\, 7:30pm\n21 Jan: 11am\, 3pm
URL:https://www.bcmagazine.net/event/singin-in-the-rain-jr-21-01-2018/
LOCATION:Youth Square\, Y Studio\, 238 Chai Wan Road\, Chaiwan\, Hong Kong
CATEGORIES:2018,Musical,Other,Performing Arts,Theatre
GEO:22.26301;114.2366034
X-APPLE-STRUCTURED-LOCATION;VALUE=URI;X-ADDRESS=Youth Square Y Studio 238 Chai Wan Road Chaiwan Hong Kong;X-APPLE-RADIUS=500;X-TITLE=238 Chai Wan Road:geo:114.2366034,22.26301
END:VEVENT
BEGIN:VEVENT
DTSTART;TZID=Asia/Hong_Kong:20180126T193000
DTEND;TZID=Asia/Hong_Kong:20180126T193000
DTSTAMP:20260424T080755
CREATED:19180109T083200Z
LAST-MODIFIED:20180109T110127Z
UID:10003719-1516995000-1516995000@www.bcmagazine.net
SUMMARY:Our Life Together - Black & White
DESCRIPTION:Our Life Together – Black & White\nDate: 26-27 January\, 2018\nVenue: Youth Square\, Y Studio\nTickets: $120 from Urbtix\nMore info: \n26 Jan: 7:30pm\n27 Jan: 3pm\, 7:30pm
URL:https://www.bcmagazine.net/event/our-life-together-black-white-26-01-2018/
LOCATION:Youth Square\, Y Studio\, 238 Chai Wan Road\, Chaiwan\, Hong Kong
CATEGORIES:2018,Other,Performing Arts,Theatre
GEO:22.26301;114.2366034
X-APPLE-STRUCTURED-LOCATION;VALUE=URI;X-ADDRESS=Youth Square Y Studio 238 Chai Wan Road Chaiwan Hong Kong;X-APPLE-RADIUS=500;X-TITLE=238 Chai Wan Road:geo:114.2366034,22.26301
END:VEVENT
BEGIN:VEVENT
DTSTART;TZID=Asia/Hong_Kong:20180127T193000
DTEND;TZID=Asia/Hong_Kong:20180127T193000
DTSTAMP:20260424T080755
CREATED:19180109T083200Z
LAST-MODIFIED:20180109T110336Z
UID:10003720-1517081400-1517081400@www.bcmagazine.net
SUMMARY:Our Life Together - Black & White
DESCRIPTION:Our Life Together – Black & White\nDate: 26-27 January\, 2018\nVenue: Youth Square\, Y Studio\nTickets: $120 from Urbtix\nMore info: \n26 Jan: 7:30pm\n27 Jan: 3pm\, 7:30pm
URL:https://www.bcmagazine.net/event/our-life-together-black-white-27-01-2018/
LOCATION:Youth Square\, Y Studio\, 238 Chai Wan Road\, Chaiwan\, Hong Kong
CATEGORIES:2018,Other,Performing Arts,Theatre
GEO:22.26301;114.2366034
X-APPLE-STRUCTURED-LOCATION;VALUE=URI;X-ADDRESS=Youth Square Y Studio 238 Chai Wan Road Chaiwan Hong Kong;X-APPLE-RADIUS=500;X-TITLE=238 Chai Wan Road:geo:114.2366034,22.26301
END:VEVENT
END:VCALENDAR