BEGIN:VCALENDAR
VERSION:2.0
PRODID:-//bc magazine - ECPv6.15.20//NONSGML v1.0//EN
CALSCALE:GREGORIAN
METHOD:PUBLISH
X-WR-CALNAME:bc magazine
X-ORIGINAL-URL:https://www.bcmagazine.net
X-WR-CALDESC:Events for bc magazine
REFRESH-INTERVAL;VALUE=DURATION:PT1H
X-Robots-Tag:noindex
X-PUBLISHED-TTL:PT1H
BEGIN:VTIMEZONE
TZID:Asia/Hong_Kong
BEGIN:STANDARD
TZOFFSETFROM:+0800
TZOFFSETTO:+0800
TZNAME:HKT
DTSTART:20170101T000000
END:STANDARD
END:VTIMEZONE
BEGIN:VEVENT
DTSTART;TZID=Asia/Hong_Kong:20180204T110000
DTEND;TZID=Asia/Hong_Kong:20180204T190000
DTSTAMP:20260424T025638
CREATED:19180106T085359Z
LAST-MODIFIED:20180106T091311Z
UID:10003705-1517742000-1517770800@www.bcmagazine.net
SUMMARY:India By the Bay 2018: Family Day
DESCRIPTION:India by the Bay 2018: Family Day\nDate: 11am\, 4 February\, 2018\nVenue: Asia Society Hong Kong Center\nTickets: $200
URL:https://www.bcmagazine.net/event/india-by-the-bay-2018-family-day/
LOCATION:Asia Society Hong Kong Center\, 9 Justice Drive\, Admiralty\, Hong Kong
CATEGORIES:2018,Cultural Festival,Other
END:VEVENT
BEGIN:VEVENT
DTSTART;TZID=Asia/Hong_Kong:20180204T190000
DTEND;TZID=Asia/Hong_Kong:20180204T190000
DTSTAMP:20260424T025638
CREATED:19180106T085359Z
LAST-MODIFIED:20180106T092147Z
UID:10003706-1517770800-1517770800@www.bcmagazine.net
SUMMARY:Shrabani Basu
DESCRIPTION:Shrabani Basu\nIndia by the Bay 2018\nDate: 7pm\, 4 February\, 2018\nVenue: Asia Society Hong Kong Center\nTickets: $250
URL:https://www.bcmagazine.net/event/shrabani-basu-india-by-the-bay-2018/
LOCATION:Asia Society Hong Kong Center\, 9 Justice Drive\, Admiralty\, Hong Kong
CATEGORIES:2018,Cultural Festival,Other,Performing Arts
END:VEVENT
BEGIN:VEVENT
DTSTART;TZID=Asia/Hong_Kong:20180205T190000
DTEND;TZID=Asia/Hong_Kong:20180205T190000
DTSTAMP:20260424T025638
CREATED:19180106T085359Z
LAST-MODIFIED:20180106T091905Z
UID:10003707-1517857200-1517857200@www.bcmagazine.net
SUMMARY:Bhajju Shyam: A Journey of Discovery
DESCRIPTION:Bhajju Shyam – A Journey of Discovery\nIndia by the Bay\nDate: 7pm\, 5 February\, 2018\nVenue: Bonhams\nTickets: $200
URL:https://www.bcmagazine.net/event/a-journey-of-discovery-india-by-the-bay-2018/
LOCATION:Bonham’s Gallery\, Suite 2001\, One Pacific Place\, 88 Queensway\, Admiralty\, Hong Kong
CATEGORIES:2018,Art Gallery,Cultural Festival,Other
GEO:22.2776447;114.1653936
X-APPLE-STRUCTURED-LOCATION;VALUE=URI;X-ADDRESS=Bonham’s Gallery Suite 2001 One Pacific Place 88 Queensway Admiralty Hong Kong;X-APPLE-RADIUS=500;X-TITLE=Suite 2001\, One Pacific Place\, 88 Queensway:geo:114.1653936,22.2776447
END:VEVENT
BEGIN:VEVENT
DTSTART;TZID=Asia/Hong_Kong:20180207T183000
DTEND;TZID=Asia/Hong_Kong:20180207T190000
DTSTAMP:20260424T025638
CREATED:19180106T085359Z
LAST-MODIFIED:20180106T092739Z
UID:10003709-1518028200-1518030000@www.bcmagazine.net
SUMMARY:Sooni Taraporevala
DESCRIPTION:Through the Lens: Sooni Taraporevala\nIndia by the Bay 2018\nDate: 6:30pm\, 7 February\, 2018\nVenue: Asia Society Hong Kong Center\nTickets: $250
URL:https://www.bcmagazine.net/event/sooni-taraporevala-india-by-the-bay-2018/
LOCATION:Asia Society Hong Kong Center\, 9 Justice Drive\, Admiralty\, Hong Kong
CATEGORIES:2018,Cultural Festival,Other,talk
END:VEVENT
BEGIN:VEVENT
DTSTART;TZID=Asia/Hong_Kong:20180210T193000
DTEND;TZID=Asia/Hong_Kong:20180210T193000
DTSTAMP:20260424T025638
CREATED:19180109T083200Z
LAST-MODIFIED:20180109T110638Z
UID:10003721-1518291000-1518291000@www.bcmagazine.net
SUMMARY:Peter Pan The Musical
DESCRIPTION:Peter Pan The Musical\nDate: 10-11 February\, 2018\nVenue: Youth Square\, Y Studio\nTickets: $250 from Urbtix\nMore info: \n10 Feb: 7:30pm\n11 Feb: 2pm\, 7:30pm
URL:https://www.bcmagazine.net/event/peter-pan-the-musical-10-02-2018/
LOCATION:Youth Square\, Y Studio\, 238 Chai Wan Road\, Chaiwan\, Hong Kong
CATEGORIES:2018,Musical,Other,Performing Arts,Theatre
GEO:22.26301;114.2366034
X-APPLE-STRUCTURED-LOCATION;VALUE=URI;X-ADDRESS=Youth Square Y Studio 238 Chai Wan Road Chaiwan Hong Kong;X-APPLE-RADIUS=500;X-TITLE=238 Chai Wan Road:geo:114.2366034,22.26301
END:VEVENT
BEGIN:VEVENT
DTSTART;TZID=Asia/Hong_Kong:20180211T193000
DTEND;TZID=Asia/Hong_Kong:20180211T193000
DTSTAMP:20260424T025638
CREATED:19180109T083200Z
LAST-MODIFIED:20180109T111056Z
UID:10003722-1518377400-1518377400@www.bcmagazine.net
SUMMARY:Peter Pan The Musical
DESCRIPTION:Peter Pan The Musical\nDate: 10-11 February\, 2018\nVenue: Youth Square\, Y Studio\nTickets: $250 from Urbtix\nMore info: \n10 Feb: 7:30pm\n11 Feb: 2pm\, 7:30pm
URL:https://www.bcmagazine.net/event/peter-pan-the-musical-11-02-2018/
LOCATION:Youth Square\, Y Studio\, 238 Chai Wan Road\, Chaiwan\, Hong Kong
CATEGORIES:2018,Musical,Other,Performing Arts,Theatre
GEO:22.26301;114.2366034
X-APPLE-STRUCTURED-LOCATION;VALUE=URI;X-ADDRESS=Youth Square Y Studio 238 Chai Wan Road Chaiwan Hong Kong;X-APPLE-RADIUS=500;X-TITLE=238 Chai Wan Road:geo:114.2366034,22.26301
END:VEVENT
BEGIN:VEVENT
DTSTART;TZID=Asia/Hong_Kong:20180228T120000
DTEND;TZID=Asia/Hong_Kong:20180228T120000
DTSTAMP:20260424T025638
CREATED:19180109T083200Z
LAST-MODIFIED:20180109T092610Z
UID:10003715-1519819200-1519819200@www.bcmagazine.net
SUMMARY:Comic World
DESCRIPTION:Comic World\nDate: 12pm\, 25 February\, 2018\nVenue: Kitec\, Rotunda 2\nTickets: $35\, $15
URL:https://www.bcmagazine.net/event/comic-world-2018/
LOCATION:KITEC\, Rotunda 2\, Hong Kong
CATEGORIES:2018,Exhibition,Other
GEO:22.396428;114.109497
END:VEVENT
END:VCALENDAR