BEGIN:VCALENDAR
VERSION:2.0
PRODID:-//bc magazine - ECPv6.15.20//NONSGML v1.0//EN
CALSCALE:GREGORIAN
METHOD:PUBLISH
X-WR-CALNAME:bc magazine
X-ORIGINAL-URL:https://www.bcmagazine.net
X-WR-CALDESC:Events for bc magazine
REFRESH-INTERVAL;VALUE=DURATION:PT1H
X-Robots-Tag:noindex
X-PUBLISHED-TTL:PT1H
BEGIN:VTIMEZONE
TZID:Asia/Hong_Kong
BEGIN:STANDARD
TZOFFSETFROM:+0800
TZOFFSETTO:+0800
TZNAME:HKT
DTSTART:20170101T000000
END:STANDARD
END:VTIMEZONE
BEGIN:VEVENT
DTSTART;VALUE=DATE:20180303
DTEND;VALUE=DATE:20180305
DTSTAMP:20260424T015002
CREATED:19180208T065813Z
LAST-MODIFIED:20180228T072356Z
UID:10003764-1520035200-1520207999@www.bcmagazine.net
SUMMARY:Iris: Your Escape
DESCRIPTION:Iris: Your Escape\nDate: 3-4 March\, 2018\nVenue: Nursery Park\, West Kowloon Cultural District\nTickets: $200\, $150
URL:https://www.bcmagazine.net/event/iris-your-escape-3-4-march-2018/
LOCATION:West Kowloon Cultural District\, Nursery Park\, West Kowloon Cultural District\, West Kowloon\, Hong Kong
CATEGORIES:2018,Exhibition,Lifestyle,Other
GEO:22.2989668;114.1551898
X-APPLE-STRUCTURED-LOCATION;VALUE=URI;X-ADDRESS=West Kowloon Cultural District Nursery Park West Kowloon Cultural District West Kowloon Hong Kong;X-APPLE-RADIUS=500;X-TITLE=West Kowloon Cultural District:geo:114.1551898,22.2989668
END:VEVENT
BEGIN:VEVENT
DTSTART;VALUE=DATE:20180316
DTEND;VALUE=DATE:20180326
DTSTAMP:20260424T015002
CREATED:19180208T065813Z
LAST-MODIFIED:20180228T072842Z
UID:10003765-1521158400-1522022399@www.bcmagazine.net
SUMMARY:Hong Kong Flower Show 2018
DESCRIPTION:Hong Kong Flower Show 2018\n Date: 9am\, 16-15 March\, 2018\nVenue: Victoria Park\nTickets: $14
URL:https://www.bcmagazine.net/event/hong-kong-flower-show-2018/
LOCATION:Victoria Park\, Causeway Bay\, Hong Kong
CATEGORIES:2018,Exhibition,Lifestyle,Other
END:VEVENT
BEGIN:VEVENT
DTSTART;VALUE=DATE:20180317
DTEND;VALUE=DATE:20180318
DTSTAMP:20260424T015002
CREATED:19180310T104830Z
LAST-MODIFIED:20180310T120505Z
UID:10003903-1521244800-1521331199@www.bcmagazine.net
SUMMARY:Sci-Fi and Beyond
DESCRIPTION:Sci-Fi and Beyond\n Date: 8am\, 17 March\, 2018\nVenue: JW Marriott Hotel\nTickets: US$400
URL:https://www.bcmagazine.net/event/sci-fi-and-beyond-2018/
LOCATION:JW Marriott Hotel\, One Pacific Place\, 88 Queensway\, Admiralty\, Hong Kong
CATEGORIES:2018,Other
END:VEVENT
BEGIN:VEVENT
DTSTART;VALUE=DATE:20180327
DTEND;VALUE=DATE:20180402
DTSTAMP:20260424T015002
CREATED:20170724T031400Z
LAST-MODIFIED:20180214T085839Z
UID:10006408-1522108800-1522627199@www.bcmagazine.net
SUMMARY:Art Central
DESCRIPTION:Art Central\nDate: 27 March – 1 April\, 2018\nVenue: Central Harbourfront\nTickets: $500\, $270\, $230 from Ticketflap\nMore info:\n26 March: 5-9pm\n27-28 March: 11am–5pm\n29 March: 11am–9pm\n30-31 March: 11am-7pm\n1 April: 11am-5pm
URL:https://www.bcmagazine.net/event/art-central-2018/
LOCATION:Central Harbourfront\,  9 Lung Wo Road\, Central\, Hong Kong
CATEGORIES:2018,Art Gallery,Exhibition,Other
GEO:22.2826223;114.164346
X-APPLE-STRUCTURED-LOCATION;VALUE=URI;X-ADDRESS=Central Harbourfront  9 Lung Wo Road Central Hong Kong;X-APPLE-RADIUS=500;X-TITLE=9 Lung Wo Road:geo:114.164346,22.2826223
END:VEVENT
END:VCALENDAR